Workbook

Sheet CPOS 176
C2: CPOS - COMPANHIA PAULISTA DE OBRAS E SERVIÇOS
C3: BOLETIM REFERENCIAL DE CUSTOS - TABELA DE SERVIÇOS
C4: COM DESONERAÇÃO (DESONERADO)
G5: VERSÃO 176
G6: Vigência: a partir de 01/07/19
D7: BDI : 0,00 % | G7: L.S.: 96,21 %
A8: Referência | B8: Descrição | D8: Un | E8: Material | F8: Mão de Obra | G8: Custo Total
A9: 01 | B9: SERVIÇO TÉCNICO ESPECIALIZADO
A10: 01.02 | B10: Parecer técnico
A11: 01.02.071 | C11: Parecer técnico de fundações, contenções e recomendações gerais, para empreendimentos com área construída até 1.000 m² | D11: un | E11: 0 | F11: 4023.38 | G11: 4023.38
A12: 01.02.081 | C12: Parecer técnico de fundações, contenções e recomendações gerais, para empreendimentos com área construída de 1.001 a 2.000 m² | D12: un | E12: 0 | F12: 5350.31 | G12: 5350.31
A13: 01.02.091 | C13: Parecer técnico de fundações, contenções e recomendações gerais, para empreendimentos com área construída de 2.001 a 5.000 m² | D13: un | E13: 0 | F13: 9139.52 | G13: 9139.52
A14: 01.02.101 | C14: Parecer técnico de fundações, contenções e recomendações gerais, para empreendimentos com área construída de 5.001 a 10.000 m² | D14: un | E14: 0 | F14: 12531.36 | G14: 12531.36
A15: 01.02.111 | C15: Parecer técnico de fundações, contenções e recomendações gerais, para empreendimentos com área construída acima de 10.000 m² | D15: un | E15: 0 | F15: 14603.35 | G15: 14603.35
A16: 01.06 | B16: Projeto de instalações elétricas
A17: 01.06.021 | C17: Elaboração de projeto de adequação de entrada de energia elétrica junto a concessionária, com medição em baixa tensão e demanda até 75 KVA | D17: un | E17: 0 | F17: 4864.24 | G17: 4864.24
A18: 01.06.031 | C18: Elaboração de projeto de adequação de entrada de energia elétrica junto a concessionária, com medição em média tensão, subestação simplificada e demanda de 75 kVA a 300 kVA | D18: un | E18: 0 | F18: 8225.96 | G18: 8225.96
A19: 01.06.032 | C19: Elaboração de projeto de adequação de entrada de energia elétrica junto a concessionária, com medição em média tensão e demanda de 75 kVA a 300 kVA | D19: un | E19: 0 | F19: 11142.56 | G19: 11142.56
A20: 01.06.041 | C20: Elaboração de projeto de adequação de entrada de energia elétrica junto a concessionária, com medição em média tensão e demanda acima de 300 kVA a 2 MVA | D20: un | E20: 0 | F20: 14828.4 | G20: 14828.4
A21: 01.17 | B21: Projeto executivo
A22: 01.17.031 | C22: Projeto executivo de arquitetura em formato A1 | D22: un | E22: 0 | F22: 2001.29 | G22: 2001.29
A23: 01.17.041 | C23: Projeto executivo de arquitetura em formato A0 | D23: un | E23: 0 | F23: 2711.38 | G23: 2711.38
A24: 01.17.051 | C24: Projeto executivo de estrutura em formato A1 | D24: un | E24: 0 | F24: 1463.54 | G24: 1463.54
A25: 01.17.061 | C25: Projeto executivo de estrutura em formato A0 | D25: un | E25: 0 | F25: 2006.64 | G25: 2006.64
A26: 01.17.071 | C26: Projeto executivo de instalações hidráulicas em formato A1 | D26: un | E26: 0 | F26: 629.5 | G26: 629.5
A27: 01.17.081 | C27: Projeto executivo de instalações hidráulicas em formato A0 | D27: un | E27: 0 | F27: 837.49 | G27: 837.49
A28: 01.17.111 | C28: Projeto executivo de instalações elétricas em formato A1 | D28: un | E28: 0 | F28: 677.73 | G28: 677.73
A29: 01.17.121 | C29: Projeto executivo de instalações elétricas em formato A0 | D29: un | E29: 0 | F29: 935.9 | G29: 935.9
A30: 01.17.151 | C30: Projeto executivo de climatização em formato A1 | D30: un | E30: 0 | F30: 1306.38 | G30: 1306.38
A31: 01.17.161 | C31: Projeto executivo de climatização em formato A0 | D31: un | E31: 0 | F31: 1774.87 | G31: 1774.87
A32: 01.17.171 | C32: Projeto executivo de chuveiros automáticos em formato A1 | D32: un | E32: 0 | F32: 1132.93 | G32: 1132.93
A33: 01.17.181 | C33: Projeto executivo de chuveiros automáticos em formato A0 | D33: un | E33: 0 | F33: 1460.18 | G33: 1460.18
A34: 01.20 | B34: Levantamento topográfico e geofísico
A35: 01.20.010 | C35: Taxa de mobilização e desmobilização de equipamentos para execução de levantamento topográfico | D35: tx | E35: 1158.08 | F35: 0 | G35: 1158.08
A36: 01.20.691 | C36: Levantamento planimétrico cadastral com áreas ocupadas predominantemente por comunidades - área até 20.000 m² (mínimo de 3.500 m²) | D36: m² | E36: 0.32 | F36: 0.35 | G36: 0.67
A37: 01.20.701 | C37: Levantamento planimétrico cadastral com áreas ocupadas predominantemente por comunidades - área acima de 20.000 m² até 200.000 m² | D37: m² | E37: 0.25 | F37: 0.28 | G37: 0.53
A38: 01.20.711 | C38: Levantamento planimétrico cadastral com áreas ocupadas predominantemente por comunidades - área acima de 200.000 m² | D38: m² | E38: 0.2 | F38: 0.23 | G38: 0.43
A39: 01.20.721 | C39: Levantamento planimétrico cadastral com áreas até 50% de ocupação - área até 20.000 m² (mínimo de 3.500 m²) | D39: m² | E39: 0.28 | F39: 0.3 | G39: 0.58
A40: 01.20.731 | C40: Levantamento planimétrico cadastral com áreas até 50% de ocupação - área acima de 20.000 m² até 200.000 m² | D40: m² | E40: 0.13 | F40: 0.33 | G40: 0.46
A41: 01.20.741 | C41: Levantamento planimétrico cadastral com áreas até 50% de ocupação - área acima de 200.000 m² | D41: m² | E41: 0.18 | F41: 0.18 | G41: 0.36
...

Sheet Orcamento-base
A1: Prefeitura do Município de Amparo Secretaria Municipal de Desenvolvimento Urbano Planilha orçamentária
A2: Obra: | B2: PARQUE MUNICIPAL DE AMPARO - 4ª ETAPA
A3: Local: | B3: SP 360 KM 130
A4: Data: | B4: 43440
B5: BOLETIM REFERENCIAL DE CUSTOS - TABELA DE SERVIÇOS - CPOS 176 | E5: SINAPI 26/11/2018 | H5: BDI 25 %
B6: COM DESONERAÇÃO | D6: Vigência: a partir de 01/07/2019 L. S.: 96,21% | E6: DER 30/09/2018
A7: ITEM | B7: FONTE | C7: CÓDIGO | D7: DESCRIÇÃO | E7: UNID. | F7: QUANT. | G7: VALOR UNIT. | H7: TOTAL | I7: Memoria de Cálculo
A8: 1 | D8: SERVIÇOS PRELIMINARES E MOBILIZAÇÃO | H8: =SUBTOTAL(9,H9:H10) -> 9972 | K8: =SUBTOTAL(9,K9:K10) -> 12465 | L8: =K8+K15+K26+K58+K64+K91+K98 -> 1441265.9
A9: 1.1 | B9: CPOS | C9: 02.08.020 | D9: =IF($B9="","",VLOOKUP($C9,'CPOS 176'!$A$17:$AC$10838,3,0)) -> Placa de identificação para obra | E9: =IF($B9="","",VLOOKUP($C9,'CPOS 176'!$A$1:$AC$10838,4,0)) -> m² | F9: 6 | G9: =IF($B9="","",VLOOKUP($C9,'CPOS 176'!$A$17:$AC$10840,7,0)) -> 392.72 | H9: =ROUND(F9*G9,2) -> 2356.32 | I9: 3*2 | K9: =H9*1.25 -> 2945.4 | L9: =L8-H197 -> -43019.962
A10: 1.2 | B10: CPOS | C10: 02.02.130 | D10: =IF($B10="","",VLOOKUP($C10,'CPOS 176'!$A$17:$AC$10838,3,0)) -> Locação de container tipo escritório com 1 vaso sanitário, 1 lavatório e 1 ponto para chuveiro - área mínima de 13,80 m² | E10: =IF($B10="","",VLOOKUP($C10,'CPOS 176'!$A$1:$AC$10838,4,0)) -> unxmês | F10: 12 | G10: =IF($B10="","",VLOOKUP($C10,'CPOS 176'!$A$17:$AC$10840,7,0)) -> 634.64 | H10: =ROUND(F10*G10,2) -> 7615.68 | I10: 12*1 | K10: =H10*1.25 -> 9519.6
A11: 2 | D11: LIMPEZA | H11: =SUBTOTAL(9,H12:H14) -> 34415.97 | K11: =SUBTOTAL(9,K12:K14) -> 43019.963
A12: 2.1 | B12: CPOS | C12: 03.02.040 | D12: =IF($B12="","",VLOOKUP($C12,'CPOS 176'!$A$17:$AC$10838,3,0)) -> Demolição manual de alvenaria de elevação ou elemento vazado, incluindo revestimento | E12: =IF($B12="","",VLOOKUP($C12,'CPOS 176'!$A$1:$AC$10838,4,0)) -> m³ | F12: 8 | G12: =IF($B12="","",VLOOKUP($C12,'CPOS 176'!$A$17:$AC$10840,7,0)) -> 54 | H12: =ROUND(F12*G12,2) -> 432 | I12: 17,78 * 0,15 * 3,00 | K12: =H12*1.25 -> 540
A13: 2.2 | B13: CPOS | C13: 02.09.130 | D13: =IF($B13="","",VLOOKUP($C13,'CPOS 176'!$A$17:$AC$10838,3,0)) -> Limpeza mecanizada do terreno, inclusive troncos com diâmetro acima de 15 cm até 50 cm, com caminhão à disposição dentro da obra, até o raio de 1 km | E13: =IF($B13="","",VLOOKUP($C13,'CPOS 176'!$A$1:$AC$10838,4,0)) -> m² | F13: 13000 | G13: =IF($B13="","",VLOOKUP($C13,'CPOS 176'!$A$17:$AC$10840,7,0)) -> 2.41 | H13: =ROUND(F13*G13,2) -> 31330 | I13: área de projeto correpondente as 2 lagoas e pavimentação | K13: =H13*1.25 -> 39162.5
A14: 2.3 | B14: DER | C14: 24.02.04.99 | D14: CORTA-RIO ESCAVACAO SEM EXPLOSIVO | E14: M3 | F14: =230*1.1*1 -> 253 | G14: 10.49 | H14: =ROUND(F14*G14,2) -> 2653.97 | I14: 230,00 metros x (1,20 + 1,10 ) / 2 x 1,00 | K14: =H14*1.25 -> 3317.4625
A15: 3 | D15: ENSAIOS DE SOLO | E15: =IF($B15="","",VLOOKUP($C15,#REF!,4,0)) | G15: =IF($B15="","",VLOOKUP($C15,#REF!,7,0)) | H15: =SUBTOTAL(9,H16:H25) -> 8953.48 | K15: =SUBTOTAL(9,K16:K25) -> 11191.85
A16: 3.1 | B16: CPOS | C16: 01.21.010 | D16: =IF($B16="","",VLOOKUP($C16,'CPOS 176'!$A$17:$AC$10838,3,0)) -> Taxa de mobilização e desmobilização de equipamentos para execução de sondagem | E16: =IF($B16="","",VLOOKUP($C16,'CPOS 176'!$A$1:$AC$10838,4,0)) -> tx | F16: 1 | G16: =IF($B16="","",VLOOKUP($C16,'CPOS 176'!$A$17:$AC$10840,7,0)) -> 971.46 | H16: =ROUND(F16*G16,2) -> 971.46 | K16: =H16*1.25 -> 1214.325
A17: 3.2 | B17: CPOS | C17: 01.21.110 | D17: =IF($B17="","",VLOOKUP($C17,'CPOS 176'!$A$17:$AC$10838,3,0)) -> Sondagem do terreno à percussão (mínimo de 30 m) | E17: =IF($B17="","",VLOOKUP($C17,'CPOS 176'!$A$1:$AC$10838,4,0)) -> m | F17: 40 | G17: =IF($B17="","",VLOOKUP($C17,'CPOS 176'!$A$17:$AC$10840,7,0)) -> 102.01 | H17: =ROUND(F17*G17,2) -> 4080.4 | K17: =H17*1.25 -> 5100.5
A18: 3.3 | B18: CPOS | C18: 01.21.100 | D18: =IF($B18="","",VLOOKUP($C18,'CPOS 176'!$A$17:$AC$10838,3,0)) -> Sondagem do terreno a trado | E18: =IF($B18="","",VLOOKUP($C18,'CPOS 176'!$A$1:$AC$10838,4,0)) -> m | F18: 6 | G18: =IF($B18="","",VLOOKUP($C18,'CPOS 176'!$A$17:$AC$10840,7,0)) -> 85.79 | H18: =ROUND(F18*G18,2) -> 514.74 | K18: =H18*1.25 -> 643.425
A19: 3.4 | B19: SINAPI | C19: 74022/7 | D19: ENSAIO DE GRANULOMETRIA POR PENEIRAMENTO E SEDIMENTACAO - SOLOS | E19: ENSAIO | F19: =$F$18 -> 6 | G19: 157.73 | H19: =ROUND(F19*G19,2) -> 946.38 | I19: ensaios para pontos determinados após s escavações | K19: =H19*1.25 -> 1182.975
A20: 3.5 | B20: SINAPI | C20: 74022/24 | D20: ENSAIO DE TEOR DE UMIDADE - EM LABORATORIO - SOLOS | E20: ENSAIO | F20: =$F$18 -> 6 | G20: 66.41 | H20: =ROUND(F20*G20,2) -> 398.46 | I20: ensaios para pontos determinados após s escavações | K20: =H20*1.25 -> 498.075
A21: 3.6 | B21: SINAPI | C21: 74022/8 | D21: ENSAIO DE LIMITE DE LIQUIDEZ - SOLOS | E21: ENSAIO | F21: =$F$18 -> 6 | G21: 83.02 | H21: =ROUND(F21*G21,2) -> 498.12 | I21: ensaios para pontos determinados após s escavações | K21: =H21*1.25 -> 622.65
A22: 3.7 | B22: SINAPI | C22: 74022/9 | D22: ENSAIO DE LIMITE DE PLASTICIDADE - SOLOS | E22: ENSAIO | F22: =$F$18 -> 6 | G22: 74.71 | H22: =ROUND(F22*G22,2) -> 448.26 | I22: ensaios para pontos determinados após s escavações | K22: =H22*1.25 -> 560.325
A23: 3.8 | B23: SINAPI | C23: 74022/16 | D23: ENSAIO DE DENSIDADE REAL - SOLOS | E23: UN | F23: =$F$18 -> 6 | G23: 74.71 | H23: =ROUND(F23*G23,2) -> 448.26 | I23: ensaios para pontos determinados após s escavações | K23: =H23*1.25 -> 560.325
A24: 3.9 | B24: SINAPI | C24: 74022/23 | D24: ENSAIO DE TEOR DE UMIDADE - PROCESSO SPEEDY - SOLOS E AGREGADOS MIUDOS | E24: UN | F24: =$F$18 -> 6 | G24: 49.8 | H24: =ROUND(F24*G24,2) -> 298.8 | I24: ensaios para pontos determinados após s escavações | K24: =H24*1.25 -> 373.5
A25: 3.10 | B25: SINAPI | C25: 74022/14 | D25: ENSAIO DE MASSA ESPECIFICA - IN SITU - METODO FRASCO DE AREIA - SOLOS | E25: UN | F25: =$F$18 -> 6 | G25: 58.1 | H25: =ROUND(F25*G25,2) -> 348.6 | I25: ensaios necessários na barragem após execução | K25: =H25*1.25 -> 435.75
A26: 4 | D26: PRIMEIRA LAGOA | H26: =SUBTOTAL(9,H27:H57) -> 227380.25 | K26: =SUBTOTAL(9,K27:K57) -> 284225.31
A27: 4.1 | D27: ABERTURA | K27: =H27*1.25 -> 0
A28: 4.1.1 | B28: CPOS | C28: 02.10.060 | D28: =IF($B28="","",VLOOKUP($C28,'CPOS 176'!$A$17:$AC$10838,3,0)) -> Locação de vias, calçadas, tanques e lagoas | E28: =IF($B28="","",VLOOKUP($C28,'CPOS 176'!$A$1:$AC$10838,4,0)) -> m² | F28: 3115.4 | G28: =IF($B28="","",VLOOKUP($C28,'CPOS 176'!$A$17:$AC$10840,7,0)) -> 1.08 | H28: =ROUND(F28*G28,2) -> 3364.63 | I28: Área de projeto anexo 5 na cota 839,00 m | K28: =H28*1.25 -> 4205.7875
A29: 4.1.2 | B29: CPOS | C29: 07.05.020 | D29: =IF($B29="","",VLOOKUP($C29,'CPOS 176'!$A$17:$AC$10838,3,0)) -> Escavação e carga mecanizada em solo vegetal superficial | E29: =IF($B29="","",VLOOKUP($C29,'CPOS 176'!$A$1:$AC$10838,4,0)) -> m³ | F29: =F28*0.1 -> 311.54 | G29: =IF($B29="","",VLOOKUP($C29,'CPOS 176'!$A$17:$AC$10840,7,0)) -> 21.31 | H29: =ROUND(F29*G29,2) -> 6638.92 | I29: Área de projeto anexo 5 na cota 839,00 m x 0,10 m | K29: =H29*1.25 -> 8298.65
A30: 4.1.5 | B30: CPOS | C30: 07.01.020 | D30: =IF($B30="","",VLOOKUP($C30,'CPOS 176'!$A$17:$AC$10838,3,0)) -> Escavação e carga mecanizada em solo de 1ª categoria, em campo aberto | E30: =IF($B30="","",VLOOKUP($C30,'CPOS 176'!$A$1:$AC$10838,4,0)) -> m³ | F30: 4363.2 | G30: =IF($B30="","",VLOOKUP($C30,'CPOS 176'!$A$17:$AC$10840,7,0)) -> 8.79 | H30: =ROUND(F30*G30,2) -> 38352.53 | I30: Projeto complementar de movimentação de solo | K30: =H30*1.25 -> 47940.662
A31: 4.1.6 | B31: CPOS | C31: 05.10.020 | D31: =IF($B31="","",VLOOKUP($C31,'CPOS 176'!$A$17:$AC$10838,3,0)) -> Transporte de solo de 1ª e 2ª categoria por caminhão até o 2° km | E31: =IF($B31="","",VLOOKUP($C31,'CPOS 176'!$A$1:$AC$10838,4,0)) -> m³ | F31: =F30*1.3 -> 5672.16 | G31: =IF($B31="","",VLOOKUP($C31,'CPOS 176'!$A$17:$AC$10840,7,0)) -> 4.68 | H31: =ROUND(F31*G31,2) -> 26545.71 | I31: Volume escavado + 30 % | K31: =H31*1.25 -> 33182.137
A32: 4.2 | D32: BARRAGEM | E32: =IF($B32="","",VLOOKUP($C32,'CPOS 176'!$A$1:$AC$10838,4,0)) | G32: =IF($B32="","",VLOOKUP($C32,'CPOS 176'!$A$17:$AC$10840,7,0)) | K32: =H32*1.25 -> 0
A33: 4.2.1 | B33: CPOS | C33: 03.01.040 | D33: =IF($B33="","",VLOOKUP($C33,'CPOS 176'!$A$17:$AC$10838,3,0)) -> Demolição manual de concreto armado | E33: =IF($B33="","",VLOOKUP($C33,'CPOS 176'!$A$1:$AC$10838,4,0)) -> m³ | F33: =3.8*1.05*0.4+0.4^3+0.25*0.25*0.4 -> 1.685 | G33: =IF($B33="","",VLOOKUP($C33,'CPOS 176'!$A$17:$AC$10840,7,0)) -> 270 | H33: =ROUND(F33*G33,2) -> 454.95 | I33: extravasor 3,80 x 1,05 x 0,40 m + passagem tubo de 40 mm= 0,40 x 0,40 x 0,40 m + passagem tubo de 25 mm = 0,25 x 0,25 x 0,40 m | K33: =H33*1.25 -> 568.6875
A34: 4.2.2 | B34: CPOS | C34: 07.02.020 | D34: =IF($B34="","",VLOOKUP($C34,'CPOS 176'!$A$17:$AC$10838,3,0)) -> Escavação mecanizada de valas ou cavas com profundidade de até 2 m | E34: =IF($B34="","",VLOOKUP($C34,'CPOS 176'!$A$1:$AC$10838,4,0)) -> m³ | F34: =(2.5*1+(1.32+0.5)/2)*47.46 -> 161.8386 | G34: =IF($B34="","",VLOOKUP($C34,'CPOS 176'!$A$17:$AC$10840,7,0)) -> 6.56 | H34: =ROUND(F34*G34,2) -> 1061.66 | I34: fundação da barragem 2,50 m x 1,00 x 47,46 m + dreno = (1,32 m + 0,50 m) / 2 x 1,00 m x 47,46 m | K34: =H34*1.25 -> 1327.075
A35: 4.2.3 | B35: CPOS | C35: 07.01.010 | D35: =IF($B35="","",VLOOKUP($C35,'CPOS 176'!$A$17:$AC$10838,3,0)) -> Escavação e carga mecanizada para exploração de solo em jazida | E35: =IF($B35="","",VLOOKUP($C35,'CPOS 176'!$A$1:$AC$10838,4,0)) -> m³ | F35: =(6*3/2+3.2*3+9*3/2+2.5*1)*47.46*1.3 -> 2134.7508 | G35: =IF($B35="","",VLOOKUP($C35,'CPOS 176'!$A$17:$AC$10840,7,0)) -> 8.55 | H35: =ROUND(F35*G35,2) -> 18252.12 | I35: Talude jusante = 6,00 x 3,00 / 2 x 47,46 m +30 %+ Crista = 3,20 x 3,00 m x 47,46 m + 30 % + Talude montante = 9,00 x 3,00 / 2 x 47,46 m + 30%+ Cut off = 2,50 x 1,00 x 47,46 m + 30 % | K35: =H35*1.25 -> 22815.15
A36: 4.2.4 | B36: CPOS | C36: 05.10.020 | D36: =IF($B36="","",VLOOKUP($C36,'CPOS 176'!$A$17:$AC$10838,3,0)) -> Transporte de solo de 1ª e 2ª categoria por caminhão até o 2° km | E36: =IF($B36="","",VLOOKUP($C36,'CPOS 176'!$A$1:$AC$10838,4,0)) -> m³ | F36: =F35 -> 2134.7508 | G36: =IF($B36="","",VLOOKUP($C36,'CPOS 176'!$A$17:$AC$10840,7,0)) -> 4.68 | H36: =ROUND(F36*G36,2) -> 9990.63 | I36: iten 4.2.3 | K36: =H36*1.25 -> 12488.287
A37: 4.2.5 | B37: CPOS | C37: 07.12.030 | D37: =IF($B37="","",VLOOKUP($C37,'CPOS 176'!$A$17:$AC$10838,3,0)) -> Compactação de aterro mecanizado a 100% PN, sem fornecimento de solo em campo aberto | E37: =IF($B37="","",VLOOKUP($C37,'CPOS 176'!$A$1:$AC$10838,4,0)) -> m³ | F37: =(6*3/2+3.2*3+9*3/2+2.5*1)*47.46 -> 1642.116 | G37: =IF($B37="","",VLOOKUP($C37,'CPOS 176'!$A$17:$AC$10840,7,0)) -> 6.71 | H37: =ROUND(F37*G37,2) -> 11018.6 | I37: Talude jusante = 6,00 x 3,00 / 2 x 47,46 m + Crista = 3,20 x 3,00 m x 47,46 m + Talude montante = 9,00 x 3,00 / 2 x 47,46 m + Cut off = 2,50 x 1,00 x 47,46 m + | K37: =H37*1.25 -> 13773.25
A38: 4.2.6 | B38: CPOS | C38: 09.01.020 | D38: =IF($B38="","",VLOOKUP($C38,'CPOS 176'!$A$17:$AC$10838,3,0)) -> Forma em madeira comum para fundação | E38: =IF($B38="","",VLOOKUP($C38,'CPOS 176'!$A$1:$AC$10838,4,0)) -> m² | F38: =1.2*2.78*3+27.77+22.93+1.7*1.75+2.4*1.7 -> 67.763 | G38: =IF($B38="","",VLOOKUP($C38,'CPOS 176'!$A$17:$AC$10840,7,0)) -> 59.86 | H38: =ROUND(F38*G38,2) -> 4056.29 | I38: Piso 1,20 x 2,78 x 3 + Parede (27,77 m² +22,93 m²) + Turbina 1,70 x 1,75 + 2,40 x 1,70 m | K38: =H38*1.25 -> 5070.3625
A39: 4.2.7 | B39: CPOS | C39: 10.01.040 | D39: =IF($B39="","",VLOOKUP($C39,'CPOS 176'!$A$17:$AC$10838,3,0)) -> Armadura em barra de aço CA-50 (A ou B) fyk = 500 MPa | E39: =IF($B39="","",VLOOKUP($C39,'CPOS 176'!$A$1:$AC$10838,4,0)) -> kg | F39: =F40*90 -> 2130.3684 | G39: =IF($B39="","",VLOOKUP($C39,'CPOS 176'!$A$17:$AC$10840,7,0)) -> 6.56 | H39: =ROUND(F39*G39,2) -> 13975.22 | I39: 90 kg/m³ | K39: =H39*1.25 -> 17469.025
A40: 4.2.8 | B40: CPOS | C40: 11.01.100 | D40: =IF($B40="","",VLOOKUP($C40,'CPOS 176'!$A$17:$AC$10838,3,0)) -> Concreto usinado, fck = 20 MPa | E40: =IF($B40="","",VLOOKUP($C40,'CPOS 176'!$A$1:$AC$10838,4,0)) -> m³ | F40: =(16.86*2.78+1.2*2.78*3+27.77+22.93+1.7*1.75+2.4*1.7+1.55*2.4)*0.2 -> 23.67076 | G40: =IF($B40="","",VLOOKUP($C40,'CPOS 176'!$A$17:$AC$10840,7,0)) -> 268.64 | H40: =ROUND(F40*G40,2) -> 6358.91 | I40: Piso (16,86 x 2,78 + 1,20 x 2,78 x 3) x 0,20 + Parede (27,77 m² +22,93 m²) x 0,20 + Turbina (1,70 x 1,75 + 2,40 x 1,70 m + 1,55 x 2,40) x 0,20 | J40: =(2.4*3 +1.2*3+9.6)*2.78 -> 56.712 | K40: =H40*1.25 -> 7948.6375
...

Sheet Cronograma 12 meses
C1: OBJETO | D1: ='Orcamento-base'!B2 -> PARQUE MUNICIPAL DE AMPARO - 4ª ETAPA
C2: LOCAL | D2: ='Orcamento-base'!B3 -> SP 360 KM 130
L3: SINAPI 26/11/2018
C4: BOLETIM REFERENCIAL DE CUSTOS - TABELA DE SERVIÇOS COM DESONERAÇÃO | G4: CPOS 176 | I4: 43647 | L4: DER 30/09/2018
A6: CRONOGRAMA FÍSICO FINANCEIRO
A8: Item | B8: ETAPAS DA OBRA | C8: VALORES R$ | D8: PERCENTUAL | E8: MÊS 1 | G8: MÊS 2 | I8: MÊS 3 | K8: MÊS 4 | M8: MÊS 5 | O8: MÊS 6 | Q8: MÊS 7 | S8: MÊS 8 | U8: MÊS 9 | W8: MÊS 10 | Y8: MÊS 11 | AA8: MÊS 12 | AC8: 1 | AD8: 2 | AE8: 3 | AF8: 4
A9: ='Orcamento-base'!A8 -> 1 | B9: ='Orcamento-base'!D8 -> SERVIÇOS PRELIMINARES E MOBILIZAÇÃO | C9: ='Orcamento-base'!H8 -> 9972 | D9: =C9/$C$17 -> 0.0083979779 | E9: 2887.97 | F9: =E9/C9 -> 0.2896079 | G9: 644.03 | H9: =G9/C9 -> 0.064583835 | I9: 644 | J9: =I9/C9 -> 0.064580826 | K9: 644 | L9: =K9/C9 -> 0.064580826 | M9: 644 | N9: =M9/C9 -> 0.064580826 | O9: 644 | P9: =O9/C9 -> 0.064580826 | Q9: 644 | R9: =Q9/C9 -> 0.064580826 | S9: 644 | T9: =S9/C9 -> 0.064580826 | U9: 644 | V9: =U9/C9 -> 0.064580826 | W9: 644 | X9: =W9/C9 -> 0.064580826 | Y9: 644 | Z9: =Y9/C9 -> 0.064580826 | AA9: 644 | AB9: =AA9/C9 -> 0.064580826 | AC9: =(E9+G9+I9)*1.25 -> 5220 | AD9: =(K9+M9+O9)*1.25 -> 2415 | AE9: =(Q9+S9+U9)*1.25 -> 2415 | AF9: =(W9+Y9+AA9)*1.25 -> 2415 | AH9: =C9-E9-G9-I9-K9-M9-Q9-S9-U9-W9-Y9-AA9-O9 -> 9.094947e-13
A10: ='Orcamento-base'!A11 -> 2 | B10: ='Orcamento-base'!D11 -> LIMPEZA | C10: ='Orcamento-base'!H11 -> 34415.97 | D10: =C10/$C$17 -> 0.02898361 | E10: =$C$10/4 -> 8603.9925 | F10: =E10/$C$10 -> 0.25 | G10: =$C$10/4 -> 8603.9925 | H10: =G10/$C$10 -> 0.25 | K10: =$C$10/4 -> 8603.9925 | L10: =K10/$C$10 -> 0.25 | M10: =$C$10/4 -> 8603.9925 | N10: =M10/$C$10 -> 0.25 | AC10: =(E10+G10+I10)*1.25 -> 21509.981 | AD10: =(K10+M10+O10)*1.25 -> 21509.981 | AE10: =(Q10+S10+U10)*1.25 -> 0 | AF10: =(W10+Y10+AA10)*1.25 -> 0 | AH10: =C10-E10-G10-I10-K10-M10-Q10-S10-U10-W10-Y10-AA10-O10 -> 0
A11: ='Orcamento-base'!A15 -> 3 | B11: ='Orcamento-base'!D15 -> ENSAIOS DE SOLO | C11: ='Orcamento-base'!H15 -> 8953.48 | D11: =C11/$C$17 -> 0.0075402254 | E11: =ROUND($C$11/3,2)+0.01 -> 2984.5 | F11: =E11/C11 -> 0.33333408 | G11: =ROUND($C$11/3,2) -> 2984.49 | H11: =G11/C11 -> 0.33333296 | I11: =ROUND($C$11/3,2) -> 2984.49 | J11: =I11/C11 -> 0.33333296 | AC11: =(E11+G11+I11)*1.25 -> 11191.85 | AD11: =(K11+M11+O11)*1.25 -> 0 | AE11: =(Q11+S11+U11)*1.25 -> 0 | AF11: =(W11+Y11+AA11)*1.25 -> 0 | AH11: =C11-E11-G11-I11-K11-M11-Q11-S11-U11-W11-Y11-AA11-O11 -> 0
A12: ='Orcamento-base'!A26 -> 4 | B12: ='Orcamento-base'!D26 -> PRIMEIRA LAGOA | C12: ='Orcamento-base'!H26 -> 227380.25 | D12: =C12/$C$17 -> 0.1914896 | E12: =ROUND($C$12/3,2)-0.01 -> 75793.41 | G12: =ROUND($C$12/3,2) -> 75793.42 | H12: =G12/$C12 -> 0.33333335 | I12: =ROUND($C$12/3,2) -> 75793.42 | J12: =I12/C12 -> 0.33333335 | AC12: =(E12+G12+I12)*1.25 -> 284225.31 | AD12: =(K12+M12+O12)*1.25 -> 0 | AE12: =(Q12+S12+U12)*1.25 -> 0 | AF12: =(W12+Y12+AA12)*1.25 -> 0 | AH12: =C12-E12-G12-I12-K12-M12-Q12-S12-U12-W12-Y12-AA12-O12 -> -2.910383e-11
A13: ='Orcamento-base'!A58 -> 5 | B13: ='Orcamento-base'!D58 -> PAVIMENTAÇÃO ENTORNO DA PRIMEIRA LAGOA | C13: ='Orcamento-base'!H58 -> 60890.2 | D13: =C13/$C$17 -> 0.051279037 | W13: =$C$13/3 -> 20296.733 | X13: =W13/$C13 -> 0.33333333 | Y13: =$C$13/3 -> 20296.733 | Z13: =Y13/$C$13 -> 0.33333333 | AA13: =$C$13/3 -> 20296.733 | AB13: =AA13/$C$13 -> 0.33333333 | AC13: =(E13+G13+I13)*1.25 -> 0 | AD13: =(K13+M13+O13)*1.25 -> 0 | AE13: =(Q13+S13+U13)*1.25 -> 0 | AF13: =(W13+Y13+AA13)*1.25 -> 76112.75 | AH13: =C13-E13-G13-I13-K13-M13-Q13-S13-U13-W13-Y13-AA13-O13 -> 7.2759576e-12
A14: ='Orcamento-base'!A64 -> 6 | B14: ='Orcamento-base'!D64 -> SEGUNDA LAGOA | C14: ='Orcamento-base'!H64 -> 271321.31 | D14: =C14/$C$17 -> 0.22849482 | M14: =$C$14/4 -> 67830.328 | N14: =M14/C14 -> 0.25 | O14: =$C$14/4 -> 67830.328 | P14: =O14/C14 -> 0.25 | Q14: =$C$14/4 -> 67830.328 | R14: =Q14/C14 -> 0.25 | S14: =$C$14/4 -> 67830.328 | T14: =S14/C14 -> 0.25 | AC14: =(E14+G14+I14)*1.25 -> 0 | AD14: =(K14+M14+O14)*1.25 -> 169575.82 | AE14: =(Q14+S14+U14)*1.25 -> 169575.82 | AF14: =(W14+Y14+AA14)*1.25 -> 0 | AH14: =C14-E14-G14-I14-K14-M14-Q14-S14-U14-W14-Y14-AA14-O14 -> 0
A15: ='Orcamento-base'!A91 -> 7 | B15: ='Orcamento-base'!D91 -> PAVIMENTAÇÃO ENTORNO DA SEGUNDA LAGOA | C15: ='Orcamento-base'!H91 -> 113871.7 | D15: =C15/$C$17 -> 0.095897716 | U15: =$C$15/3 -> 37957.233 | V15: =U15/C15 -> 0.33333333 | W15: =$C$15/3+0.01 -> 37957.243 | X15: =W15/C15 -> 0.33333342 | Y15: =$C$15/3 -> 37957.233 | Z15: =Y15/$C15 -> 0.33333333 | AC15: =(E15+G15+I15)*1.25 -> 0 | AD15: =(K15+M15+O15)*1.25 -> 0 | AE15: =(Q15+S15+U15)*1.25 -> 47446.542 | AF15: =(W15+Y15+AA15)*1.25 -> 94893.096 | AH15: =C15-E15-G15-I15-K15-M15-Q15-S15-U15-W15-Y15-AA15-O15 -> -0.01
A16: ='Orcamento-base'!A98 -> 8 | B16: ='Orcamento-base'!D98 -> INSTALAÇÕES ELÉTRICAS | C16: ='Orcamento-base'!H98 -> 460623.79 | D16: =C16/$C$17 -> 0.38791701 | E16: =ROUND($C$16/12,2)-0.01 -> 38385.31 | G16: =ROUND($C$16/12,2) -> 38385.32 | H16: =G16/$C16 -> 0.083333342 | I16: =ROUND($C$16/12,2) -> 38385.32 | J16: =I16/$C16 -> 0.083333342 | K16: =ROUND($C$16/12,2)-0.01 -> 38385.31 | L16: =K16/$C16 -> 0.083333321 | M16: =ROUND($C$16/12,2) -> 38385.32 | N16: =M16/$C16 -> 0.083333342 | O16: =ROUND($C$16/12,2) -> 38385.32 | Q16: =ROUND($C$16/12,2) -> 38385.32 | R16: =Q16/C16 -> 0.083333342 | S16: =ROUND($C$16/12,2)-0.01 -> 38385.31 | T16: =S16/C16 -> 0.083333321 | U16: =ROUND($C$16/12,2)-0.01 -> 38385.31 | V16: =U16/C16 -> 0.083333321 | W16: =ROUND($C$16/12,2) -> 38385.32 | X16: =W16/C16 -> 0.083333342 | Y16: =ROUND($C$16/12,2)-0.01 -> 38385.31 | Z16: =Y16/C16 -> 0.083333321 | AA16: =ROUND($C$16/12,2)-0.01 -> 38385.31 | AC16: =(E16+G16+I16)*1.25 -> 143944.94 | AD16: =(K16+M16+O16)*1.25 -> 143944.94 | AE16: =(Q16+S16+U16)*1.25 -> 143944.92 | AF16: =(W16+Y16+AA16)*1.25 -> 143944.92 | AH16: =C16-E16-G16-I16-K16-M16-Q16-S16-U16-W16-Y16-AA16-O16 -> 0.0099999999
B17: TOTAL | C17: =SUBTOTAL(9,C9:C16) -> 1187428.7 | E17: =SUM(E9:E16) -> 128655.18 | F17: =E17/C17 -> 0.10834771 | G17: =SUM(G9:G16) -> 126411.25 | H17: =G17/C17 -> 0.10645797 | I17: =SUM(I9:I16) -> 117807.23 | J17: =I17/$C17 -> 0.099212045 | K17: =SUM(K9:K16) -> 47633.302 | L17: =K17/$C17 -> 0.040114663 | M17: =SUM(M9:M16) -> 115463.64 | N17: =M17/$C17 -> 0.097238377 | O17: =SUM(O9:O16) -> 106859.65 | P17: =O17/$C17 -> 0.089992475 | Q17: =SUM(Q9:Q16) -> 106859.65 | R17: =Q17/$C$17 -> 0.089992475 | S17: =SUM(S9:S16) -> 106859.64 | T17: =S17/$C$17 -> 0.089992466 | U17: =SUM(U9:U16) -> 76986.543 | V17: =U17/$C$17 -> 0.064834666 | W17: =SUM(W9:W16) -> 97283.297 | X17: =W17/$C$17 -> 0.081927695 | Y17: =SUM(Y9:Y16) -> 97283.277 | Z17: =Y17/$C$17 -> 0.081927678 | AA17: =SUM(AA9:AA16) -> 59326.043 | AB17: =AA17/$C$17 -> 0.049961773 | AC17: =SUM(AC9:AC16) -> 466092.08 | AD17: =SUM(AD9:AD16) -> 337445.74 | AE17: =SUM(AE9:AE16) -> 363382.29 | AF17: =SUM(AF9:AF16) -> 317365.77 | AH17: =AC17+AD17+AE17+AF17-C20 -> 0
B18: TOTAL ACUMULADO | E18: =E17 -> 128655.18 | F18: =E18/C17 -> 0.10834771 | G18: =E18+G17 -> 255066.43 | H18: =G18/$C$17 -> 0.21480568 | I18: =G18+I17 -> 372873.67 | J18: =I18/$C$17 -> 0.31401773 | K18: =I18+K17 -> 420506.97 | L18: =K18/$C$17 -> 0.35413239 | M18: =K18+M17 -> 535970.61 | N18: =M18/$C$17 -> 0.45137077 | O18: =M18+O17 -> 642830.26 | P18: =O18/$C$17 -> 0.54136325 | Q18: =O18+Q17 -> 749689.9 | S18: =Q18+S17 -> 856549.54 | U18: =S18+U17 -> 933536.08 | W18: =U18+W17 -> 1030819.4 | Y18: =W18+Y17 -> 1128102.7 | AA18: =Y18+AA17 -> 1187428.7 | AC18: =AC17/$AI$21 -> 0.31401773 | AD18: =AD17/$AI$21 -> 0.22734552 | AE18: =AE17/$AI$21 -> 0.24481961 | AF18: =AF17/$AI$21 -> 0.21381715
B19: BDI 25% | C19: =C17*25% -> 296857.17 | E19: =E17*25% -> 32163.796 | G19: =G17*25% -> 31602.813 | I19: =I17*25% -> 29451.808 | K19: =K17*25% -> 11908.326 | M19: =M17*25% -> 28865.91 | O19: =O17*25% -> 26714.912 | Q19: =Q17*25% -> 26714.912 | S19: =S17*25% -> 26714.909 | U19: =U17*25% -> 19246.636 | W19: =W17*25% -> 24320.824 | Y19: =Y17*25% -> 24320.819 | AA19: =AA17*25% -> 14831.511 | AI19: =SUM(E19:AA19) -> 296857.18
B20: TOTAL GERAL | C20: =SUM(C17:C19) -> 1484285.9 | D20: ='Cronograma 12 meses'!A301 -> 0 | E20: =E19+E18 -> 160818.98 | G20: =E20+G19+G17 -> 318833.04 | I20: =G20+I19+I17 -> 466092.08 | K20: =I20+K19+K17 -> 525633.71 | M20: =K20+M19+M17 -> 669963.26 | O20: =M20+O19+O17 -> 803537.82 | Q20: =O20+Q19+Q17 -> 937112.38 | S20: =Q20+S19+S17 -> 1070686.9 | U20: =S20+U19+U17 -> 1166920.1 | W20: =U20+W19+W17 -> 1288524.2 | Y20: =W20+Y19+Y17 -> 1410128.3 | AA20: =Y20+AA19+AA17 -> 1484285.9
AI21: =AA18+AI19 -> 1484285.9
B22: Amparo, 09 de janeiro de 2020
B30: Mônica de Souza Lenzi Baraldi
B31: Engª Civil – SMDU – Projeto e Obras
B32: CREA: 5060266194
B33: ART: 28027230200016823
D72: 120 dias | E72: 120 dias + BDI | F72: 180 | G72: 180 dias + BDI | H72: 180 | I72: 180 dias + BDI
A73: =A9 -> 1 | B73: =B9 -> SERVIÇOS PRELIMINARES E MOBILIZAÇÃO | C73: =C9 -> 9972 | D73: =E9+G9+I9+K9 -> 4820 | E73: =D73*1.25 -> 6025 | F73: 2430.53 | G73: =F73*1.25 -> 3038.1625 | H73: =2430.53 -> 2430.53 | I73: =H73*1.25 -> 3038.1625 | J73: =D73+F73+H73 -> 9681.06 | K73: =C73-D73-F73-H73 -> 290.94
A74: =A10 -> 2 | B74: =B10 -> LIMPEZA | C74: =C10 -> 34415.97 | D74: =E10+G10+I10+K10 -> 25811.978 | E74: =D74*1.25 -> 32264.972 | F74: =C74-D74 -> 8603.9925 | G74: =F74*1.25 -> 10754.991 | I74: =H74*1.25 -> 0 | J74: =D74+F74+H74 -> 34415.97 | K74: =C74-D74-F74-H74 -> 0
A75: =A11 -> 3 | B75: =B11 -> ENSAIOS DE SOLO | C75: =C11 -> 8953.48 | D75: =E11+G11+I11+K11 -> 8953.48 | E75: =D75*1.25 -> 11191.85 | F75: =C75-D75 -> 0 | G75: =F75*1.25 -> 0 | I75: =H75*1.25 -> 0 | J75: =D75+F75+H75 -> 8953.48 | K75: =C75-D75-F75-H75 -> 0
A76: =A12 -> 4 | B76: =B12 -> PRIMEIRA LAGOA | C76: =C12 -> 227380.25 | D76: =E12+G12+I12+K12 -> 227380.25 | E76: =D76*1.25 -> 284225.31 | F76: 69074.03 | G76: =F76*1.25 -> 86342.538 | H76: 69074.03 | I76: =H76*1.25 -> 86342.538 | J76: =D76+F76+H76 -> 365528.31 | K76: =C76-D76-F76-H76 -> -138148.06
A77: =A13 -> 5 | B77: =B13 -> PAVIMENTAÇÃO ENTORNO DA PRIMEIRA LAGOA | C77: =C13 -> 60890.2 | D77: =E13+G13+I13+K13 -> 0 | E77: =D77*1.25 -> 0 | F77: 32501.19 | G77: =F77*1.25 -> 40626.487 | H77: 32501.19 | I77: =H77*1.25 -> 40626.487 | J77: =D77+F77+H77 -> 65002.38 | K77: =C77-D77-F77-H77 -> -4112.18
A78: =A14 -> 6 | B78: =B14 -> SEGUNDA LAGOA | C78: =C14 -> 271321.31 | D78: =E14+G14+I14+K14 -> 0 | E78: =D78*25% -> 0 | F78: 113422.83 | G78: =F78*1.25 -> 141778.54 | H78: 113422.83 | I78: =H78*1.25 -> 141778.54 | J78: =D78+F78+H78 -> 226845.66 | K78: =C78-D78-F78-H78 -> 44475.65
A79: =A15 -> 7 | B79: =B15 -> PAVIMENTAÇÃO ENTORNO DA SEGUNDA LAGOA | C79: =C15 -> 113871.7 | D79: =E15+G15+I15+K15 -> 0 | E79: =D79*25% -> 0 | F79: 53998.73 | G79: =F79*1.25 -> 67498.413 | H79: 53998.73 | I79: =H79*1.25 -> 67498.413 | J79: =D79+F79+H79 -> 107997.46 | K79: =C79-D79-F79-H79 -> 5874.24 | M79: .
A80: =A16 -> 8 | B80: =B16 -> INSTALAÇÕES ELÉTRICAS | C80: =C16 -> 460623.79 | D80: =E16+G16+I16+K16 -> 153541.26 | E80: =D80*25% -> 38385.315 | F80: 222165.35 | G80: =F80*1.25 -> 277706.69 | H80: 222165.35 | I80: =H80*1.25 -> 277706.69 | J80: =D80+F80+H80 -> 597871.96 | K80: =C80-D80-F80-H80 -> -137248.17
A81: =A17 -> 0 | J81: =SUM(J73:J80) -> 1416296.3 | K81: =C81-D81-F81-H81 -> 0
A82: =A18 -> 0 | C82: =SUM(C73:C81) -> 1187428.7 | D82: =SUM(D73:D81) -> 420506.97 | E82: =SUM(E73:E80) -> 372092.45 | F82: =SUM(F73:F80) -> 502196.65 | G82: =SUM(G73:G80) -> 627745.82 | I82: =SUM(I73:I81) -> 616990.82
A83: =A19 -> 0
C84: =C82*1.25 -> 1484285.9
AB106: mmmmm

Sheet Memória de Cálculo
A1: Prefeitura do Município de Amparo Secretaria Municipal de Desenvolvimento Urbano Memória de cálculo
A2: Obra: | B2: PARQUE MUNICIPAL DE AMPARO - 4ª ETAPA
A3: Local: | B3: SP 360 KM 130
A4: Data: | B4: 43440
B5: BOLETIM REFERENCIAL DE CUSTOS - TABELA DE SERVIÇOS - CPOS 176 | E5: SINAPI 26/11/2018 | H5: BDI 25 %
B6: COM DESONERAÇÃO | D6: Vigência: a partir de 01/07/2019 L. S.: 96,21% | E6: DER 30/09/2018
A7: ITEM | B7: FONTE | C7: CÓDIGO | D7: DESCRIÇÃO | E7: UNID. | F7: QUANT. | G7: VALOR UNIT. | H7: TOTAL | I7: Memoria de Cálculo
A8: 1 | D8: SERVIÇOS PRELIMINARES E MOBILIZAÇÃO | H8: =SUBTOTAL(9,H9:H10) -> 9972
A9: 1.1 | B9: CPOS | C9: 02.08.020 | D9: =IF($B9="","",VLOOKUP($C9,'CPOS 176'!$A$17:$AC$10838,3,0)) -> Placa de identificação para obra | E9: =IF($B9="","",VLOOKUP($C9,'CPOS 176'!$A$1:$AC$10838,4,0)) -> m² | F9: 6 | G9: =IF($B9="","",VLOOKUP($C9,'CPOS 176'!$A$17:$AC$10840,7,0)) -> 392.72 | H9: =ROUND(F9*G9,2) -> 2356.32 | I9: 3*2
A10: 1.2 | B10: CPOS | C10: 02.02.130 | D10: =IF($B10="","",VLOOKUP($C10,'CPOS 176'!$A$17:$AC$10838,3,0)) -> Locação de container tipo escritório com 1 vaso sanitário, 1 lavatório e 1 ponto para chuveiro - área mínima de 13,80 m² | E10: =IF($B10="","",VLOOKUP($C10,'CPOS 176'!$A$1:$AC$10838,4,0)) -> unxmês | F10: 12 | G10: =IF($B10="","",VLOOKUP($C10,'CPOS 176'!$A$17:$AC$10840,7,0)) -> 634.64 | H10: =ROUND(F10*G10,2) -> 7615.68 | I10: 12*1
A11: 2 | D11: LIMPEZA | H11: =SUBTOTAL(9,H12:H14) -> 34415.97
A12: 2.1 | B12: CPOS | C12: 03.02.040 | D12: =IF($B12="","",VLOOKUP($C12,'CPOS 176'!$A$17:$AC$10838,3,0)) -> Demolição manual de alvenaria de elevação ou elemento vazado, incluindo revestimento | E12: =IF($B12="","",VLOOKUP($C12,'CPOS 176'!$A$1:$AC$10838,4,0)) -> m³ | F12: 8 | G12: =IF($B12="","",VLOOKUP($C12,'CPOS 176'!$A$17:$AC$10840,7,0)) -> 54 | H12: =ROUND(F12*G12,2) -> 432 | I12: 17,78 * 0,15 * 3,00
A13: 2.2 | B13: CPOS | C13: 02.09.130 | D13: =IF($B13="","",VLOOKUP($C13,'CPOS 176'!$A$17:$AC$10838,3,0)) -> Limpeza mecanizada do terreno, inclusive troncos com diâmetro acima de 15 cm até 50 cm, com caminhão à disposição dentro da obra, até o raio de 1 km | E13: =IF($B13="","",VLOOKUP($C13,'CPOS 176'!$A$1:$AC$10838,4,0)) -> m² | F13: 13000 | G13: =IF($B13="","",VLOOKUP($C13,'CPOS 176'!$A$17:$AC$10840,7,0)) -> 2.41 | H13: =ROUND(F13*G13,2) -> 31330 | I13: área de projeto correpondente as 2 lagoas e pavimentação
A14: 2.3 | B14: DER | C14: 24.02.04.99 | D14: CORTA-RIO ESCAVACAO SEM EXPLOSIVO | E14: M3 | F14: =230*1.1*1 -> 253 | G14: 10.49 | H14: =ROUND(F14*G14,2) -> 2653.97 | I14: 230,00 metros x (1,20 + 1,10 ) / 2 x 1,00
A15: 3 | D15: ENSAIOS DE SOLO | E15: =IF($B15="","",VLOOKUP($C15,#REF!,4,0)) | G15: =IF($B15="","",VLOOKUP($C15,#REF!,7,0)) | H15: =SUBTOTAL(9,H16:H25) -> 8953.48
A16: 3.1 | B16: CPOS | C16: 01.21.010 | D16: =IF($B16="","",VLOOKUP($C16,'CPOS 176'!$A$17:$AC$10838,3,0)) -> Taxa de mobilização e desmobilização de equipamentos para execução de sondagem | E16: =IF($B16="","",VLOOKUP($C16,'CPOS 176'!$A$1:$AC$10838,4,0)) -> tx | F16: 1 | G16: =IF($B16="","",VLOOKUP($C16,'CPOS 176'!$A$17:$AC$10840,7,0)) -> 971.46 | H16: =ROUND(F16*G16,2) -> 971.46
A17: 3.2 | B17: CPOS | C17: 01.21.110 | D17: =IF($B17="","",VLOOKUP($C17,'CPOS 176'!$A$17:$AC$10838,3,0)) -> Sondagem do terreno à percussão (mínimo de 30 m) | E17: =IF($B17="","",VLOOKUP($C17,'CPOS 176'!$A$1:$AC$10838,4,0)) -> m | F17: 40 | G17: =IF($B17="","",VLOOKUP($C17,'CPOS 176'!$A$17:$AC$10840,7,0)) -> 102.01 | H17: =ROUND(F17*G17,2) -> 4080.4
A18: 3.3 | B18: CPOS | C18: 01.21.100 | D18: =IF($B18="","",VLOOKUP($C18,'CPOS 176'!$A$17:$AC$10838,3,0)) -> Sondagem do terreno a trado | E18: =IF($B18="","",VLOOKUP($C18,'CPOS 176'!$A$1:$AC$10838,4,0)) -> m | F18: 6 | G18: =IF($B18="","",VLOOKUP($C18,'CPOS 176'!$A$17:$AC$10840,7,0)) -> 85.79 | H18: =ROUND(F18*G18,2) -> 514.74
A19: 3.4 | B19: SINAPI | C19: 74022/7 | D19: ENSAIO DE GRANULOMETRIA POR PENEIRAMENTO E SEDIMENTACAO - SOLOS | E19: ENSAIO | F19: =$F$18 -> 6 | G19: 157.73 | H19: =ROUND(F19*G19,2) -> 946.38 | I19: ensaios para pontos determinados após s escavações
A20: 3.5 | B20: SINAPI | C20: 74022/24 | D20: ENSAIO DE TEOR DE UMIDADE - EM LABORATORIO - SOLOS | E20: ENSAIO | F20: =$F$18 -> 6 | G20: 66.41 | H20: =ROUND(F20*G20,2) -> 398.46 | I20: ensaios para pontos determinados após s escavações
A21: 3.6 | B21: SINAPI | C21: 74022/8 | D21: ENSAIO DE LIMITE DE LIQUIDEZ - SOLOS | E21: ENSAIO | F21: =$F$18 -> 6 | G21: 83.02 | H21: =ROUND(F21*G21,2) -> 498.12 | I21: ensaios para pontos determinados após s escavações
A22: 3.7 | B22: SINAPI | C22: 74022/9 | D22: ENSAIO DE LIMITE DE PLASTICIDADE - SOLOS | E22: ENSAIO | F22: =$F$18 -> 6 | G22: 74.71 | H22: =ROUND(F22*G22,2) -> 448.26 | I22: ensaios para pontos determinados após s escavações
A23: 3.8 | B23: SINAPI | C23: 74022/16 | D23: ENSAIO DE DENSIDADE REAL - SOLOS | E23: UN | F23: =$F$18 -> 6 | G23: 74.71 | H23: =ROUND(F23*G23,2) -> 448.26 | I23: ensaios para pontos determinados após s escavações
A24: 3.9 | B24: SINAPI | C24: 74022/23 | D24: ENSAIO DE TEOR DE UMIDADE - PROCESSO SPEEDY - SOLOS E AGREGADOS MIUDOS | E24: UN | F24: =$F$18 -> 6 | G24: 49.8 | H24: =ROUND(F24*G24,2) -> 298.8 | I24: ensaios para pontos determinados após s escavações
A25: 3.10 | B25: SINAPI | C25: 74022/14 | D25: ENSAIO DE MASSA ESPECIFICA - IN SITU - METODO FRASCO DE AREIA - SOLOS | E25: UN | F25: =$F$18 -> 6 | G25: 58.1 | H25: =ROUND(F25*G25,2) -> 348.6 | I25: ensaios necessários na barragem após execução
A26: 4 | D26: PRIMEIRA LAGOA | H26: =SUBTOTAL(9,H27:H57) -> 227380.25
A27: 4.1 | D27: ABERTURA
A28: 4.1.1 | B28: CPOS | C28: 02.10.060 | D28: =IF($B28="","",VLOOKUP($C28,'CPOS 176'!$A$17:$AC$10838,3,0)) -> Locação de vias, calçadas, tanques e lagoas | E28: =IF($B28="","",VLOOKUP($C28,'CPOS 176'!$A$1:$AC$10838,4,0)) -> m² | F28: 3115.4 | G28: =IF($B28="","",VLOOKUP($C28,'CPOS 176'!$A$17:$AC$10840,7,0)) -> 1.08 | H28: =ROUND(F28*G28,2) -> 3364.63 | I28: Área de projeto anexo 5 na cota 839,00 m
A29: 4.1.2 | B29: CPOS | C29: 07.05.020 | D29: =IF($B29="","",VLOOKUP($C29,'CPOS 176'!$A$17:$AC$10838,3,0)) -> Escavação e carga mecanizada em solo vegetal superficial | E29: =IF($B29="","",VLOOKUP($C29,'CPOS 176'!$A$1:$AC$10838,4,0)) -> m³ | F29: =F28*0.1 -> 311.54 | G29: =IF($B29="","",VLOOKUP($C29,'CPOS 176'!$A$17:$AC$10840,7,0)) -> 21.31 | H29: =ROUND(F29*G29,2) -> 6638.92 | I29: Área de projeto anexo 5 na cota 839,00 m x 0,10 m
A30: 4.1.5 | B30: CPOS | C30: 07.01.020 | D30: =IF($B30="","",VLOOKUP($C30,'CPOS 176'!$A$17:$AC$10838,3,0)) -> Escavação e carga mecanizada em solo de 1ª categoria, em campo aberto | E30: =IF($B30="","",VLOOKUP($C30,'CPOS 176'!$A$1:$AC$10838,4,0)) -> m³ | F30: 4363.2 | G30: =IF($B30="","",VLOOKUP($C30,'CPOS 176'!$A$17:$AC$10840,7,0)) -> 8.79 | H30: =ROUND(F30*G30,2) -> 38352.53 | I30: Projeto complementar de movimentação de solo
A31: 4.1.6 | B31: CPOS | C31: 05.10.020 | D31: =IF($B31="","",VLOOKUP($C31,'CPOS 176'!$A$17:$AC$10838,3,0)) -> Transporte de solo de 1ª e 2ª categoria por caminhão até o 2° km | E31: =IF($B31="","",VLOOKUP($C31,'CPOS 176'!$A$1:$AC$10838,4,0)) -> m³ | F31: =F30*1.3 -> 5672.16 | G31: =IF($B31="","",VLOOKUP($C31,'CPOS 176'!$A$17:$AC$10840,7,0)) -> 4.68 | H31: =ROUND(F31*G31,2) -> 26545.71 | I31: Volume escavado + 30 %
A32: 4.2 | D32: BARRAGEM | E32: =IF($B32="","",VLOOKUP($C32,'CPOS 176'!$A$1:$AC$10838,4,0)) | G32: =IF($B32="","",VLOOKUP($C32,'CPOS 176'!$A$17:$AC$10840,7,0))
A33: 4.2.1 | B33: CPOS | C33: 03.01.040 | D33: =IF($B33="","",VLOOKUP($C33,'CPOS 176'!$A$17:$AC$10838,3,0)) -> Demolição manual de concreto armado | E33: =IF($B33="","",VLOOKUP($C33,'CPOS 176'!$A$1:$AC$10838,4,0)) -> m³ | F33: =3.8*1.05*0.4+0.4^3+0.25*0.25*0.4 -> 1.685 | G33: =IF($B33="","",VLOOKUP($C33,'CPOS 176'!$A$17:$AC$10840,7,0)) -> 270 | H33: =ROUND(F33*G33,2) -> 454.95 | I33: extravasor 3,80 x 1,05 x 0,40 m + passagem tubo de 40 mm= 0,40 x 0,40 x 0,40 m + passagem tubo de 25 mm = 0,25 x 0,25 x 0,40 m
A34: 4.2.2 | B34: CPOS | C34: 07.02.020 | D34: =IF($B34="","",VLOOKUP($C34,'CPOS 176'!$A$17:$AC$10838,3,0)) -> Escavação mecanizada de valas ou cavas com profundidade de até 2 m | E34: =IF($B34="","",VLOOKUP($C34,'CPOS 176'!$A$1:$AC$10838,4,0)) -> m³ | F34: =(2.5*1+(1.32+0.5)/2)*47.46 -> 161.8386 | G34: =IF($B34="","",VLOOKUP($C34,'CPOS 176'!$A$17:$AC$10840,7,0)) -> 6.56 | H34: =ROUND(F34*G34,2) -> 1061.66 | I34: fundação da barragem 2,50 m x 1,00 x 47,46 m + dreno = (1,32 m + 0,50 m) / 2 x 1,00 m x 47,46 m
A35: 4.2.3 | B35: CPOS | C35: 07.01.010 | D35: =IF($B35="","",VLOOKUP($C35,'CPOS 176'!$A$17:$AC$10838,3,0)) -> Escavação e carga mecanizada para exploração de solo em jazida | E35: =IF($B35="","",VLOOKUP($C35,'CPOS 176'!$A$1:$AC$10838,4,0)) -> m³ | F35: =(6*3/2+3.2*3+9*3/2+2.5*1)*47.46*1.3 -> 2134.7508 | G35: =IF($B35="","",VLOOKUP($C35,'CPOS 176'!$A$17:$AC$10840,7,0)) -> 8.55 | H35: =ROUND(F35*G35,2) -> 18252.12 | I35: Talude jusante = 6,00 x 3,00 / 2 x 47,46 m +30 %+ Crista = 3,20 x 3,00 m x 47,46 m + 30 % + Talude montante = 9,00 x 3,00 / 2 x 47,46 m + 30%+ Cut off = 2,50 x 1,00 x 47,46 m + 30 %
A36: 4.2.4 | B36: CPOS | C36: 05.10.020 | D36: =IF($B36="","",VLOOKUP($C36,'CPOS 176'!$A$17:$AC$10838,3,0)) -> Transporte de solo de 1ª e 2ª categoria por caminhão até o 2° km | E36: =IF($B36="","",VLOOKUP($C36,'CPOS 176'!$A$1:$AC$10838,4,0)) -> m³ | F36: =F35 -> 2134.7508 | G36: =IF($B36="","",VLOOKUP($C36,'CPOS 176'!$A$17:$AC$10840,7,0)) -> 4.68 | H36: =ROUND(F36*G36,2) -> 9990.63 | I36: iten 4.2.3
A37: 4.2.5 | B37: CPOS | C37: 07.12.030 | D37: =IF($B37="","",VLOOKUP($C37,'CPOS 176'!$A$17:$AC$10838,3,0)) -> Compactação de aterro mecanizado a 100% PN, sem fornecimento de solo em campo aberto | E37: =IF($B37="","",VLOOKUP($C37,'CPOS 176'!$A$1:$AC$10838,4,0)) -> m³ | F37: =(6*3/2+3.2*3+9*3/2+2.5*1)*47.46 -> 1642.116 | G37: =IF($B37="","",VLOOKUP($C37,'CPOS 176'!$A$17:$AC$10840,7,0)) -> 6.71 | H37: =ROUND(F37*G37,2) -> 11018.6 | I37: Talude jusante = 6,00 x 3,00 / 2 x 47,46 m + Crista = 3,20 x 3,00 m x 47,46 m + Talude montante = 9,00 x 3,00 / 2 x 47,46 m + Cut off = 2,50 x 1,00 x 47,46 m +
A38: 4.2.6 | B38: CPOS | C38: 09.01.020 | D38: =IF($B38="","",VLOOKUP($C38,'CPOS 176'!$A$17:$AC$10838,3,0)) -> Forma em madeira comum para fundação | E38: =IF($B38="","",VLOOKUP($C38,'CPOS 176'!$A$1:$AC$10838,4,0)) -> m² | F38: =1.2*2.78*3+27.77+22.93+1.7*1.75+2.4*1.7 -> 67.763 | G38: =IF($B38="","",VLOOKUP($C38,'CPOS 176'!$A$17:$AC$10840,7,0)) -> 59.86 | H38: =ROUND(F38*G38,2) -> 4056.29 | I38: Piso 1,20 x 2,78 x 3 + Parede (27,77 m² +22,93 m²) + Turbina 1,70 x 1,75 + 2,40 x 1,70 m
A39: 4.2.7 | B39: CPOS | C39: 10.01.040 | D39: =IF($B39="","",VLOOKUP($C39,'CPOS 176'!$A$17:$AC$10838,3,0)) -> Armadura em barra de aço CA-50 (A ou B) fyk = 500 MPa | E39: =IF($B39="","",VLOOKUP($C39,'CPOS 176'!$A$1:$AC$10838,4,0)) -> kg | F39: =F40*90 -> 2130.3684 | G39: =IF($B39="","",VLOOKUP($C39,'CPOS 176'!$A$17:$AC$10840,7,0)) -> 6.56 | H39: =ROUND(F39*G39,2) -> 13975.22 | I39: 90 kg/m³
A40: 4.2.8 | B40: CPOS | C40: 11.01.100 | D40: =IF($B40="","",VLOOKUP($C40,'CPOS 176'!$A$17:$AC$10838,3,0)) -> Concreto usinado, fck = 20 MPa | E40: =IF($B40="","",VLOOKUP($C40,'CPOS 176'!$A$1:$AC$10838,4,0)) -> m³ | F40: =(16.86*2.78+1.2*2.78*3+27.77+22.93+1.7*1.75+2.4*1.7+1.55*2.4)*0.2 -> 23.67076 | G40: =IF($B40="","",VLOOKUP($C40,'CPOS 176'!$A$17:$AC$10840,7,0)) -> 268.64 | H40: =ROUND(F40*G40,2) -> 6358.91 | I40: Piso (16,86 x 2,78 + 1,20 x 2,78 x 3) x 0,20 + Parede (27,77 m² +22,93 m²) x 0,20 + Turbina (1,70 x 1,75 + 2,40 x 1,70 m + 1,55 x 2,40) x 0,20 | J40: =(2.4*3 +1.2*3+9.6)*2.78 -> 56.712
...

Sheet COMPOSIÇÕES
A1: PLANILHA DE MEDIÇÃO
B3: PREFEITURA DO MUNICÍPIO DE AMPARO
B4: Estância Hidromineral
B5: Objeto: Parque Municipal de Amparo - 4ª Amparo
B6: =[1]PLANILHA!A6 -> Endereço:
B7: =[1]PLANILHA!A7 -> DATA DA ELABORAÇÃO 2018
B8: FONTE: CPOS 176
A9: QUADRO DE MEDIÇÕES ACUMULADO (ANEXO 28)
B10: QUADRO MEDIÇÕES ACUMULADO
B11: PREFEITURA DO MUNICÍPIO DE AMPARO
B12: Objeto: Revitalização da Praça Pádua Salles
B13: Endereço: Av. Bernardino de Campos
B14: PROCESSO: 466/2014
B15: CONVÊNIO: 246/2014
B16: DATA DA ELABORAÇÃO: set/2015
B17: FONTE: CPOS Boletim n.º 163
B18: Item | C18: Fonte dos Serviços | D18: Código dos Serviços | E18: Composição unitária | F18: unid | G18: Qde. | H18: Pr. Unit. | I18: Pr. Total | J18: (%) | K18: Valor(R$) | L18: (%) | M18: Valor(R$) | N18: (%) | O18: Total (R$) | P18: Qde. | Q18: Pr. Unit. | R18: Pr. Final | S18: (%) | T18: Valor(R$) | U18: (%) | V18: Valor(R$) | W18: (%) | X18: Total (R$) | Y18: Qde. | Z18: Pr. Unit. | AA18: Pr. Final | AB18: (%) | AC18: Valor(R$) | AD18: (%) | AE18: Valor(R$) | AF18: (%) | AG18: Total (R$) | AH18: Qde. | AI18: Pr. Unit. | AJ18: Pr. Final | AK18: (%) | AL18: Valor(R$) | AM18: (%) | AN18: Valor(R$) | AO18: (%) | AP18: Total (R$) | AQ18: Qde. | AR18: Pr. Unit. | AS18: Pr. Final | AT18: (%) | AU18: Valor(R$) | AV18: (%) | AW18: Valor(R$) | AX18: (%) | AY18: Total (R$) | AZ18: Qde. | BA18: Pr. Unit. | BB18: Pr. Final | BC18: (%) | BD18: Valor(R$) | BE18: (%) | BF18: Valor(R$) | BG18: (%) | BH18: Total (R$) | BI18: Qde. | BJ18: Pr. Unit. | BK18: Pr. Final | BL18: (%) | BM18: Valor(R$) | BN18: (%) | BO18: Valor(R$) | BP18: (%) | BQ18: Total (R$) | BR18: Qde. | BS18: Pr. Unit. | BT18: Pr. Final | BU18: (%) | BV18: Valor(R$) | BW18: (%) | BX18: Valor(R$) | BY18: (%) | BZ18: Total (R$) | CA18: Qde. | CB18: Pr. Unit. | CC18: Pr. Final | CD18: (%) | CE18: Valor(R$) | CF18: (%) | CG18: Valor(R$) | CH18: (%) | CI18: Total (R$) | CJ18: Qde. | CK18: Pr. Unit. | CL18: Pr. Final | CM18: (%) | CN18: Valor(R$) | CO18: (%) | CP18: Valor(R$) | CQ18: (%) | CR18: Total (R$) | CS18: Qde. | CT18: Pr. Unit. | CU18: Pr. Final | CV18: (%) | CW18: Valor(R$) | CX18: (%) | CY18: Valor(R$) | CZ18: (%) | DA18: Total (R$) | DB18: Qde. | DC18: Pr. Unit. | DD18: Pr. Final | DE18: (%) | DF18: Valor(R$) | DG18: (%) | DH18: Valor(R$) | DI18: (%) | DJ18: Total (R$) | DK18: Qde. | DL18: Pr. Unit. | DM18: Pr. Final | DN18: Qde. | DO18: Preço | DQ18: % | DR18: SALDO
E19: Caixa de inspeção em alvenaria 40x40x40cm em bloco de concreto com tampa
B20: 1.1 | C20: CPOS | D20: 06.01.020 | E20: =IF($C20="","",VLOOKUP($D20,'CPOS 176'!$A$11:$G$4422,3,0)) -> Escavação manual em solo de 1ª e 2ª categoria em campo aberto | F20: =IF($C20="","",VLOOKUP($D20,'CPOS 176'!$A$11:$G$4422,4,0)) -> m³ | G20: 0.144 | H20: =IF($C20="","",VLOOKUP($D20,'CPOS 176'!$A$11:$G$4422,7,0)) -> 33.75 | I20: =ROUND(G20*H20,2) -> 4.86
B21: 1.2 | C21: CPOS | D21: 14.01.060 | E21: =IF($C21="","",VLOOKUP($D21,'CPOS 176'!$A$11:$G$4422,3,0)) -> Alvenaria de embasamento em bloco de concreto de 19 x 19 x 39 cm - classe A | F21: =IF($C21="","",VLOOKUP($D21,'CPOS 176'!$A$11:$G$4422,4,0)) -> m² | G21: 0.64 | H21: =IF($C21="","",VLOOKUP($D21,'CPOS 176'!$A$11:$G$4422,7,0)) -> 71.86 | I21: =ROUND(G21*H21,2) -> 45.99
B22: 1.3 | C22: CPOS | D22: 11.04.020 | E22: =IF($C22="","",VLOOKUP($D22,'CPOS 176'!$A$11:$G$4422,3,0)) -> Concreto não estrutural executado no local, mínimo 150 kg cimento / m³ | F22: =IF($C22="","",VLOOKUP($D22,'CPOS 176'!$A$11:$G$4422,4,0)) -> m³ | G22: 0.018 | H22: =IF($C22="","",VLOOKUP($D22,'CPOS 176'!$A$11:$G$4422,7,0)) -> 221.45 | I22: =ROUND(G22*H22,2) -> 3.99
B23: 1.4 | C23: CPOS | D23: 06.11.040 | E23: =IF($C23="","",VLOOKUP($D23,'CPOS 176'!$A$11:$G$4422,3,0)) -> Reaterro manual apiloado sem controle de compactação | F23: =IF($C23="","",VLOOKUP($D23,'CPOS 176'!$A$11:$G$4422,4,0)) -> m³ | G23: 0.08 | H23: =IF($C23="","",VLOOKUP($D23,'CPOS 176'!$A$11:$G$4422,7,0)) -> 12.59 | I23: =ROUND(G23*H23,2) -> 1.01
B24: 1.5 | C24: CPOS | D24: 17.02.140 | E24: =IF($C24="","",VLOOKUP($D24,'CPOS 176'!$A$11:$G$4422,3,0)) -> Emboço desempenado com espuma de poliéster | F24: =IF($C24="","",VLOOKUP($D24,'CPOS 176'!$A$11:$G$4422,4,0)) -> m² | G24: 0.64 | H24: =IF($C24="","",VLOOKUP($D24,'CPOS 176'!$A$11:$G$4422,7,0)) -> 17.62 | I24: =ROUND(G24*H24,2) -> 11.28
B25: 1.6 | C25: CPOS | D25: 09.01.030 | E25: =IF($C25="","",VLOOKUP($D25,'CPOS 176'!$A$11:$G$4422,3,0)) -> Forma em madeira comum para estrutura | F25: =IF($C25="","",VLOOKUP($D25,'CPOS 176'!$A$11:$G$4422,4,0)) -> m² | G25: 0.032 | H25: =IF($C25="","",VLOOKUP($D25,'CPOS 176'!$A$11:$G$4422,7,0)) -> 128.82 | I25: =ROUND(G25*H25,2) -> 4.12
B26: 1.7 | C26: CPOS | D26: 11.03.090 | E26: =IF($C26="","",VLOOKUP($D26,'CPOS 176'!$A$11:$G$4422,3,0)) -> Concreto preparado no local, fck = 20 MPa | F26: =IF($C26="","",VLOOKUP($D26,'CPOS 176'!$A$11:$G$4422,4,0)) -> m³ | G26: 0.016 | H26: =IF($C26="","",VLOOKUP($D26,'CPOS 176'!$A$11:$G$4422,7,0)) -> 316.23 | I26: =ROUND(G26*H26,2) -> 5.06
B27: 1.8 | C27: CPOS | D27: 11.16.060 | E27: =IF($C27="","",VLOOKUP($D27,'CPOS 176'!$A$11:$G$4422,3,0)) -> Lançamento e adensamento de concreto ou massa em estrutura | F27: =IF($C27="","",VLOOKUP($D27,'CPOS 176'!$A$11:$G$4422,4,0)) -> m³ | G27: 0.016 | H27: =IF($C27="","",VLOOKUP($D27,'CPOS 176'!$A$11:$G$4422,7,0)) -> 78.64 | I27: =ROUND(G27*H27,2) -> 1.26
E28: Total | I28: =SUM(I20:I27) -> 77.57
E30: Caixa de inspeção em alvenaria 30x30x30cm em bloco de concreto com tampa | F30: =IF($C30="","",VLOOKUP($D30,#REF!,12,0)) | DQ30: =L30+U30+AD30+AM30+AV30+BE30+BN30+BW30+CF30+CO30+CX30+DG30 -> 0 | DR30: =DO30-#REF! -> #REF!
B31: 2.1 | C31: CPOS | D31: 06.01.020 | E31: =IF($C31="","",VLOOKUP($D31,'CPOS 176'!$A$11:$G$4422,3,0)) -> Escavação manual em solo de 1ª e 2ª categoria em campo aberto | F31: =IF($C31="","",VLOOKUP($D31,'CPOS 176'!$A$11:$G$4422,4,0)) -> m³ | G31: 0.144 | H31: =IF($C31="","",VLOOKUP($D31,'CPOS 176'!$A$11:$G$4422,7,0)) -> 33.75 | I31: =ROUND(G31*H31,2) -> 4.86
B32: 2.2 | C32: CPOS | D32: 14.01.060 | E32: =IF($C32="","",VLOOKUP($D32,'CPOS 176'!$A$11:$G$4422,3,0)) -> Alvenaria de embasamento em bloco de concreto de 19 x 19 x 39 cm - classe A | F32: =IF($C32="","",VLOOKUP($D32,'CPOS 176'!$A$11:$G$4422,4,0)) -> m² | G32: 0.36 | H32: =IF($C32="","",VLOOKUP($D32,'CPOS 176'!$A$11:$G$4422,7,0)) -> 71.86 | I32: =ROUND(G32*H32,2) -> 25.87
B33: 2.3 | C33: CPOS | D33: 11.04.020 | E33: =IF($C33="","",VLOOKUP($D33,'CPOS 176'!$A$11:$G$4422,3,0)) -> Concreto não estrutural executado no local, mínimo 150 kg cimento / m³ | F33: =IF($C33="","",VLOOKUP($D33,'CPOS 176'!$A$11:$G$4422,4,0)) -> m³ | G33: 0.018 | H33: =IF($C33="","",VLOOKUP($D33,'CPOS 176'!$A$11:$G$4422,7,0)) -> 221.45 | I33: =ROUND(G33*H33,2) -> 3.99
B34: 2.4 | C34: CPOS | D34: 06.11.040 | E34: =IF($C34="","",VLOOKUP($D34,'CPOS 176'!$A$11:$G$4422,3,0)) -> Reaterro manual apiloado sem controle de compactação | F34: =IF($C34="","",VLOOKUP($D34,'CPOS 176'!$A$11:$G$4422,4,0)) -> m³ | G34: 0.117 | H34: =IF($C34="","",VLOOKUP($D34,'CPOS 176'!$A$11:$G$4422,7,0)) -> 12.59 | I34: =ROUND(G34*H34,2) -> 1.47
B35: 2.5 | C35: CPOS | D35: 17.02.140 | E35: =IF($C35="","",VLOOKUP($D35,'CPOS 176'!$A$11:$G$4422,3,0)) -> Emboço desempenado com espuma de poliéster | F35: =IF($C35="","",VLOOKUP($D35,'CPOS 176'!$A$11:$G$4422,4,0)) -> m² | G35: 0.36 | H35: =IF($C35="","",VLOOKUP($D35,'CPOS 176'!$A$11:$G$4422,7,0)) -> 17.62 | I35: =ROUND(G35*H35,2) -> 6.34
B36: 2.6 | C36: CPOS | D36: 09.01.030 | E36: =IF($C36="","",VLOOKUP($D36,'CPOS 176'!$A$11:$G$4422,3,0)) -> Forma em madeira comum para estrutura | F36: =IF($C36="","",VLOOKUP($D36,'CPOS 176'!$A$11:$G$4422,4,0)) -> m² | G36: 0.018 | H36: =IF($C36="","",VLOOKUP($D36,'CPOS 176'!$A$11:$G$4422,7,0)) -> 128.82 | I36: =ROUND(G36*H36,2) -> 2.32
B37: 2.7 | C37: CPOS | D37: 11.03.090 | E37: =IF($C37="","",VLOOKUP($D37,'CPOS 176'!$A$11:$G$4422,3,0)) -> Concreto preparado no local, fck = 20 MPa | F37: =IF($C37="","",VLOOKUP($D37,'CPOS 176'!$A$11:$G$4422,4,0)) -> m³ | G37: 0.009 | H37: =IF($C37="","",VLOOKUP($D37,'CPOS 176'!$A$11:$G$4422,7,0)) -> 316.23 | I37: =ROUND(G37*H37,2) -> 2.85
B38: 2.8 | C38: CPOS | D38: 11.16.060 | E38: =IF($C38="","",VLOOKUP($D38,'CPOS 176'!$A$11:$G$4422,3,0)) -> Lançamento e adensamento de concreto ou massa em estrutura | F38: =IF($C38="","",VLOOKUP($D38,'CPOS 176'!$A$11:$G$4422,4,0)) -> m³ | G38: 0.009 | H38: =IF($C38="","",VLOOKUP($D38,'CPOS 176'!$A$11:$G$4422,7,0)) -> 78.64 | I38: =ROUND(G38*H38,2) -> 0.71
E39: Total | I39: =SUM(I31:I38) -> 48.41 | J39: RRT 1289465
J40: Prefeitura do Município de Amparo
A41: PLANILHA DE MEDIIÇÃO
E42: Padrão de Entrada de Energia - Categoria C3 CPFL | F42: =IF($C42="","",VLOOKUP($D42,#REF!,12,0)) | AQ42: __________________________
...

Sheet BDI
B10: DEMONSTRATIVO DO BDI
B13: OBRA: 4ª Etapa Parque Municipal
B16: PREFEITURA MUNICIPAL DE AMPARO
B19: COMPONENTES DO BDI | D19: TAXA
B20: AC | C20: TAXA ADMINISTRAÇÃO CENTRAL | D20: 0.08
B21: DF | C21: TAXA DAS DESPESAS FINANCEIRAS | D21: 0.0159
B22: R | C22: TAXA DE RISCO / SEGURO / GARANTIA | D22: =0.21/100+1.97/100 -> 0.0218
B23: I | C23: TAXA DE TRIBUTOS | D23: 0.087
B24: L | C24: TAXA DE LUCRO | D24: 0.0453
B29: LDI = | C29: ((((1+AC/100)*(1+DF/100)*(1+R/100)*(1+L/100))/(1-(I/100)))-1)*100 = | D29: =((((1+$D$20/100)*(1+$D$21/100)*(1+$D$22/100)*(1+$D$24/100))/(1-($D$23/100)))-1)*100-0.0003 -> 0.25000473
