Workbook

Sheet ORÇAMENTO
D1: Orçamento Referencia
A4: Obra: | B4: Pavimentação da Rua 6
A5: Local: | B5: Rua 6 - Santa Helena - Amparo SP
A6: Operação | B6: 1061679-92 | D6: P + Brasil | E6: 878692 | F6: DATA BASE | H6: 44317
I8: BDI | J8: 0.2685
A10: Item | B10: Codigo | C10: Fonte | D10: Evento | E10: Macrosserviço / Serviço | F10: Qtd. | G10: Und. | H10: Custo Unitário | I10: Preço Unitário | J10: Preço Total
A11: 1 | E11: Serviços Iniciais | J11: =SUBTOTAL(9,J12:J13) -> 6164.88
A12: 1.1 | B12: SINAPI-I | C12: 4813 | D12: 1 | E12: PLACA DE OBRA EM CHAPA DE ACO GALVANIZADO | F12: 6 | G12: M2 | H12: 225 | I12: =ROUND((H12*$J$8)+H12,2) -> 285.41 | J12: =F12*I12 -> 1712.46
A13: 1.2 | B13: SINAPI | C13: 10775 | D13: 1 | E13: LOCACAO DE CONTAINER 2,30 X 6,00 M, ALT. 2,50 M, COM 1 SANITARIO, PARA ESCRITORIO, COMPLETO, SEM DIVISORIAS INTERNAS | F13: 6 | G13: MES | H13: 585 | I13: =ROUND((H13*$J$8)+H13,2) -> 742.07 | J13: =F13*I13 -> 4452.42
A14: 2 | E14: Drenagem | J14: =SUBTOTAL(9,J15:J25) -> 110862.14
A15: 2.1 | B15: CDHU-181 | C15: 49.12.058 | D15: 2 | E15: BOCA DE LOBO EM ALVENARIA TIJOLO MACICO, REVESTIDA C/ ARGAMASSA DE CIMENTO E AREIA 1:3, SOBRE LASTRO DE CONCRETO 10CM E TAMPA DE CONCRETO ARMADO | F15: 3 | G15: UN | H15: 2083.09 | I15: =ROUND((H15*$J$8)+H15,2) -> 2642.4 | J15: =F15*I15 -> 7927.2
A16: 2.2 | B16: SINAPI | C16: 99288 | D16: 2 | E16: POCO DE VISITA PARA DRENAGEM PLUVIAL, EM CONCRETO ESTRUTURAL, DIMENSOES INTERNAS DE 90X150X80CM (LARGXCOMPXALT), PARA REDE DE 600 MM, EXCLUSOS TAMPAO E CHAMINE. | F16: 8 | G16: UN | H16: 444.63 | I16: =ROUND((H16*$J$8)+H16,2) -> 564.01 | J16: =F16*I16 -> 4512.08
A17: 2.3 | B17: SINAPI | C17: 98051 | D17: 2 | E17: CHAMINÉ CIRCULAR PARA POÇO DE VISITA PARA DRENAGEM, EM CONCRETO PRÉ-MOLDADO, DIÂMETRO INTERNO = 0,6 M. AF_05/2018 | F17: 8 | G17: M | H17: 783.22 | I17: =ROUND((H17*$J$8)+H17,2) -> 993.51 | J17: =F17*I17 -> 7948.08
A18: 2.4 | B18: SINAPI | C18: 98114 | D18: 2 | E18: TAMPAO FOFO SIMPLES COM BASE, CLASSE B125 CARGA MAX 12,5 T, REDONDO TAMPA 600 MM, REDE PLUVIAL/ESGOTO | F18: 8 | G18: UN | H18: 726.62 | I18: =ROUND((H18*$J$8)+H18,2) -> 921.72 | J18: =F18*I18 -> 7373.76
A19: 2.5 | B19: SINAPI | C19: 92210 | D19: 2 | E19: TUBO DE CONCRETO PARA REDES COLETORAS DE ÁGUAS PLUVIAIS, DIÂMETRO DE 400 MM, JUNTA RÍGIDA, INSTALADO EM LOCAL COM BAIXO NÍVEL DE INTERFERÊNCIAS - FORNECIMENTO E ASSENTAMENTO. AF_12/2015 | F19: 47 | G19: M | H19: 128.47 | I19: =ROUND((H19*$J$8)+H19,2) -> 162.96 | J19: =F19*I19 -> 7659.12
A20: 2.6 | B20: SINAPI | C20: 90082 | D20: 2 | E20: ESCAVAÇÃO MECANIZADA DE VALA COM PROF. ATÉ 1,5 M (MÉDIA ENTRE MONTANTE E JUSANTE/UMA COMPOSIÇÃO POR TRECHO), COM ESCAVADEIRA HIDRÁULICA (0,8 M3), LARG. DE 1,5 M A 2,5 M, EM SOLO DE 1A CATEGORIA, EM LOCAIS COM ALTO NÍVEL DE INTERFERÊNCIA. AF_01/2015 | F20: 47.12 | G20: M3 | H20: 8.18 | I20: =ROUND((H20*$J$8)+H20,2) -> 10.38 | J20: =F20*I20 -> 489.1056
A21: 2.7 | B21: SINAPI | C21: 93374 | D21: 2 | E21: REATERRO MECANIZADO DE VALA COM RETROESCAVADEIRA (CAPACIDADE DA CAÇAMBA DA RETRO: 0,26 M³ / POTÊNCIA: 88 HP), LARGURA ATÉ 0,8 M, PROFUNDIDADE ATÉ 1,5 M, COM SOLO (SEM SUBSTITUIÇÃO) DE 1ª CATEGORIA EM LOCAIS COM ALTO NÍVEL DE INTERFERÊNCIA. AF_04/2016 | F21: 37.6 | G21: M3 | H21: 21.32 | I21: =ROUND((H21*$J$8)+H21,2) -> 27.04 | J21: =F21*I21 -> 1016.704
A22: 2.8 | B22: SINAPI | C22: 92212 | D22: 2 | E22: TUBO DE CONCRETO PARA REDES COLETORAS DE ÁGUAS PLUVIAIS, DIÂMETRO DE 600 MM, JUNTA RÍGIDA, INSTALADO EM LOCAL COM BAIXO NÍVEL DE INTERFERÊNCIAS - FORNECIMENTO E ASSENTAMENTO. AF_12/2015 | F22: 172 | G22: M | H22: 228.35 | I22: =ROUND((H22*$J$8)+H22,2) -> 289.66 | J22: =F22*I22 -> 49821.52
A23: 2.9 | B23: SINAPI | C23: 90082 | D23: 2 | E23: ESCAVAÇÃO MECANIZADA DE VALA COM PROF. ATÉ 1,5 M (MÉDIA ENTRE MONTANTE E JUSANTE/UMA COMPOSIÇÃO POR TRECHO), COM ESCAVADEIRA HIDRÁULICA (0,8 M3), LARG. DE 1,5 M A 2,5 M, EM SOLO DE 1A CATEGORIA, EM LOCAIS COM ALTO NÍVEL DE INTERFERÊNCIA. AF_01/2015 | F23: 206.4 | G23: M3 | H23: 8.18 | I23: =ROUND((H23*$J$8)+H23,2) -> 10.38 | J23: =F23*I23 -> 2142.432
A24: 2.10 | B24: SINAPI | C24: 93374 | D24: 2 | E24: REATERRO MECANIZADO DE VALA COM RETROESCAVADEIRA (CAPACIDADE DA CAÇAMBA DA RETRO: 0,26 M³ / POTÊNCIA: 88 HP), LARGURA ATÉ 0,8 M, PROFUNDIDADE ATÉ 1,5 M, COM SOLO (SEM SUBSTITUIÇÃO) DE 1ª CATEGORIA EM LOCAIS COM ALTO NÍVEL DE INTERFERÊNCIA. AF_04/2016 | F24: 144.48 | G24: M3 | H24: 21.32 | I24: =ROUND((H24*$J$8)+H24,2) -> 27.04 | J24: =F24*I24 -> 3906.7392
A25: 2.11 | B25: SINAPI | C25: 94267 | D25: 2 | E25: GUIA (MEIO-FIO) E SARJETA CONJUGADOS DE CONCRETO, MOLDADA IN LOCO EM TRECHO RETO COM EXTRUSORA, 45 CM BASE (15 CM BASE DA GUIA + 30 CM BASE DA SARJETA) X 22 CM ALTURA. AF_06/2016 | F25: 369.36 | G25: M | H25: 38.56 | I25: =ROUND((H25*$J$8)+H25,2) -> 48.91 | J25: =F25*I25 -> 18065.398
A26: 3 | E26: Pavimentação | J26: =SUBTOTAL(9,J27:J32) -> 212755.69
A27: 3.1 | B27: SINAPI | C27: 95147 | D27: 3 | E27: Abertura de Caixa até 25 cm inclui escavação, compactação, transporte e reparo do subleito | F27: 1442.33 | G27: M2 | H27: 14.11 | I27: =ROUND((H27*$J$8)+H27,2) -> 17.9 | J27: =F27*I27 -> 25817.707
A28: 3.2 | B28: SINAPI | C28: 96396 | D28: 3 | E28: EXECUÇÃO E COMPACTAÇÃO DE BASE E OU SUB BASE PARA PAVIMENTAÇÃO DE BRITA GRADUADA SIMPLES - EXCLUSIVE CARGA E TRANSPORTE. AF_11/2019 | F28: 288.46 | G28: M3 | H28: 104.52 | I28: =ROUND((H28*$J$8)+H28,2) -> 132.58 | J28: =F28*I28 -> 38244.027
A29: 3.3 | B29: SINAPI | C29: 95877 | D29: 3 | E29: TRANSPORTE COM CAMINHÃO BASCULANTE DE 18 M3, EM VIA URBANA PAVIMENTADA, DMT ATÉ 30 KM (UNIDADE: M3XKM). AF_12/2016 | F29: 9807.84 | G29: M3XKM | H29: 1.3 | I29: =ROUND((H29*$J$8)+H29,2) -> 1.65 | J29: =F29*I29 -> 16182.936
A30: 3.4 | B30: SINAPI | C30: 96402 | D30: 3 | E30: EXECUÇÃO DE PINTURA DE LIGAÇÃO COM EMULSÃO ASFÁLTICA RR-2C. AF_11/2019 | F30: 1442.33 | G30: M2 | H30: 2.07 | I30: =ROUND((H30*$J$8)+H30,2) -> 2.63 | J30: =F30*I30 -> 3793.3279
A31: 3.5 | B31: SINAPI | C31: COMP-01 | D31: 3 | E31: EXECUÇÃO DE PAVIMENTO COM APLICAÇÃO DE CONCRETO ASFÁLTICO, CAMADA DE ROLAMENTO - EXCLUSIVE CARGA E TRANSPORTE. AF_11/2019 | F31: 57.69 | G31: M3 | H31: 1622.12 | I31: =ROUND((H31*$J$8)+H31,2) -> 2057.66 | J31: =F31*I31 -> 118706.41
A32: 3.6 | B32: SINAPI | C32: 93589 | D32: 3 | E32: TRANSPORTE DE MATERIAL ASFALTICO, COM CAMINHÃO COM CAPACIDADE DE 20000 L EM RODOVIA NÃO PAVIMENTADA PARA DISTÂNCIAS MÉDIAS DE TRANSPORTE IGUAL OU INFERIOR A 100 KM. AF_02/2016 | F32: 4315.21 | G32: TXKM | H32: 1.83 | I32: =ROUND((H32*$J$8)+H32,2) -> 2.32 | J32: =F32*I32 -> 10011.287
A33: 4 | E33: Muro de Arrimo | J33: =SUBTOTAL(9,J34:J37) -> 66883.463
A34: 4.1 | B34: SINAPI | C34: 98524 | D34: 4 | E34: LIMPEZA MANUAL DE VEGETAÇÃO EM TERRENO COM ENXADA.AF_05/2018 | F34: 445.89 | G34: M2 | H34: 2.85 | I34: =ROUND((H34*$J$8)+H34,2) -> 3.62 | J34: =F34*I34 -> 1614.1218
A35: 4.2 | B35: CDHU-181 | C35: 02.09.030 | D35: 4 | E35: Limpeza manual do terreno, inclusive troncos até 5 cm de diâmetro, com caminhão à disposição dentro da obra, até o raio de 1 km | F35: 445.89 | G35: M2 | H35: 5.11 | I35: =ROUND((H35*$J$8)+H35,2) -> 6.48 | J35: =F35*I35 -> 2889.3672
A36: 4.3 | B36: SINAPI | C36: 94993 | D36: 4 | E36: EXECUÇÃO DE PASSEIO (CALÇADA) OU PISO DE CONCRETO COM CONCRETO MOLDADO IN LOCO, USINADO, ACABAMENTO CONVENCIONAL, ESPESSURA 6 CM, ARMADO. AF_07/2016 | F36: 445.89 | G36: M2 | H36: 79.66 | I36: =ROUND((H36*$J$8)+H36,2) -> 101.05 | J36: =F36*I36 -> 45057.184
A37: 4.4 | B37: SINAPI | C37: 94275 | D37: 4 | E37: ASSENTAMENTO DE GUIA (MEIO-FIO) EM TRECHO RETO, CONFECCIONADA EM CONCRETO PRÉ-FABRICADO, DIMENSÕES 100X15X13X20 CM (COMPRIMENTO X BASE INFERIOR X BASE SUPERIOR X ALTURA), PARA URBANIZAÇÃO INTERNA DE EMPREENDIMENTOS. AF_06/2016_P | F37: 368.57 | G37: M | H37: 37.05 | I37: =ROUND((H37*$J$8)+H37,2) -> 47 | J37: =F37*I37 -> 17322.79
A38: 5 | E38: Sinalização | J38: =SUBTOTAL(9,J39:J42) -> 5282.4789
A39: 5.1 | B39: SINAPI | C39: 72947 | D39: 5 | E39: SINALIZACAO HORIZONTAL COM TINTA RETRORREFLETIVA A BASE DE RESINA ACRILICA COM MICROESFERAS DE VIDRO | F39: 46.97 | G39: M2 | H39: 30.33 | I39: =ROUND((H39*$J$8)+H39,2) -> 38.47 | J39: =I39*F39 -> 1806.9359
A40: 5.2 | B40: SINAPI | C40: 34723 | D40: 5 | E40: PLACA DE SINALIZACAO EM CHAPA DE ACO NUM 16 COM PINTURA REFLETIVA | F40: 0.51 | G40: M2 | H40: 519.75 | I40: =ROUND((H40*$J$8)+H40,2) -> 659.3 | J40: =I40*F40 -> 336.243
A41: 5.3 | B41: CDHU-181 | C41: 46.08.070 | D41: 5 | E41: Tubo Galvanizado sem costura | F41: 8 | G41: M | H41: 274.97 | I41: =ROUND((H41*$J$8)+H41,2) -> 348.8 | J41: =I41*F41 -> 2790.4
A42: 5.4 | B42: CDHU-181 | C42: 97.05.140 | D42: 5 | E42: Suporte de perfil metálico | F42: 15 | G42: KG | H42: 18.34 | I42: =ROUND((H42*$J$8)+H42,2) -> 23.26 | J42: =I42*F42 -> 348.9
A43: 6 | E43: Proteção de Talude | J43: =SUBTOTAL(9,J44:J46) -> 5357.518
A44: 6.1 | B44: CDHU-181 | C44: 02.09.030 | D44: 6 | E44: Limpeza manual do terreno, inclusive troncos até 5 cm de diâmetro, com caminhão à disposição dentro da obra, até o raio de 1 km | F44: 133.28 | G44: M2 | H44: 5.11 | I44: =ROUND((H44*$J$8)+H44,2) -> 6.48 | J44: =F44*I44 -> 863.6544
...

Sheet BDI
F1: Quadro de Composição do BDI | I1: Grau de Sigilo
I3: #PUBLICO
A5: Nº OPERAÇÃO | C5: Nº SICONV | E5: PROPONENTE / TOMADOR
A6: =ORÇAMENTO!B6 -> 1061679-92 | C6: =ORÇAMENTO!E6 -> 878692 | E6: Município de Amparo
A8: APELIDO DO EMPREENDIMENTO / DESCRIÇÃO DO LOTE
A9: PAVIMENTAÇÃO CHÁCARA DAS ÁGUAS - Trecho II / PROGRAMA PLANEJAMENTO URBANO PAVIMENTAÇÃO DE VIAS URBANAS
A11: Conforme legislação tributária municipal, definir estimativa de percentual da base de cálculo para o ISS: | I11: 0.6
A12: Sobre a base de cálculo, definir a respectiva alíquota do ISS (entre 2% e 5%): | I12: 0.05
A15: BDI 1
A17: TIPO DE OBRA
A18: Construção de Praças Urbanas, Rodovias, Ferrovias e recapeamento e pavimentação de vias urbanas
A20: Itens | I20: Siglas | J20: % Adotado
A22: Administração Central | I22: AC | J22: 0.038
A23: Seguro e Garantia | I23: SG | J23: 0.0032
A24: Risco | I24: R | J24: 0.005
A25: Despesas Financeiras | I25: DF | J25: 0.0102
A26: Lucro | I26: L | J26: 0.0664
A27: Tributos (impostos COFINS 3%, e PIS 0,65%) | I27: CP | J27: 0.0365
A28: Tributos (ISS, variável de acordo com o município) | I28: ISS | J28: 0.03
A29: Tributos (Contribuição Previdenciária sobre a Receita Bruta - 0% ou 4,5% - Desoneração) | I29: CPRB | J29: 0.045
A30: BDI SEM desoneração (Fórmula Acórdão TCU) | I30: BDI PAD | J30: 0.2073
A31: BDI COM desoneração | I31: BDI DES | J31: 0.2685
A35: Os valores de BDI foram calculados com o emprego da fórmula:
D36: BDI = | E36: (1+AC + S + R + G)*(1 + DF)*(1+L) | H36: - 1
E37: (1-CP-ISS-CRPB)
A39: Declaro para os devidos fins que, conforme legislação tributária municipal, a base de cálculo deste tipo de obra corresponde à 60%, com a respectiva alíquota de 5%.
A41: Declaro para os devidos fins que o regime de Contribuição Previdenciária sobre a Receita Bruta adotado para elaboração do orçamento foi COM Desoneração, e que esta é a alternativa mais adequada para a Administração Pública.
A43: Observações:
A46: Amparo / SP | G46: 44370
A47: Local | G47: Data
A50: Responsável Técnico
A51: Nome: | B51: Calos Eduardo Mazzetto
A52: CREA/CAU: | B52: 5060363666
A53: ART/RRT: | B53: 0

Sheet Eventograma
C1: EVENTOGRAMA
A4: Obra: | B4: Pavimentação da Rua 6
A5: Local: | B5: Rua 6 - Santa Helena - Amparo SP
A6: Operação | B6: =ORÇAMENTO!B6 -> 1061679-92 | C6: P + Brasil 878682 | D6: DATA BASE | E6: =ORÇAMENTO!H6 -> 44317
A8: Evento | B8: Item | C8: Título do Evento / Descrição do Serviço | D8: Valor | E8: Total
A9: 1 | C9: Serviços Iniciais | E9: =D10+D11 -> 6164.88
B10: 1.1 | C10: =ORÇAMENTO!E12 -> PLACA DE OBRA EM CHAPA DE ACO GALVANIZADO | D10: =ORÇAMENTO!J12 -> 1712.46
B11: 1.2 | C11: =ORÇAMENTO!E13 -> LOCACAO DE CONTAINER 2,30 X 6,00 M, ALT. 2,50 M, COM 1 SANITARIO, PARA ESCRITORIO, COMPLETO, SEM DIVISORIAS INTERNAS | D11: =ORÇAMENTO!J13 -> 4452.42
A12: 2 | C12: =ORÇAMENTO!E14 -> Drenagem | E12: =SUM(D13:D23) -> 110862.14
B13: =ORÇAMENTO!A15 -> 2.1 | C13: =ORÇAMENTO!E15 -> BOCA DE LOBO EM ALVENARIA TIJOLO MACICO, REVESTIDA C/ ARGAMASSA DE CIMENTO E AREIA 1:3, SOBRE LASTRO DE CONCRETO 10CM E TAMPA DE CONCRETO ARMADO | D13: =ORÇAMENTO!J15 -> 7927.2
B14: =ORÇAMENTO!A16 -> 2.2 | C14: =ORÇAMENTO!E16 -> POCO DE VISITA PARA DRENAGEM PLUVIAL, EM CONCRETO ESTRUTURAL, DIMENSOES INTERNAS DE 90X150X80CM (LARGXCOMPXALT), PARA REDE DE 600 MM, EXCLUSOS TAMPAO E CHAMINE. | D14: =ORÇAMENTO!J16 -> 4512.08
B15: =ORÇAMENTO!A17 -> 2.3 | C15: =ORÇAMENTO!E17 -> CHAMINÉ CIRCULAR PARA POÇO DE VISITA PARA DRENAGEM, EM CONCRETO PRÉ-MOLDADO, DIÂMETRO INTERNO = 0,6 M. AF_05/2018 | D15: =ORÇAMENTO!J17 -> 7948.08
B16: =ORÇAMENTO!A18 -> 2.4 | C16: =ORÇAMENTO!E18 -> TAMPAO FOFO SIMPLES COM BASE, CLASSE B125 CARGA MAX 12,5 T, REDONDO TAMPA 600 MM, REDE PLUVIAL/ESGOTO | D16: =ORÇAMENTO!J18 -> 7373.76
B17: =ORÇAMENTO!A19 -> 2.5 | C17: =ORÇAMENTO!E19 -> TUBO DE CONCRETO PARA REDES COLETORAS DE ÁGUAS PLUVIAIS, DIÂMETRO DE 400 MM, JUNTA RÍGIDA, INSTALADO EM LOCAL COM BAIXO NÍVEL DE INTERFERÊNCIAS - FORNECIMENTO E ASSENTAMENTO. AF_12/2015 | D17: =ORÇAMENTO!J19 -> 7659.12
B18: =ORÇAMENTO!A20 -> 2.6 | C18: =ORÇAMENTO!E20 -> ESCAVAÇÃO MECANIZADA DE VALA COM PROF. ATÉ 1,5 M (MÉDIA ENTRE MONTANTE E JUSANTE/UMA COMPOSIÇÃO POR TRECHO), COM ESCAVADEIRA HIDRÁULICA (0,8 M3), LARG. DE 1,5 M A 2,5 M, EM SOLO DE 1A CATEGORIA, EM LOCAIS COM ALTO NÍVEL DE INTERFERÊNCIA. AF_01/2015 | D18: =ORÇAMENTO!J20 -> 489.1056
B19: =ORÇAMENTO!A21 -> 2.7 | C19: =ORÇAMENTO!E21 -> REATERRO MECANIZADO DE VALA COM RETROESCAVADEIRA (CAPACIDADE DA CAÇAMBA DA RETRO: 0,26 M³ / POTÊNCIA: 88 HP), LARGURA ATÉ 0,8 M, PROFUNDIDADE ATÉ 1,5 M, COM SOLO (SEM SUBSTITUIÇÃO) DE 1ª CATEGORIA EM LOCAIS COM ALTO NÍVEL DE INTERFERÊNCIA. AF_04/2016 | D19: =ORÇAMENTO!J21 -> 1016.704
B20: =ORÇAMENTO!A22 -> 2.8 | C20: =ORÇAMENTO!E22 -> TUBO DE CONCRETO PARA REDES COLETORAS DE ÁGUAS PLUVIAIS, DIÂMETRO DE 600 MM, JUNTA RÍGIDA, INSTALADO EM LOCAL COM BAIXO NÍVEL DE INTERFERÊNCIAS - FORNECIMENTO E ASSENTAMENTO. AF_12/2015 | D20: =ORÇAMENTO!J22 -> 49821.52
B21: =ORÇAMENTO!A23 -> 2.9 | C21: =ORÇAMENTO!E23 -> ESCAVAÇÃO MECANIZADA DE VALA COM PROF. ATÉ 1,5 M (MÉDIA ENTRE MONTANTE E JUSANTE/UMA COMPOSIÇÃO POR TRECHO), COM ESCAVADEIRA HIDRÁULICA (0,8 M3), LARG. DE 1,5 M A 2,5 M, EM SOLO DE 1A CATEGORIA, EM LOCAIS COM ALTO NÍVEL DE INTERFERÊNCIA. AF_01/2015 | D21: =ORÇAMENTO!J23 -> 2142.432
B22: =ORÇAMENTO!A24 -> 2.10 | C22: =ORÇAMENTO!E24 -> REATERRO MECANIZADO DE VALA COM RETROESCAVADEIRA (CAPACIDADE DA CAÇAMBA DA RETRO: 0,26 M³ / POTÊNCIA: 88 HP), LARGURA ATÉ 0,8 M, PROFUNDIDADE ATÉ 1,5 M, COM SOLO (SEM SUBSTITUIÇÃO) DE 1ª CATEGORIA EM LOCAIS COM ALTO NÍVEL DE INTERFERÊNCIA. AF_04/2016 | D22: =ORÇAMENTO!J24 -> 3906.7392
B23: =ORÇAMENTO!A25 -> 2.11 | C23: =ORÇAMENTO!E25 -> GUIA (MEIO-FIO) E SARJETA CONJUGADOS DE CONCRETO, MOLDADA IN LOCO EM TRECHO RETO COM EXTRUSORA, 45 CM BASE (15 CM BASE DA GUIA + 30 CM BASE DA SARJETA) X 22 CM ALTURA. AF_06/2016 | D23: =ORÇAMENTO!J25 -> 18065.398
A24: 3 | C24: =ORÇAMENTO!E26 -> Pavimentação | E24: =SUM(D25:D30) -> 212755.69
B25: =ORÇAMENTO!A27 -> 3.1 | C25: =ORÇAMENTO!E27 -> Abertura de Caixa até 25 cm inclui escavação, compactação, transporte e reparo do subleito | D25: =ORÇAMENTO!J27 -> 25817.707
B26: =ORÇAMENTO!A28 -> 3.2 | C26: =ORÇAMENTO!E28 -> EXECUÇÃO E COMPACTAÇÃO DE BASE E OU SUB BASE PARA PAVIMENTAÇÃO DE BRITA GRADUADA SIMPLES - EXCLUSIVE CARGA E TRANSPORTE. AF_11/2019 | D26: =ORÇAMENTO!J28 -> 38244.027
B27: =ORÇAMENTO!A29 -> 3.3 | C27: =ORÇAMENTO!E29 -> TRANSPORTE COM CAMINHÃO BASCULANTE DE 18 M3, EM VIA URBANA PAVIMENTADA, DMT ATÉ 30 KM (UNIDADE: M3XKM). AF_12/2016 | D27: =ORÇAMENTO!J29 -> 16182.936
B28: =ORÇAMENTO!A30 -> 3.4 | C28: =ORÇAMENTO!E30 -> EXECUÇÃO DE PINTURA DE LIGAÇÃO COM EMULSÃO ASFÁLTICA RR-2C. AF_11/2019 | D28: =ORÇAMENTO!J30 -> 3793.3279
B29: =ORÇAMENTO!A31 -> 3.5 | C29: =ORÇAMENTO!E31 -> EXECUÇÃO DE PAVIMENTO COM APLICAÇÃO DE CONCRETO ASFÁLTICO, CAMADA DE ROLAMENTO - EXCLUSIVE CARGA E TRANSPORTE. AF_11/2019 | D29: =ORÇAMENTO!J31 -> 118706.41
B30: =ORÇAMENTO!A32 -> 3.6 | C30: =ORÇAMENTO!E32 -> TRANSPORTE DE MATERIAL ASFALTICO, COM CAMINHÃO COM CAPACIDADE DE 20000 L EM RODOVIA NÃO PAVIMENTADA PARA DISTÂNCIAS MÉDIAS DE TRANSPORTE IGUAL OU INFERIOR A 100 KM. AF_02/2016 | D30: =ORÇAMENTO!J32 -> 10011.287
A31: 4 | C31: =ORÇAMENTO!E33 -> Muro de Arrimo | E31: =SUM(D32:D35) -> 66883.463
B32: =ORÇAMENTO!A34 -> 4.1 | C32: =ORÇAMENTO!E34 -> LIMPEZA MANUAL DE VEGETAÇÃO EM TERRENO COM ENXADA.AF_05/2018 | D32: =ORÇAMENTO!J34 -> 1614.1218
B33: =ORÇAMENTO!A35 -> 4.2 | C33: =ORÇAMENTO!E35 -> Limpeza manual do terreno, inclusive troncos até 5 cm de diâmetro, com caminhão à disposição dentro da obra, até o raio de 1 km | D33: =ORÇAMENTO!J35 -> 2889.3672
B34: =ORÇAMENTO!A36 -> 4.3 | C34: =ORÇAMENTO!E36 -> EXECUÇÃO DE PASSEIO (CALÇADA) OU PISO DE CONCRETO COM CONCRETO MOLDADO IN LOCO, USINADO, ACABAMENTO CONVENCIONAL, ESPESSURA 6 CM, ARMADO. AF_07/2016 | D34: =ORÇAMENTO!J36 -> 45057.184
B35: =ORÇAMENTO!A37 -> 4.4 | C35: =ORÇAMENTO!E37 -> ASSENTAMENTO DE GUIA (MEIO-FIO) EM TRECHO RETO, CONFECCIONADA EM CONCRETO PRÉ-FABRICADO, DIMENSÕES 100X15X13X20 CM (COMPRIMENTO X BASE INFERIOR X BASE SUPERIOR X ALTURA), PARA URBANIZAÇÃO INTERNA DE EMPREENDIMENTOS. AF_06/2016_P | D35: =ORÇAMENTO!J37 -> 17322.79
A36: =ORÇAMENTO!A38 -> 5 | C36: =ORÇAMENTO!E38 -> Sinalização | E36: =SUM(D37:D40)+0.01 -> 5282.4889
B37: =ORÇAMENTO!A39 -> 5.1 | C37: =ORÇAMENTO!E39 -> SINALIZACAO HORIZONTAL COM TINTA RETRORREFLETIVA A BASE DE RESINA ACRILICA COM MICROESFERAS DE VIDRO | D37: =ORÇAMENTO!J39 -> 1806.9359
B38: =ORÇAMENTO!A40 -> 5.2 | C38: =ORÇAMENTO!E40 -> PLACA DE SINALIZACAO EM CHAPA DE ACO NUM 16 COM PINTURA REFLETIVA | D38: =ORÇAMENTO!J40 -> 336.243
B39: =ORÇAMENTO!A41 -> 5.3 | C39: =ORÇAMENTO!E41 -> Tubo Galvanizado sem costura | D39: =ORÇAMENTO!J41 -> 2790.4
B40: =ORÇAMENTO!A42 -> 5.4 | C40: =ORÇAMENTO!E42 -> Suporte de perfil metálico | D40: =ORÇAMENTO!J42 -> 348.9
A41: =ORÇAMENTO!A43 -> 6 | C41: =ORÇAMENTO!E43 -> Proteção de Talude | E41: =SUM(D42:D44)+0.01 -> 5357.528
B42: =ORÇAMENTO!A44 -> 6.1 | C42: =ORÇAMENTO!E44 -> Limpeza manual do terreno, inclusive troncos até 5 cm de diâmetro, com caminhão à disposição dentro da obra, até o raio de 1 km | D42: =ORÇAMENTO!J44 -> 863.6544
B43: =ORÇAMENTO!A45 -> 6.2 | C43: =ORÇAMENTO!E45 -> cpos-176D 34.01.010 Terra vegetal orgânica comum | D43: =ORÇAMENTO!J45 -> 2559.9708
...

Sheet Cronograma PLE
D1: Cronograma PLE
A4: Obra: | B4: Pavimentação da Rua 6
A5: Local: | B5: Rua 6 - Santa Helena - Amparo SP
A6: Operação | B6: =ORÇAMENTO!B6 -> 1061679-92 | C6: P + Brasil | D6: =ORÇAMENTO!E6 -> 878692 | F6: DATA BASE | H6: =ORÇAMENTO!H6 -> 44317
A8: Evento | C8: Título do Evento / Descrição do Serviço | D8: Total | E8: MÊS 1 | G8: MÊS 2 | I8: MÊS 3 | K8: MÊS 4 | M8: MÊS 5 | O8: MÊS 6
E9: part % | F9: valor | G9: part % | H9: valor | I9: part % | J9: valor | K9: part % | L9: valor | M9: part % | N9: valor | O9: part % | P9: valor | T9: 2283.3
A10: 1 | C10: =ORÇAMENTO!E11 -> Serviços Iniciais | D10: =Eventograma!E9 -> 6164.88 | E10: 1 | F10: =E10*D10 -> 6164.88 | T10: 2405.179
A11: 2 | C11: =Eventograma!C12 -> Drenagem | D11: =Eventograma!E12 -> 110862.14 | G11: 1 | H11: =G11*D11 -> 110862.14 | T11: 34838.966
A12: 3 | C12: =Eventograma!C24 -> Pavimentação | D12: =Eventograma!E24 -> 212755.69 | K12: 1 | L12: =K12*D12 -> 212755.69 | T12: 36782.723
A13: 4 | C13: =Eventograma!C31 -> Muro de Arrimo | D13: =Eventograma!E31 -> 66883.463 | I13: 1 | J13: =I13*D13 -> 66883.463 | T13: 36289.638
A14: 5 | C14: =Eventograma!C36 -> Sinalização | D14: =Eventograma!E36 -> 5282.4889 | M14: 1 | N14: =M14*D14 -> 5282.4889 | T14: 107759.31
A15: 6 | C15: =Eventograma!C41 -> Proteção de Talude | D15: =Eventograma!E41 -> 5357.528 | O15: 1 | P15: =D15 -> 5357.528 | T15: 4320.826
C17: TOTAL GERAL | D17: =SUM(D10:D15) -> 407306.19 | E17: =F17/$D$17 -> 0.015135739 | F17: =SUM(F10:F16) -> 6164.88 | G17: =H17/$D$17 -> 0.27218378 | H17: =SUM(H10:H16) -> 110862.14 | I17: =J17/$D$17 -> 0.1642093 | J17: =SUM(J10:J16) -> 66883.463 | K17: =L17/$D$17 -> 0.52234829 | L17: =SUM(L10:L16) -> 212755.69 | M17: =N17/$D$17 -> 0.012969331 | N17: =SUM(N10:N16) -> 5282.4889 | O17: =P17/$D$17 -> 0.013153564 | P17: =SUM(P10:P16) -> 5357.528
E18: =F18/$D$17 -> 0.015135739 | F18: =F17 -> 6164.88 | G18: =H18/$D$17 -> 0.28731952 | H18: =H17+F18 -> 117027.02 | I18: =J18/$D$17 -> 0.45152882 | J18: =J17+H18 -> 183910.48 | K18: =L18/$D$17 -> 0.9738771 | L18: =L17+J18 -> 396666.17 | M18: =N18/$D$17 -> 0.98684644 | N18: =N17+L18 -> 401948.66 | O18: =P18/$D$17 -> 1 | P18: =P17+N18 -> 407306.19
D23: Carlos Eduardo Mazzetto
D24: Eng. Civil SMDU
D25: CREA 5060363666
