Workbook

Sheet Geral
A6: PROCESSO LICITARIO | D6: PREGÃO PRESENCIAL Nº /2023 - PROC. ADM. Nº 1017/2023
A7: EMPRESA | D7: BASE PREFEITURA EDITAL TERMO DE REFERENCIA
A8: OBJETO | D8: AVALIAÇÃO DA PLANILHA DE CUSTO
A10: Discriminação dos Serviços (dados referentes à contratação)
A11: A | B11: Data de apresentação da proposta (dia/mês/ano) | H11: 0 | I11: =H11 -> 0 | J11: =I11 -> 0 | K11: =J11 -> 0 | L11: =K11 -> 0
A12: B | B12: Cidade da prestação dos serviços | H12: Amparo / SP | I12: =H12 -> Amparo / SP | J12: =I12 -> Amparo / SP | K12: =J12 -> Amparo / SP | L12: =K12 -> Amparo / SP
A13: C | B13: Ano Acordo, Convenção ou Sentença Normativa em Dissídio Coletivo | H13: 0 | I13: =H13 -> 0 | J13: =I13 -> 0 | K13: =J13 -> 0 | L13: =K13 -> 0
A14: D | B14: Nº de meses de execução contratual | H14: 12 | I14: 12 | J14: 12 | K14: 12 | L14: 12
A16: MÃO DE OBRA
A17: MÃO DE OBRA VINCULADA À EXECUÇÃO CONTRATUAL
A18: Dados complementares para composição dos custos referente à mão de obra | H18: =[1]Geral!$H$18 -> 44 HORAS SEMANAIS
A19: 1 | B19: Tipo de serviço (mesmo serviço com características distintas) | H19: =[1]Geral!$H$19 -> AUXILIAR DE LIMPEZA (DESCRIÇÃO NO EDITAL) | I19: =[1]Geral!$I$19 -> COPEIRA (DESCRIÇÃO NO EDITAL) | J19: =[1]Geral!$J$19 -> JARDINEIRA (DESCRIÇÃO NO EDITAL) | K19: =[1]Geral!$K$19 -> LIMPADOR DE VIDRO ( DESCRIÇÃO NO EDITAL) | L19: =[1]Geral!$L$19 -> ENCARREGADO (DESCRIÇÃO NO EDITAL)
A20: 2 | B20: Salário Normativo da Categoria Profissional | H20: 0 | I20: 0 | J20: 0 | K20: 0 | L20: 0
A21: 3 | B21: Categoria Profissional (vinculada à execução contratual) | H21: Aux. Limpeza | I21: Copeira | J21: jardineiro | K21: limpador de vidro | L21: encarregado
A22: 4 | B22: Data base da categoria (dia/mês/ano) | H22: =H13 -> 0 | I22: =I13 -> 0 | J22: =J13 -> 0 | K22: =K13 -> 0 | L22: =L13 -> 0
A23: 5 | B23: Salario minimo vigente no pais | H23: 1320 | I23: 1320 | J23: 1320 | K23: 1320 | L23: 1320
A24: MÓDULO 1: COMPOSIÇAO DA REMUNERAÇÃO
A25: 1 | B25: Composição da Remuneração | H25: Valor (R$) | I25: Valor (R$) | J25: Valor (R$) | K25: Valor (R$) | L25: Valor (R$)
A26: A | B26: Salário Base | H26: 0 | I26: 0 | J26: 0 | K26: 0 | L26: 0
A27: A' | B27: Tiquete Refeição (para empresas não inscritas no PAT)
A28: B | B28: Adicional de periculosidade | G28: 0.3 | H28: 0 | I28: 0 | J28: 0 | K28: 0 | L28: 0
A29: C | B29: Adicional de insalubridade | G29: 0 | H29: =$G$29*H23 -> 0 | I29: =$G$29*I23 -> 0 | J29: =$G$29*J23 -> 0 | K29: =$G$29*K23 -> 0 | L29: =$G$29*L23 -> 0
A30: D | B30: Adicional Noturno
A31: E | B31: Hora noturna adicional
A32: F | B32: Adicional de Hora Extra
A33: G | B33: Intervalo Intrajornada
A34: H | B34: Outros (especificar)
A35: Total da Remuneração | H35: =SUM(H26:H34) -> 0 | I35: =SUM(I26:I34) -> 0 | J35: =SUM(J26:J34) -> 0 | K35: =SUM(K26:K34) -> 0 | L35: =SUM(L26:L34) -> 0
A36: MÓDULO 2: BENEFÍCIOS MENSAIS E DIÁRIOS
A37: 2 | B37: Benefícios Mensais e Diários | H37: Valor (R$) | I37: Valor (R$) | J37: Valor (R$) | K37: Valor (R$) | L37: Valor (R$)
A38: A | B38: Transporte | H38: =Beneficios!I26 -> 0 | I38: =H38 -> 0 | J38: =I38 -> 0 | K38: =J38 -> 0 | L38: =K38 -> 0
A39: B | B39: Tíquete Refeição | H39: =Beneficios!I7 -> 0 | I39: =H39 -> 0 | J39: =I39 -> 0 | K39: =J39 -> 0 | L39: =K39 -> 0
A40: C | B40: Cesta Básica | H40: =Beneficios!I10 -> 0 | I40: =H40 -> 0 | J40: =I40 -> 0 | K40: =J40 -> 0 | L40: =K40 -> 0
A41: D | B41: =Beneficios!A12 -> Benefício Social Familiar | H41: =Beneficios!I13 -> 0 | I41: =H41 -> 0 | J41: =I41 -> 0 | K41: =J41 -> 0 | L41: =K41 -> 0
A42: E | B42: =Beneficios!A21 -> Assistência Médica | H42: =Beneficios!I22 -> 0 | I42: =H42 -> 0 | J42: =I42 -> 0 | K42: =J42 -> 0 | L42: =K42 -> 0
A43: F | B43: auxilio-creche | H43: =Beneficios!I19 -> 0 | I43: =H43 -> 0 | J43: =I43 -> 0 | K43: =J43 -> 0 | L43: =K43 -> 0
A44: G | B44: =Beneficios!A15 -> Benefício Natalidade | H44: =Beneficios!I16 -> 0 | I44: =H44 -> 0 | J44: =I44 -> 0 | K44: =J44 -> 0 | L44: =K44 -> 0
A45: H | B45: Outros (especificar) | H45: 0 | I45: =H45 -> 0 | J45: =I45 -> 0 | K45: =J45 -> 0 | L45: =K45 -> 0
A46: Total de Benefícios mensais e diários | H46: =SUM(H38:H45) -> 0 | I46: =SUM(I38:I45) -> 0 | J46: =SUM(J38:J45) -> 0 | K46: =SUM(K38:K45) -> 0 | L46: =SUM(L38:L45) -> 0
A47: MÓDULO 3: INSUMOS DIVERSOS
...

Sheet Beneficios
A2: BENEFÍCIOS
A5: BENEFÍCIOS LEGAIS ACORDADOS
A6: Tiquete Refeição | D6: DIAS | E6: VALOR UNITÁRIO | G6: EMPREGADO | I6: CUSTO TOTAL MENSAL
D7: 22 | E7: 0 | G7: 1 | I7: =D7*E7 -> 0
A9: Cesta Básica | E9: QUANTIDADE | G9: VALOR UNITÁRIO | I9: CUSTO TOTAL MENSAL
E10: 1 | G10: 0 | I10: =G10 -> 0
A12: Benefício Social Familiar | D12: QUANTIDADE | E12: VALOR UNITÁRIO | G12: EMPREGADO | I12: CUSTO TOTAL MENSAL
D13: 1 | E13: 0 | G13: 1 | I13: =E13*G13 -> 0
A15: Benefício Natalidade | D15: VALOR ANUAL | E15: VALOR MENSAL | G15: EMPREGADO | I15: CUSTO TOTAL MENSAL
D16: 0 | E16: 0 | G16: 1 | I16: =E16*G16 -> 0
A18: Auxílio Creche | D18: SALÁRIO MÍNIMO | E18: VALOR UNITÁRIO | G18: OCORRÊNCIA ANUAL % | I18: CUSTO TOTAL MENSAL
D19: 0 | E19: 0 | G19: 0.2 | I19: =E19/12 -> 0
A21: Assistência Médica | D21: MENSAL | E21: VALOR UNITÁRIO | G21: EMPREGADO | I21: CUSTO TOTAL MENSAL
D22: 1 | E22: 0 | G22: 0 | I22: =ROUND((E22-G22)*D22,2) -> 0
A24: VALE TRANSPORTE
A25: Contrato | B25: bilhete/dia | C25: nº dias/mês | D25: Valor tarifa | E25: Custo total | F25: Custo empregado | I25: Custo empresa
A26: Padrão 44h/sem SP | B26: 2 | C26: 22 | D26: 0 | E26: =ROUND(B26*C26*D26,2) -> 0 | F26: =Geral!H20*0.06 -> 0 | I26: =E26-F26 -> 0
A30: UNIFORME (SERVENTE, Limpador de vidros sem risco e com risco )
A31: Item | C31: Custo unitário | E31: Vida útil (meses) | G31: Quantidade | H31: Custo mensal
A32: Camisa | C32: 0 | E32: 6 | G32: 2 | H32: =C32*G32/E32 -> 0
A33: Calça | C33: 0 | E33: 6 | G33: 2 | H33: =C33*G33/E33 -> 0
A34: Crachá c/identif. Empresa | C34: 0 | E34: 12 | G34: 1 | H34: =C34*G34/E34 -> 0
A35: Sapato/Tênis | C35: 0 | E35: 12 | G35: 1 | H35: =C35*G35/E35 -> 0
A36: Bota | C36: 0 | E36: 12 | G36: 1 | H36: =C36*G36/E36 -> 0
A37: Custo total mensal: | H37: =SUM(H32:H36) -> 0

Sheet insumos
A2: 3 | B2: PRODUTOS DE HIGIENE - REFIL SABONETE GEL / PAPEL TOALHA / PAPEL HIGIÊNICO
C3: unidade de medida | D3: quantidade mês | E3: valor unitario | F3: valor mensal | G3: valor anual
A4: 3.1 | B4: Sabonete Gel Refil de 800ml | C4: UN x MÊS | D4: 138 | E4: 0 | F4: =ROUND(D4*E4,2) -> 0 | G4: =ROUND(F4*12,2) -> 0
A5: 3.2 | B5: Papel Toalha - Pacotes com 1.000 folhas | C5: PCT x MÊS | D5: 758 | E5: 0 | F5: =ROUND(D5*E5,2) -> 0 | G5: =ROUND(F5*12,2) -> 0
A6: 3.3 | B6: Papel Higiênico - Fardo com 8 Rolos com 300 metros | C6: FARDO x MÊS | D6: 67 | E6: 0 | F6: =ROUND(D6*E6,2) -> 0 | G6: =ROUND(F6*12,2) -> 0
A7: 3.4 | B7: SANEAMENTES DOMISSANITARIOS | C7: UNI | D7: 150 | E7: 0 | F7: =ROUND(D7*E7,2) -> 0 | G7: =ROUND(F7*12,2) -> 0
A8: 3.5 | B8: SACOS DE LIXOS | C8: UNI X MÊS | D8: 100 | E8: 0 | F8: =ROUND(D8*E8,2) -> 0 | G8: =ROUND(F8*12,2) -> 0
A9: 3.6 | B9: DISPENSER DE SABONETES LIQUIDOS | C9: UNIX MÊS | D9: 50 | E9: 0 | F9: =ROUND(D9*E9,2) -> 0 | G9: =ROUND(F9*12,2) -> 0
A10: 3.7 | B10: PEDRAS DESIFETANTE | C10: UNI X MÊS | D10: 30 | E10: 0 | F10: =ROUND(D10*E10,2) -> 0 | G10: =ROUND(F10*12,2) -> 0
F11: =F4+F5+F6+F7+F8+F9+F10 -> 0
F12: =Geral!H140+Geral!I140+Geral!J140+Geral!K140 -> 23
F13: =F11/F12 -> 0

Sheet EPIS
A2: 4 | B2: EPIs
C3: unidade de medida | D3: quantidade mês | E3: Vida útil (meses) | G3: valor unitario | H3: valor mensal | I3: valor anual
A4: 4.1 | B4: luva de proteção indivudual | C4: UNI | D4: 22 | E4: 1 | G4: 0 | H4: =D4*G4 -> 0 | I4: =H4*12 -> 0
A5: 4.2 | B5: oculos de proteção indiviadual | C5: UNI | D5: 1 | E5: 6 | G5: 0 | H5: =(D5/E5)*G5 -> 0 | I5: =H5*12 -> 0
A6: 4.3 | B6: mascara de proteção individual | C6: UNI | D6: 22 | E6: 1 | G6: 0 | H6: =D6*G6 -> 0 | I6: =H6*12 -> 0
H7: =H4+H5+H6 -> 0 | I7: =I4+I5+I6 -> 0

Sheet UNIDADES
A3: ITEM | B3: DESCRIÇÃO | C3: TURNO | D3: UNIDADE | E3: TOTAL DA ÁREA DOS LOCAIS M2 / QUANTITATIVO DE FORNECIMENTO / LOCAIS / CAPACIDADE | F3: VALORES
F4: Unitário | G4: Mensal | H4: Total para 12 meses
A5: 1 | B5: PAÇO MUNICIPAL
A6: 1.1 | B6: Áreas Internas - Pisos Frios | C6: 1 TURNO: 06:00 ATÉ 14:00 HS 2 TURNO: 09:00 ATE 17:00 HS 3 TURNO:14:00 ATÉ AS 22:00 HS | D6: M2 | E6: 4897 | F6: =$F$94 -> 0 | G6: =ROUND(E6*F6,2) -> 0 | H6: =ROUND(G6*12,2) -> 0
A7: 1.2 | B7: com espaços livres - saguão /hall/salão | D7: M2 | E7: 0 | F7: =$F$94 -> 0 | G7: =ROUND(E7*F7,2) -> 0 | H7: =ROUND(G7*12,2) -> 0
A8: 1.3 | B8: Sanitários de uso público ou coletivo de grande circulação | D8: M2 | E8: 106 | F8: =$F$94 -> 0 | G8: =ROUND(E8*F8,2) -> 0 | H8: =ROUND(G8*12,2) -> 0
A9: 1.4 | B9: Pisos pavimentados adjacentes/contíguos às edificações | D9: M2 | E9: 3587 | F9: =$F$94 -> 0 | G9: =ROUND(E9*F9,2) -> 0 | H9: =ROUND(G9*12,2) -> 0
A10: 1.5 | B10: Varrição de passeios e arruamentos | D10: M2 | E10: 4195 | F10: =$F$94 -> 0 | G10: =ROUND(E10*F10,2) -> 0 | H10: =ROUND(G10*12,2) -> 0
A11: 1.6 | B11: Frequência semestral (COM exposição à situação de risco) | D11: M2 | E11: 0 | F11: =$F$94 -> 0 | G11: =ROUND(E11*F11,2) -> 0 | H11: =ROUND(G11*12,2) -> 0
E12: =E6+E7+E8+E9+E10+E11 -> 12785 | G12: =SUM(G6:G11) -> 0 | H12: =SUM(H6:H11) -> 0
A13: 2 | B13: FUNDO SOCIAL DE SOLIDARIDADE
A14: 2.1 | B14: Áreas Internas - Pisos Frios | C14: 07:00 ATÉ 15:00 HS | D14: M2 | E14: 775 | F14: =F6 -> 0 | G14: =ROUND(E14*F14,2) -> 0 | H14: =ROUND(G14*12,2) -> 0
A15: 2.2 | B15: com espaços livres - saguão /hall/salão | D15: M2 | E15: 0 | F15: =F11 -> 0 | G15: =ROUND(E15*F15,2) -> 0 | H15: =ROUND(G15*12,2) -> 0
A16: 2.3 | B16: Sanitários de uso público ou coletivo de grande circulação | D16: M2 | E16: 37 | F16: =F11 -> 0 | G16: =ROUND(E16*F16,2) -> 0 | H16: =ROUND(G16*12,2) -> 0
A17: 2.4 | B17: Pisos pavimentados adjacentes/contíguos às edificações | D17: M2 | E17: 2210 | F17: =F11 -> 0 | G17: =ROUND(E17*F17,2) -> 0 | H17: =ROUND(G17*12,2) -> 0
A18: 2.5 | B18: Varrição de passeios e arruamentos | D18: M2 | E18: 1300 | F18: =F11 -> 0 | G18: =ROUND(E18*F18,2) -> 0 | H18: =ROUND(G18*12,2) -> 0
A19: 2.6 | B19: Frequência semestral (COM exposição à situação de risco) | D19: M2 | E19: 0 | F19: =F11 -> 0 | G19: =ROUND(E19*F19,2) -> 0 | H19: =ROUND(G19*12,2) -> 0
E20: =SUM(E14:E19) -> 4322 | G20: =SUM(G14:G19) -> 0 | H20: =SUM(H14:H19) -> 0
A21: 3 | B21: SECRETARIA MUNICIPAL DE INFRAESTRUTURA E SERVIÇOS
A22: 3.1 | B22: Áreas Internas - Pisos Frios | C22: 06:ATÉ 14:00 HS | D22: M2 | E22: 680 | F22: =F6 -> 0 | G22: =ROUND(E22*F22,2) -> 0 | H22: =ROUND(G22*12,2) -> 0
A23: 3.2 | B23: com espaços livres - saguão /hall/salão | D23: M2 | E23: 0 | F23: =F6 -> 0 | G23: =ROUND(E23*F23,2) -> 0 | H23: =ROUND(G23*12,2) -> 0
A24: 3.3 | B24: Sanitários de uso público ou coletivo de grande circulação | D24: M2 | E24: 15 | F24: =F6 -> 0 | G24: =ROUND(E24*F24,2) -> 0 | H24: =ROUND(G24*12,2) -> 0
A25: 3.4 | B25: Pisos pavimentados adjacentes/contíguos às edificações | D25: M2 | E25: 5480 | F25: =F6 -> 0 | G25: =ROUND(E25*F25,2) -> 0 | H25: =ROUND(G25*12,2) -> 0
A26: 3.5 | B26: Varrição de passeios e arruamentos | D26: M2 | E26: 1000 | F26: =F6 -> 0 | G26: =ROUND(E26*F26,2) -> 0 | H26: =ROUND(G26*12,2) -> 0
A27: 3.6 | B27: Frequência semestral (COM exposição à situação de risco) | D27: M2 | E27: 0 | F27: =F6 -> 0 | G27: =ROUND(E27*F27,2) -> 0 | H27: =ROUND(G27*12,2) -> 0
E28: =SUM(E22:E27) -> 7175 | G28: =SUM(G22:G27) -> 0 | H28: =SUM(H22:H27) -> 0
A29: 4 | B29: CENTRO DE REFERENCIAS DE ASSISTENCIA SOCIAL - CRAS I | C29: OBS: no momento está locado no espaço do centro de formação
A30: 4.1 | B30: Áreas Internas - Pisos Frios | C30: 7:00 ATÉ 15:00 HS | D30: M2 | E30: 290 | F30: =F22 -> 0 | G30: =ROUND(E30*F30,2) -> 0 | H30: =ROUND(G30*12,2) -> 0
A31: 4.2 | B31: com espaços livres - saguão /hall/salão | D31: M2 | E31: 0 | F31: =F22 -> 0 | G31: =ROUND(E31*F31,2) -> 0 | H31: =ROUND(G31*12,2) -> 0
A32: 4.3 | B32: Sanitários de uso público ou coletivo de grande circulação | D32: M2 | E32: 18 | F32: =F22 -> 0 | G32: =ROUND(E32*F32,2) -> 0 | H32: =ROUND(G32*12,2) -> 0
A33: 4.4 | B33: Pisos pavimentados adjacentes/contíguos às edificações | D33: M2 | E33: 350 | F33: =F22 -> 0 | G33: =ROUND(E33*F33,2) -> 0 | H33: =ROUND(G33*12,2) -> 0
A34: 4.5 | B34: Varrição de passeios e arruamentos | D34: M2 | E34: 1200 | F34: =F31 -> 0 | G34: =ROUND(E34*F34,2) -> 0 | H34: =ROUND(G34*12,2) -> 0
A35: 4.6 | B35: Frequência semestral (COM exposição à situação de risco) | D35: M2 | E35: 0 | F35: =F32 -> 0 | G35: =ROUND(E35*F35,2) -> 0 | H35: =ROUND(G35*12,2) -> 0
E36: =SUM(E30:E35) -> 1858 | G36: =SUM(G30:G35) -> 0 | H36: =SUM(H30:H35) -> 0
A37: 5 | B37: CENTRO DIA IDOSO
A38: 5.1 | B38: Áreas Internas - Pisos Frios | C38: =C30 -> 7:00 ATÉ 15:00 HS | D38: M2 | E38: 430 | F38: =F35 -> 0 | G38: =ROUND(E38*F38,2) -> 0 | H38: =ROUND(G38*12,2) -> 0
A39: 5.2 | B39: com espaços livres - saguão /hall/salão | D39: M2 | E39: 0 | F39: =F35 -> 0 | G39: =ROUND(E39*F39,2) -> 0 | H39: =ROUND(G39*12,2) -> 0
A40: 5.3 | B40: Sanitários de uso público ou coletivo de grande circulação | D40: M2 | E40: 25 | F40: =F35 -> 0 | G40: =ROUND(E40*F40,2) -> 0 | H40: =ROUND(G40*12,2) -> 0
A41: 5.4 | B41: Pisos pavimentados adjacentes/contíguos às edificações | D41: M2 | E41: 960 | F41: =F35 -> 0 | G41: =ROUND(E41*F41,2) -> 0 | H41: =ROUND(G41*12,2) -> 0
A42: 5.5 | B42: Varrição de passeios e arruamentos | D42: M2 | E42: 2207 | F42: =F35 -> 0 | G42: =ROUND(E42*F42,2) -> 0 | H42: =ROUND(G42*12,2) -> 0
...
