Workbook
Name _xlfn_SINGLE: NA()
Name Comp_export: 'COMP CAIXA'!$K$10
Name Comp_LP_Banco: 'COMP CAIXA'!$B$5:$H$5
Name Comp_LP_Comp: 'COMP CAIXA'!$7:$9
Name Comp_LP_Ins: 'COMP CAIXA'!$8:$8
Name CONCATENAR: CONCATENATE('COMP CAIXA'!$B1," ",'COMP CAIXA'!$C1)
Name CONCATENAR: CONCATENATE('COTAÇÃO F'!$B1," ",'COTAÇÃO F'!$C1)
Name CONCATENAR: CONCATENATE([1]Banco!$B1," ",[1]Banco!$C1)
Name Cot_LP_Banco: 'COTAÇÃO F'!$6:$6
Name Cot_LP_Cot: 'COTAÇÃO F'!$12:$17
Name Cot_LP_Cotacao: 'COTAÇÃO F'!$15:$15
Name Cot_LP_Empresa: 'COTAÇÃO F'!$10:$10
Name Cot_LP_Indice: 'COTAÇÃO F'!$8:$8
Name EMPRESAS: OFFSET([1]Cotações!$B$25,1,0):OFFSET([1]Cotações!$H$30,-1,0)
Name EMPRESAS: OFFSET('COTAÇÃO F'!$B$25,1,0):OFFSET('COTAÇÃO F'!$H$30,-1,0)
Name Excel_BuiltIn__FilterDatabase_1: #REF!
Name Excel_BuiltIn__FilterDatabase_2: #REF!
Name Excel_BuiltIn_Print_Area_1: #REF!
Name Excel_BuiltIn_Print_Area_2: #REF!
Name Excel_BuiltIn_Print_Area_2_1: #REF!
Name Excel_BuiltIn_Print_Titles_1: #REF!
Name FiltroComp: 'COMP CAIXA'!$M$10:$M$193
Name FiltroCot: 'COTAÇÃO F'!$L$18:$L$262
Name INDICES: OFFSET([1]Cotações!$B$20,1,0):OFFSET([1]Cotações!$I$24,-1,0)
Name INDICES: OFFSET('COTAÇÃO F'!$B$20,1,0):OFFSET('COTAÇÃO F'!$I$24,-1,0)
Name LINKBANCO: HYPERLINK("#SINAPI!B"&MATCH([1]Relatórios!$A1&" - "&[1]Relatórios!$F1,'COMP CAIXA'!$K:$K,0),"LINK")
Name LINKBANCO: HYPERLINK("#SINAPI!B"&MATCH([1]Relatórios!$A2&" - "&[1]Relatórios!$F2,#REF!,0),"LINK")
Name NCOMPOSICOES: 15
Name NCOTACOES: 25
Name NEMPRESAS: 4
Name NINDICES: 3
Name NRELATORIOS: COUNTA([1]Relatórios!$A:$A)-2
Name NumerEmpresa: 15
Name NumerIndice: 3
Name Objeto: "Referência"
Name RelatoriosFontes: OFFSET([1]Relatórios!$A$5,1,0,NRELATORIOS)
Name RelatoriosFontes: OFFSET([1]Relatórios!$A$5,1,0,NRELATORIOS)
Name SENHAGT: "PM2CAIXA"

Sheet BOLETIM 187
C1: COMPANHIA DE DESENVOLVIMENTO HABITACIONAL E URBANO
A2: DO ESTADO DE SÃO PAULO
A3: BOLETIM REFERENCIAL DE CUSTOS - TABELA DE SERVIÇOS
A4: COM DESONERAÇÃO
G5: Versão 187
F6: Data Base: | G6: AGOSTO/22
D7: BDI : | E7: 0 | F7: L.S.: | G7: 0.9778
A8: Referência | C8: Descrição | D8: Un | E8: Material | F8: Mão de Obra | G8: Custo Total
A9: 01 | C9: SERVICO TECNICO ESPECIALIZADO | H9: 2
A10: 01.02 | C10: Parecer técnico | H10: 5
A11: 01.02.071 | C11: Parecer técnico de fundações, contenções e recomendações gerais, para empreendimentos com área construída até 1.000 m² | D11: UN | F11: 5388.88 | G11: 5388.88 | H11: 9
A12: 01.02.081 | C12: Parecer técnico de fundações, contenções e recomendações gerais, para empreendimentos com área construída de 1.001 a 2.000 m² | D12: UN | F12: 7166.17 | G12: 7166.17 | H12: 9
A13: 01.02.091 | C13: Parecer técnico de fundações, contenções e recomendações gerais, para empreendimentos com área construída de 2.001 a 5.000 m² | D13: UN | F13: 12241.41 | G13: 12241.41 | H13: 9
A14: 01.02.101 | C14: Parecer técnico de fundações, contenções e recomendações gerais, para empreendimentos com área construída de 5.001 a 10.000 m² | D14: UN | F14: 16784.41 | G14: 16784.41 | H14: 9
A15: 01.02.111 | C15: Parecer técnico de fundações, contenções e recomendações gerais, para empreendimentos com área construída acima de 10.000 m² | D15: UN | F15: 19559.64 | G15: 19559.64 | H15: 9
A16: 01.06 | C16: Projeto de instalações elétricas | H16: 5
A17: 01.06.021 | C17: Elaboração de projeto de adequação de entrada de energia elétrica junto a concessionária, com medição em baixa tensão e demanda até 75 kVA | D17: UN | F17: 6882.8 | G17: 6882.8 | H17: 9
A18: 01.06.031 | C18: Elaboração de projeto de adequação de entrada de energia elétrica junto a concessionária, com medição em média tensão, subestação simplificada e demanda de 75 kVA a 300 kVA | D18: UN | F18: 11658.08 | G18: 11658.08 | H18: 9
A19: 01.06.032 | C19: Elaboração de projeto de adequação de entrada de energia elétrica junto a concessionária, com medição em média tensão e demanda de 75 kVA a 300 kVA | D19: UN | F19: 15775.6 | G19: 15775.6 | H19: 9
A20: 01.06.041 | C20: Elaboração de projeto de adequação de entrada de energia elétrica junto a concessionária, com medição em média tensão e demanda acima de 300 kVA a 2 MVA | D20: UN | F20: 20983.4 | G20: 20983.4 | H20: 9
A21: 01.17 | C21: Projeto executivo | H21: 5
A22: 01.17.031 | C22: Projeto executivo de arquitetura em formato A1 | D22: UN | F22: 2711.35 | G22: 2711.35 | H22: 9
A23: 01.17.041 | C23: Projeto executivo de arquitetura em formato A0 | D23: UN | F23: 3665.44 | G23: 3665.44 | H23: 9
A24: 01.17.051 | C24: Projeto executivo de estrutura em formato A1 | D24: UN | F24: 1988.49 | G24: 1988.49 | H24: 9
A25: 01.17.061 | C25: Projeto executivo de estrutura em formato A0 | D25: UN | F25: 2720.63 | G25: 2720.63 | H25: 9
A26: 01.17.071 | C26: Projeto executivo de instalações hidráulicas em formato A1 | D26: UN | F26: 853.67 | G26: 853.67 | H26: 9
A27: 01.17.081 | C27: Projeto executivo de instalações hidráulicas em formato A0 | D27: UN | F27: 1136.33 | G27: 1136.33 | H27: 9
A28: 01.17.111 | C28: Projeto executivo de instalações elétricas em formato A1 | D28: UN | F28: 947.94 | G28: 947.94 | H28: 9
A29: 01.17.121 | C29: Projeto executivo de instalações elétricas em formato A0 | D29: UN | F29: 1314.36 | G29: 1314.36 | H29: 9
A30: 01.17.151 | C30: Projeto executivo de climatização em formato A1 | D30: UN | F30: 1824.62 | G30: 1824.62 | H30: 9
A31: 01.17.161 | C31: Projeto executivo de climatização em formato A0 | D31: UN | F31: 2487.16 | G31: 2487.16 | H31: 9
A32: 01.17.171 | C32: Projeto executivo de chuveiros automáticos em formato A1 | D32: UN | F32: 1575.18 | G32: 1575.18 | H32: 9
A33: 01.17.181 | C33: Projeto executivo de chuveiros automáticos em formato A0 | D33: UN | F33: 2035.97 | G33: 2035.97 | H33: 9
A34: 01.20 | C34: Levantamento topográfico e geofísico | H34: 5
A35: 01.20.010 | C35: Taxa de mobilização e desmobilização de equipamentos para execução de levantamento topográfico | D35: TX | E35: 1217.58 | G35: 1217.58 | H35: 9
A36: 01.20.280 | C36: Levantamento planimétrico de área pavimentada para veículo e pedestre | D36: M2 | E36: 0.05 | F36: 0.13 | G36: 0.18 | H36: 9
A37: 01.20.691 | C37: Levantamento planimétrico cadastral com áreas ocupadas predominantemente por comunidades - área até 20.000 m² (mínimo de 3.500 m²) | D37: M2 | E37: 0.51 | F37: 0.44 | G37: 0.95 | H37: 9
A38: 01.20.701 | C38: Levantamento planimétrico cadastral com áreas ocupadas predominantemente por comunidades - área acima de 20.000 m² até 200.000 m² | D38: M2 | E38: 0.39 | F38: 0.35 | G38: 0.74 | H38: 9
A39: 01.20.711 | C39: Levantamento planimétrico cadastral com áreas ocupadas predominantemente por comunidades - área acima de 200.000 m² | D39: M2 | E39: 0.33 | F39: 0.28 | G39: 0.61 | H39: 9
A40: 01.20.721 | C40: Levantamento planimétrico cadastral com áreas até 50% de ocupação - área até 20.000 m² (mínimo de 3.500 m²) | D40: M2 | E40: 0.44 | F40: 0.38 | G40: 0.82 | H40: 9
...

Sheet BOLETIM 189
C1: COMPANHIA DE DESENVOLVIMENTO HABITACIONAL E URBANO
A2: DO ESTADO DE SÃO PAULO
A3: BOLETIM REFERENCIAL DE CUSTOS - TABELA DE SERVIÇOS
A4: COM DESONERAÇÃO
G5: Versão 189
F6: Data Base: | G6: FEVEREIRO/23
D7: BDI : | E7: 0 | F7: L.S.: | G7: 0.9778
A8: Referência | C8: Descrição | D8: Un | E8: Material | F8: Mão de Obra | G8: Custo Total
A9: 01 | C9: SERVICO TECNICO ESPECIALIZADO | H9: 2
A10: 01.02 | C10: Parecer técnico | H10: 5
A11: 01.02.071 | C11: Parecer técnico de fundações, contenções e recomendações gerais, para empreendimentos com área construída até 1.000 m² | D11: UN | F11: 5388.88 | G11: 5388.88 | H11: 9
A12: 01.02.081 | C12: Parecer técnico de fundações, contenções e recomendações gerais, para empreendimentos com área construída de 1.001 a 2.000 m² | D12: UN | F12: 7166.17 | G12: 7166.17 | H12: 9
A13: 01.02.091 | C13: Parecer técnico de fundações, contenções e recomendações gerais, para empreendimentos com área construída de 2.001 a 5.000 m² | D13: UN | F13: 12241.41 | G13: 12241.41 | H13: 9
A14: 01.02.101 | C14: Parecer técnico de fundações, contenções e recomendações gerais, para empreendimentos com área construída de 5.001 a 10.000 m² | D14: UN | F14: 16784.41 | G14: 16784.41 | H14: 9
A15: 01.02.111 | C15: Parecer técnico de fundações, contenções e recomendações gerais, para empreendimentos com área construída acima de 10.000 m² | D15: UN | F15: 19559.64 | G15: 19559.64 | H15: 9
A16: 01.06 | C16: Projeto de instalações elétricas | H16: 5
A17: 01.06.021 | C17: Elaboração de projeto de adequação de entrada de energia elétrica junto a concessionária, com medição em baixa tensão e demanda até 75 kVA | D17: UN | F17: 6882.8 | G17: 6882.8 | H17: 9
A18: 01.06.031 | C18: Elaboração de projeto de adequação de entrada de energia elétrica junto a concessionária, com medição em média tensão, subestação simplificada e demanda de 75 kVA a 300 kVA | D18: UN | F18: 11658.08 | G18: 11658.08 | H18: 9
A19: 01.06.032 | C19: Elaboração de projeto de adequação de entrada de energia elétrica junto a concessionária, com medição em média tensão e demanda de 75 kVA a 300 kVA | D19: UN | F19: 15775.6 | G19: 15775.6 | H19: 9
A20: 01.06.041 | C20: Elaboração de projeto de adequação de entrada de energia elétrica junto a concessionária, com medição em média tensão e demanda acima de 300 kVA a 2 MVA | D20: UN | F20: 20983.4 | G20: 20983.4 | H20: 9
A21: 01.17 | C21: Projeto executivo | H21: 5
A22: 01.17.031 | C22: Projeto executivo de arquitetura em formato A1 | D22: UN | F22: 2711.35 | G22: 2711.35 | H22: 9
A23: 01.17.041 | C23: Projeto executivo de arquitetura em formato A0 | D23: UN | F23: 3665.44 | G23: 3665.44 | H23: 9
A24: 01.17.051 | C24: Projeto executivo de estrutura em formato A1 | D24: UN | F24: 1988.49 | G24: 1988.49 | H24: 9
A25: 01.17.061 | C25: Projeto executivo de estrutura em formato A0 | D25: UN | F25: 2720.63 | G25: 2720.63 | H25: 9
A26: 01.17.071 | C26: Projeto executivo de instalações hidráulicas em formato A1 | D26: UN | F26: 853.67 | G26: 853.67 | H26: 9
A27: 01.17.081 | C27: Projeto executivo de instalações hidráulicas em formato A0 | D27: UN | F27: 1136.33 | G27: 1136.33 | H27: 9
A28: 01.17.111 | C28: Projeto executivo de instalações elétricas em formato A1 | D28: UN | F28: 947.94 | G28: 947.94 | H28: 9
A29: 01.17.121 | C29: Projeto executivo de instalações elétricas em formato A0 | D29: UN | F29: 1314.36 | G29: 1314.36 | H29: 9
A30: 01.17.151 | C30: Projeto executivo de climatização em formato A1 | D30: UN | F30: 1824.62 | G30: 1824.62 | H30: 9
A31: 01.17.161 | C31: Projeto executivo de climatização em formato A0 | D31: UN | F31: 2487.16 | G31: 2487.16 | H31: 9
A32: 01.17.171 | C32: Projeto executivo de chuveiros automáticos em formato A1 | D32: UN | F32: 1575.18 | G32: 1575.18 | H32: 9
A33: 01.17.181 | C33: Projeto executivo de chuveiros automáticos em formato A0 | D33: UN | F33: 2035.97 | G33: 2035.97 | H33: 9
A34: 01.20 | C34: Levantamento topográfico e geofísico | H34: 5
A35: 01.20.010 | C35: Taxa de mobilização e desmobilização de equipamentos para execução de levantamento topográfico | D35: TX | E35: 1286.17 | G35: 1286.17 | H35: 9
A36: 01.20.280 | C36: Levantamento planimétrico de área pavimentada para veículo e pedestre | D36: M2 | E36: 0.04 | F36: 0.13 | G36: 0.17 | H36: 9
A37: 01.20.691 | C37: Levantamento planimétrico cadastral com áreas ocupadas predominantemente por comunidades - área até 20.000 m² (mínimo de 3.500 m²) | D37: M2 | E37: 0.38 | F37: 0.44 | G37: 0.82 | H37: 9
A38: 01.20.701 | C38: Levantamento planimétrico cadastral com áreas ocupadas predominantemente por comunidades - área acima de 20.000 m² até 200.000 m² | D38: M2 | E38: 0.3 | F38: 0.35 | G38: 0.65 | H38: 9
A39: 01.20.711 | C39: Levantamento planimétrico cadastral com áreas ocupadas predominantemente por comunidades - área acima de 200.000 m² | D39: M2 | E39: 0.25 | F39: 0.28 | G39: 0.53 | H39: 9
A40: 01.20.721 | C40: Levantamento planimétrico cadastral com áreas até 50% de ocupação - área até 20.000 m² (mínimo de 3.500 m²) | D40: M2 | E40: 0.34 | F40: 0.38 | G40: 0.72 | H40: 9
...

Sheet BOLETIM 190
C1: COMPANHIA DE DESENVOLVIMENTO HABITACIONAL E URBANO
A2: DO ESTADO DE SÃO PAULO
A3: BOLETIM REFERENCIAL DE CUSTOS - TABELA DE SERVIÇOS
A4: COM DESONERAÇÃO
G5: Versão 190
F6: Data Base: | G6: MAIO/23
D7: BDI : | E7: 0 | F7: L.S.: | G7: 0.9778
A8: Referência | C8: Descrição | D8: Un | E8: Material | F8: Mão de Obra | G8: Custo Total
A9: 01 | C9: SERVICO TECNICO ESPECIALIZADO | H9: 2
A10: 01.02 | C10: Parecer técnico | H10: 5
A11: 01.02.071 | C11: Parecer técnico de fundações, contenções e recomendações gerais, para empreendimentos com área construída até 1.000 m² | D11: UN | F11: 5636.66 | G11: 5636.66 | H11: 9
A12: 01.02.081 | C12: Parecer técnico de fundações, contenções e recomendações gerais, para empreendimentos com área construída de 1.001 a 2.000 m² | D12: UN | F12: 7495.66 | G12: 7495.66 | H12: 9
A13: 01.02.091 | C13: Parecer técnico de fundações, contenções e recomendações gerais, para empreendimentos com área construída de 2.001 a 5.000 m² | D13: UN | F13: 12804.27 | G13: 12804.27 | H13: 9
A14: 01.02.101 | C14: Parecer técnico de fundações, contenções e recomendações gerais, para empreendimentos com área construída de 5.001 a 10.000 m² | D14: UN | F14: 17556.16 | G14: 17556.16 | H14: 9
A15: 01.02.111 | C15: Parecer técnico de fundações, contenções e recomendações gerais, para empreendimentos com área construída acima de 10.000 m² | D15: UN | F15: 20458.99 | G15: 20458.99 | H15: 9
A16: 01.06 | C16: Projeto de instalações elétricas | H16: 5
A17: 01.06.021 | C17: Elaboração de projeto de adequação de entrada de energia elétrica junto a concessionária, com medição em baixa tensão e demanda até 75 kVA | D17: UN | F17: 7199.56 | G17: 7199.56 | H17: 9
A18: 01.06.031 | C18: Elaboração de projeto de adequação de entrada de energia elétrica junto a concessionária, com medição em média tensão, subestação simplificada e demanda de 75 kVA a 300 kVA | D18: UN | F18: 12194.64 | G18: 12194.64 | H18: 9
A19: 01.06.032 | C19: Elaboração de projeto de adequação de entrada de energia elétrica junto a concessionária, com medição em média tensão e demanda de 75 kVA a 300 kVA | D19: UN | F19: 16501.64 | G19: 16501.64 | H19: 9
A20: 01.06.041 | C20: Elaboração de projeto de adequação de entrada de energia elétrica junto a concessionária, com medição em média tensão e demanda acima de 300 kVA a 2 MVA | D20: UN | F20: 21949.1 | G20: 21949.1 | H20: 9
A21: 01.17 | C21: Projeto executivo | H21: 5
A22: 01.17.031 | C22: Projeto executivo de arquitetura em formato A1 | D22: UN | F22: 2836.01 | G22: 2836.01 | H22: 9
A23: 01.17.041 | C23: Projeto executivo de arquitetura em formato A0 | D23: UN | F23: 3833.98 | G23: 3833.98 | H23: 9
A24: 01.17.051 | C24: Projeto executivo de estrutura em formato A1 | D24: UN | F24: 2079.88 | G24: 2079.88 | H24: 9
A25: 01.17.061 | C25: Projeto executivo de estrutura em formato A0 | D25: UN | F25: 2845.66 | G25: 2845.66 | H25: 9
A26: 01.17.071 | C26: Projeto executivo de instalações hidráulicas em formato A1 | D26: UN | F26: 892.89 | G26: 892.89 | H26: 9
A27: 01.17.081 | C27: Projeto executivo de instalações hidráulicas em formato A0 | D27: UN | F27: 1188.55 | G27: 1188.55 | H27: 9
A28: 01.17.111 | C28: Projeto executivo de instalações elétricas em formato A1 | D28: UN | F28: 991.52 | G28: 991.52 | H28: 9
A29: 01.17.121 | C29: Projeto executivo de instalações elétricas em formato A0 | D29: UN | F29: 1374.79 | G29: 1374.79 | H29: 9
A30: 01.17.151 | C30: Projeto executivo de climatização em formato A1 | D30: UN | F30: 1908.51 | G30: 1908.51 | H30: 9
A31: 01.17.161 | C31: Projeto executivo de climatização em formato A0 | D31: UN | F31: 2601.48 | G31: 2601.48 | H31: 9
A32: 01.17.171 | C32: Projeto executivo de chuveiros automáticos em formato A1 | D32: UN | F32: 1647.55 | G32: 1647.55 | H32: 9
A33: 01.17.181 | C33: Projeto executivo de chuveiros automáticos em formato A0 | D33: UN | F33: 2129.53 | G33: 2129.53 | H33: 9
A34: 01.20 | C34: Levantamento topográfico e geofísico | H34: 5
A35: 01.20.010 | C35: Taxa de mobilização e desmobilização de equipamentos para execução de levantamento topográfico | D35: TX | E35: 1215.48 | G35: 1215.48 | H35: 9
A36: 01.20.280 | C36: Levantamento planimétrico de área pavimentada para veículo e pedestre | D36: M2 | E36: 0.04 | F36: 0.13 | G36: 0.17 | H36: 9
A37: 01.20.691 | C37: Levantamento planimétrico cadastral com áreas ocupadas predominantemente por comunidades - área até 20.000 m² (mínimo de 3.500 m²) | D37: M2 | E37: 0.39 | F37: 0.46 | G37: 0.85 | H37: 9
A38: 01.20.701 | C38: Levantamento planimétrico cadastral com áreas ocupadas predominantemente por comunidades - área acima de 20.000 m² até 200.000 m² | D38: M2 | E38: 0.3 | F38: 0.35 | G38: 0.65 | H38: 9
A39: 01.20.711 | C39: Levantamento planimétrico cadastral com áreas ocupadas predominantemente por comunidades - área acima de 200.000 m² | D39: M2 | E39: 0.25 | F39: 0.29 | G39: 0.54 | H39: 9
A40: 01.20.721 | C40: Levantamento planimétrico cadastral com áreas até 50% de ocupação - área até 20.000 m² (mínimo de 3.500 m²) | D40: M2 | E40: 0.34 | F40: 0.4 | G40: 0.74 | H40: 9
...

Sheet BOLETIM 191
C1: COMPANHIA DE DESENVOLVIMENTO HABITACIONAL E URBANO
A2: DO ESTADO DE SÃO PAULO
A3: BOLETIM REFERENCIAL DE CUSTOS - TABELA DE SERVIÇOS
A4: COM DESONERAÇÃO
G5: Versão 191
F6: Data Base: | G6: AGOSTO/23
D7: BDI : | E7: 0 | F7: L.S.: | G7: 0.9778
A8: Referência | C8: Descrição | D8: Un | E8: Material | F8: Mão de Obra | G8: Custo Total
A9: 01 | C9: SERVICO TECNICO ESPECIALIZADO | H9: =LEN(A9) -> 2
A10: 01.02 | C10: Parecer técnico | H10: =LEN(A10) -> 5
A11: 01.02.071 | C11: Parecer técnico de fundações, contenções e recomendações gerais, para empreendimentos com área construída até 1.000 m² | D11: UN | F11: 5636.66 | G11: 5636.66 | H11: =LEN(A11) -> 9
A12: 01.02.081 | C12: Parecer técnico de fundações, contenções e recomendações gerais, para empreendimentos com área construída de 1.001 a 2.000 m² | D12: UN | F12: 7495.66 | G12: 7495.66 | H12: =LEN(A12) -> 9
A13: 01.02.091 | C13: Parecer técnico de fundações, contenções e recomendações gerais, para empreendimentos com área construída de 2.001 a 5.000 m² | D13: UN | F13: 12804.27 | G13: 12804.27 | H13: =LEN(A13) -> 9
A14: 01.02.101 | C14: Parecer técnico de fundações, contenções e recomendações gerais, para empreendimentos com área construída de 5.001 a 10.000 m² | D14: UN | F14: 17556.16 | G14: 17556.16 | H14: =LEN(A14) -> 9
A15: 01.02.111 | C15: Parecer técnico de fundações, contenções e recomendações gerais, para empreendimentos com área construída acima de 10.000 m² | D15: UN | F15: 20458.99 | G15: 20458.99 | H15: =LEN(A15) -> 9
A16: 01.06 | C16: Projeto de instalações elétricas | H16: =LEN(A16) -> 5
A17: 01.06.021 | C17: Elaboração de projeto de adequação de entrada de energia elétrica junto a concessionária, com medição em baixa tensão e demanda até 75 kVA | D17: UN | F17: 7199.56 | G17: 7199.56 | H17: =LEN(A17) -> 9
A18: 01.06.031 | C18: Elaboração de projeto de adequação de entrada de energia elétrica junto a concessionária, com medição em média tensão, subestação simplificada e demanda de 75 kVA a 300 kVA | D18: UN | F18: 12194.64 | G18: 12194.64 | H18: =LEN(A18) -> 9
A19: 01.06.032 | C19: Elaboração de projeto de adequação de entrada de energia elétrica junto a concessionária, com medição em média tensão e demanda de 75 kVA a 300 kVA | D19: UN | F19: 16501.64 | G19: 16501.64 | H19: =LEN(A19) -> 9
A20: 01.06.041 | C20: Elaboração de projeto de adequação de entrada de energia elétrica junto a concessionária, com medição em média tensão e demanda acima de 300 kVA a 2 MVA | D20: UN | F20: 21949.1 | G20: 21949.1 | H20: =LEN(A20) -> 9
A21: 01.17 | C21: Projeto executivo | H21: =LEN(A21) -> 5
A22: 01.17.031 | C22: Projeto executivo de arquitetura em formato A1 | D22: UN | F22: 2836.01 | G22: 2836.01 | H22: =LEN(A22) -> 9
A23: 01.17.041 | C23: Projeto executivo de arquitetura em formato A0 | D23: UN | F23: 3833.98 | G23: 3833.98 | H23: =LEN(A23) -> 9
A24: 01.17.051 | C24: Projeto executivo de estrutura em formato A1 | D24: UN | F24: 2079.88 | G24: 2079.88 | H24: =LEN(A24) -> 9
A25: 01.17.061 | C25: Projeto executivo de estrutura em formato A0 | D25: UN | F25: 2845.66 | G25: 2845.66 | H25: =LEN(A25) -> 9
A26: 01.17.071 | C26: Projeto executivo de instalações hidráulicas em formato A1 | D26: UN | F26: 892.89 | G26: 892.89 | H26: =LEN(A26) -> 9
A27: 01.17.081 | C27: Projeto executivo de instalações hidráulicas em formato A0 | D27: UN | F27: 1188.55 | G27: 1188.55 | H27: =LEN(A27) -> 9
A28: 01.17.111 | C28: Projeto executivo de instalações elétricas em formato A1 | D28: UN | F28: 991.52 | G28: 991.52 | H28: =LEN(A28) -> 9
A29: 01.17.121 | C29: Projeto executivo de instalações elétricas em formato A0 | D29: UN | F29: 1374.79 | G29: 1374.79 | H29: =LEN(A29) -> 9
A30: 01.17.151 | C30: Projeto executivo de climatização em formato A1 | D30: UN | F30: 1908.51 | G30: 1908.51 | H30: =LEN(A30) -> 9
A31: 01.17.161 | C31: Projeto executivo de climatização em formato A0 | D31: UN | F31: 2601.48 | G31: 2601.48 | H31: =LEN(A31) -> 9
A32: 01.17.171 | C32: Projeto executivo de chuveiros automáticos em formato A1 | D32: UN | F32: 1647.55 | G32: 1647.55 | H32: =LEN(A32) -> 9
A33: 01.17.181 | C33: Projeto executivo de chuveiros automáticos em formato A0 | D33: UN | F33: 2129.53 | G33: 2129.53 | H33: =LEN(A33) -> 9
A34: 01.20 | C34: Levantamento topográfico e geofísico | H34: =LEN(A34) -> 5
A35: 01.20.010 | C35: Taxa de mobilização e desmobilização de equipamentos para execução de levantamento topográfico | D35: TX | E35: 1237.02 | G35: 1237.02 | H35: =LEN(A35) -> 9
A36: 01.20.280 | C36: Levantamento planimétrico de área pavimentada para veículo e pedestre | D36: M2 | E36: 0.04 | F36: 0.13 | G36: 0.17 | H36: =LEN(A36) -> 9
A37: 01.20.691 | C37: Levantamento planimétrico cadastral com áreas ocupadas predominantemente por comunidades - área até 20.000 m² (mínimo de 3.500 m²) | D37: M2 | E37: 0.4 | F37: 0.46 | G37: 0.86 | H37: =LEN(A37) -> 9
A38: 01.20.701 | C38: Levantamento planimétrico cadastral com áreas ocupadas predominantemente por comunidades - área acima de 20.000 m² até 200.000 m² | D38: M2 | E38: 0.32 | F38: 0.35 | G38: 0.67 | H38: =LEN(A38) -> 9
A39: 01.20.711 | C39: Levantamento planimétrico cadastral com áreas ocupadas predominantemente por comunidades - área acima de 200.000 m² | D39: M2 | E39: 0.26 | F39: 0.29 | G39: 0.55 | H39: =LEN(A39) -> 9
A40: 01.20.721 | C40: Levantamento planimétrico cadastral com áreas até 50% de ocupação - área até 20.000 m² (mínimo de 3.500 m²) | D40: M2 | E40: 0.35 | F40: 0.4 | G40: 0.75 | H40: =LEN(A40) -> 9
...

Sheet ORÇAMENTO
B2: PLANILHA ORÇAMENTÁRIA
A5: Obra: Praça Mons João Baptista Lisboa – Reforma e Implantação de Equipamento | I5: Boletim CPOS: 191
A6: Local: Praça Mons João Baptista Lisboa - Amparo SP | I6: BDI | J6: 0.25
A7: ITEM | B7: ORGÃO | C7: CODIGO | D7: DESCRIÇÃO | E7: UN | F7: QUANT. | G7: QUANT. | H7: VALOR UNIT. | I7: VALOR UNIT. + BDI | J7: VALOR DO SERVIÇO
A10: 1 | D10: PROJETOS EXECUTIVOS | J10: =SUBTOTAL(9,J11:J13) -> 9910.725 | K10: memorial de calculo
A11: 1 | B11: CDHU | C11: 01.17.071 | D11: =IF($B11="","",VLOOKUP($C11,'BOLETIM 191'!$A$11:$H$4062,3,0)) -> Projeto executivo de instalações hidráulicas em formato A1 | E11: =IF($B11="","",VLOOKUP($C11,'BOLETIM 191'!$A$11:$F$4062,4,0)) -> UN | F11: =2*3 -> 6 | G11: 2 | H11: =IF($B11="","",VLOOKUP($C11,'BOLETIM 191'!$A$11:$G$4062,7,0)) -> 892.89 | I11: =H11*$J$6+H11 -> 1116.1125 | J11: =G11*I11 -> 2232.225
A12: 2 | B12: CDHU | C12: 01.17.051 | D12: =IF($B12="","",VLOOKUP($C12,'BOLETIM 191'!$A$11:$H$4062,3,0)) -> Projeto executivo de estrutura em formato A1 | E12: =IF($B12="","",VLOOKUP($C12,'BOLETIM 191'!$A$11:$F$4062,4,0)) -> UN | F12: =2*3 -> 6 | G12: 2 | H12: =IF($B12="","",VLOOKUP($C12,'BOLETIM 191'!$A$11:$G$4062,7,0)) -> 2079.88 | I12: =H12*$J$6+H12 -> 2599.85 | J12: =G12*I12 -> 5199.7
A13: 3 | B13: CDHU | C13: 01.17.111 | D13: =IF($B13="","",VLOOKUP($C13,'BOLETIM 191'!$A$11:$H$4062,3,0)) -> Projeto executivo de instalações elétricas em formato A1 | E13: =IF($B13="","",VLOOKUP($C13,'BOLETIM 191'!$A$11:$F$4062,4,0)) -> UN | F13: 63 | G13: 2 | H13: =IF($B13="","",VLOOKUP($C13,'BOLETIM 191'!$A$11:$G$4062,7,0)) -> 991.52 | I13: =H13*$J$6+H13 -> 1239.4 | J13: =G13*I13 -> 2478.8
A14: 2 | D14: OBRAS CIVIS | J14: =SUBTOTAL(9,J15:J96) -> 366907.44
A15: 2.1 | D15: SERVIÇOS PRELIMINARES | J15: =SUBTOTAL(9,J16:J18) -> 38958.99
A16: 1 | B16: CDHU | C16: 02.08.020 | D16: =IF($B16="","",VLOOKUP($C16,'BOLETIM 191'!$A$11:$H$4062,3,0)) -> Placa de identificação para obra | E16: =IF($B16="","",VLOOKUP($C16,'BOLETIM 191'!$A$11:$F$4062,4,0)) -> M2 | F16: =2*3 -> 6 | G16: =2*3 -> 6 | H16: =IF($B16="","",VLOOKUP($C16,'BOLETIM 191'!$A$11:$G$4062,7,0)) -> 878.4 | I16: =H16*$J$6+H16 -> 1098 | J16: =G16*I16 -> 6588
A17: 2 | B17: CDHU | C17: 02.02.130 | D17: =IF($B17="","",VLOOKUP($C17,'BOLETIM 191'!$A$11:$H$4062,3,0)) -> Locação de container tipo escritório com 1 vaso sanitário, 1 lavatório e 1 ponto para chuveiro - área mínima de 13,80 m² | E17: =IF($B17="","",VLOOKUP($C17,'BOLETIM 191'!$A$11:$F$4062,4,0)) -> UNMES | F17: =2*3 -> 6 | G17: =2*3 -> 6 | H17: =IF($B17="","",VLOOKUP($C17,'BOLETIM 191'!$A$11:$G$4062,7,0)) -> 1353.26 | I17: =H17*$J$6+H17 -> 1691.575 | J17: =G17*I17 -> 10149.45
A18: 3 | B18: CDHU | C18: 02.03.120 | D18: =IF($B18="","",VLOOKUP($C18,'BOLETIM 191'!$A$11:$H$4062,3,0)) -> Tapume fixo para fechamento de áreas, com portão | E18: =IF($B18="","",VLOOKUP($C18,'BOLETIM 191'!$A$11:$F$4062,4,0)) -> M2 | F18: 63 | G18: =81*2.2 -> 178.2 | H18: =IF($B18="","",VLOOKUP($C18,'BOLETIM 191'!$A$11:$G$4062,7,0)) -> 99.76 | I18: =H18*$J$6+H18 -> 124.7 | J18: =G18*I18 -> 22221.54 | K18: PERIMETRO 81 M - ALTURA 2,20 M
A19: 2.2 | D19: ESPELHO D'ÁGUA | J19: =SUBTOTAL(9,J20:J45) -> 129681.67
A20: 2.2.1 | D20: DEMOLIÇÃO / RETIRADA | J20: =SUBTOTAL(9,J21:J25) -> 5901.1137
A21: 1 | B21: CDHU | C21: 03.01.020 | D21: =IF($B21="","",VLOOKUP($C21,'BOLETIM 191'!$A$11:$H$4062,3,0)) -> Demolição manual de concreto simples | E21: =IF($B21="","",VLOOKUP($C21,'BOLETIM 191'!$A$11:$F$4062,4,0)) -> M3 | F21: =8*3.7*0.1*0.4 -> 1.184 | G21: =8*3.7*0.1*0.4 -> 1.184 | H21: =IF($B21="","",VLOOKUP($C21,'BOLETIM 191'!$A$11:$G$4062,7,0)) -> 194.04 | I21: =H21*$J$6+H21 -> 242.55 | J21: =G21*I21 -> 287.1792 | K21: 8*3,70*0,10*0,40
A22: 2 | B22: CDHU | C22: 03.04.020 | D22: =IF($B22="","",VLOOKUP($C22,'BOLETIM 191'!$A$11:$H$4062,3,0)) -> Demolição manual de revestimento cerâmico, incluindo a base | E22: =IF($B22="","",VLOOKUP($C22,'BOLETIM 191'!$A$11:$F$4062,4,0)) -> M2 | F22: =1.3*F21 -> 1.5392 | G22: 50.48 | H22: =IF($B22="","",VLOOKUP($C22,'BOLETIM 191'!$A$11:$G$4062,7,0)) -> 10.58 | I22: =H22*$J$6+H22 -> 13.225 | J22: =G22*I22 -> 667.598 | K22: 30 % de empolamento
A23: 3 | B23: CDHU | C23: 03.04.020 | D23: =IF($B23="","",VLOOKUP($C23,'BOLETIM 191'!$A$11:$H$4062,3,0)) -> Demolição manual de revestimento cerâmico, incluindo a base | E23: =IF($B23="","",VLOOKUP($C23,'BOLETIM 191'!$A$11:$F$4062,4,0)) -> M2 | F23: =1.3*F22 -> 2.00096 | G23: 65.74 | H23: =IF($B23="","",VLOOKUP($C23,'BOLETIM 191'!$A$11:$G$4062,7,0)) -> 10.58 | I23: =H23*$J$6+H23 -> 13.225 | J23: =G23*I23 -> 869.4115 | K23: RETIRADA DE MONUMENTO CENTRAL
A24: 4 | B24: CDHU | C24: 05.07.050 | D24: =IF($B24="","",VLOOKUP($C24,'BOLETIM 191'!$A$11:$H$4062,3,0)) -> Remoção de entulho de obra com caçamba metálica - material volumoso e misturado por alvenaria, terra, madeira, papel, plástico e metal | E24: =IF($B24="","",VLOOKUP($C24,'BOLETIM 191'!$A$11:$F$4062,4,0)) -> M3 | F24: =1.3*#REF! -> #REF! | G24: 18 | H24: =IF($B24="","",VLOOKUP($C24,'BOLETIM 191'!$A$11:$G$4062,7,0)) -> 114.53 | I24: =H24*$J$6+H24 -> 143.1625 | J24: =G24*I24 -> 2576.925
A25: 5 | B25: COMP. | C25: 1 | D25: Remoção de monumento central | E25: UN | G25: 1 | H25: 1200 | I25: =H25*$J$6+H25 -> 1500 | J25: =G25*I25 -> 1500
A26: 2.2.1 | D26: REGULARIZAÇÃO / ESTRUTURA DE CONTENÇÃO | J26: =SUBTOTAL(9,J27:J32) -> 39099.409
A27: 1 | B27: CDHU | C27: 11.18.080 | D27: =IF($B27="","",VLOOKUP($C27,'BOLETIM 191'!$A$11:$H$4062,3,0)) -> Enchimento de laje com tijolos cerâmicos furados | E27: =IF($B27="","",VLOOKUP($C27,'BOLETIM 191'!$A$11:$F$4062,4,0)) -> M3 | F27: =2.2*65.74 -> 144.628 | G27: 1.44 | H27: =IF($B27="","",VLOOKUP($C27,'BOLETIM 191'!$A$11:$G$4062,7,0)) -> 373.91 | I27: =H27*$J$6+H27 -> 467.3875 | J27: =G27*I27 -> 673.038
A28: 2 | B28: CDHU | C28: 11.18.220 | D28: =IF($B28="","",VLOOKUP($C28,'BOLETIM 191'!$A$11:$H$4062,3,0)) -> Enchimento de nichos com poliestireno expandido do tipo EPS-5F | E28: =IF($B28="","",VLOOKUP($C28,'BOLETIM 191'!$A$11:$F$4062,4,0)) -> M3 | F28: =2.2*65.74 -> 144.628 | G28: 5 | H28: =IF($B28="","",VLOOKUP($C28,'BOLETIM 191'!$A$11:$G$4062,7,0)) -> 1415.47 | I28: =H28*$J$6+H28 -> 1769.3375 | J28: =G28*I28 -> 8846.6875
A29: 3 | B29: CDHU | C29: 10.02.020 | D29: =IF($B29="","",VLOOKUP($C29,'BOLETIM 191'!$A$11:$H$4062,3,0)) -> Armadura em tela soldada de aço | E29: =IF($B29="","",VLOOKUP($C29,'BOLETIM 191'!$A$11:$F$4062,4,0)) -> KG | F29: =2.2*65.74 -> 144.628 | G29: 889.6 | H29: =IF($B29="","",VLOOKUP($C29,'BOLETIM 191'!$A$11:$G$4062,7,0)) -> 12.87 | I29: =H29*$J$6+H29 -> 16.0875 | J29: =G29*I29 -> 14311.44 | K29: 2,20* 65,74
A30: 4 | B30: CDHU | C30: 09.02.020 | D30: =IF($B30="","",VLOOKUP($C30,'BOLETIM 191'!$A$11:$H$4062,3,0)) -> Forma plana em compensado para estrutura convencional | E30: =IF($B30="","",VLOOKUP($C30,'BOLETIM 191'!$A$11:$F$4062,4,0)) -> M2 | F30: =65.74*0.2 -> 13.148 | G30: 28.86 | H30: =IF($B30="","",VLOOKUP($C30,'BOLETIM 191'!$A$11:$G$4062,7,0)) -> 180.75 | I30: =H30*$J$6+H30 -> 225.9375 | J30: =G30*I30 -> 6520.5562 | K30: 65,74 *0,20 esp
A31: 5 | B31: CDHU | C31: 11.01.290 | D31: =IF($B31="","",VLOOKUP($C31,'BOLETIM 191'!$A$11:$H$4062,3,0)) -> Concreto usinado, fck = 25 MPa - para bombeamento | E31: =IF($B31="","",VLOOKUP($C31,'BOLETIM 191'!$A$11:$F$4062,4,0)) -> M3 | F31: =65.74*0.2 -> 13.148 | G31: 11.12 | H31: =IF($B31="","",VLOOKUP($C31,'BOLETIM 191'!$A$11:$G$4062,7,0)) -> 519.43 | I31: =H31*$J$6+H31 -> 649.2875 | J31: =G31*I31 -> 7220.077
A32: 6 | B32: CDHU | C32: 11.16.080 | D32: =IF($B32="","",VLOOKUP($C32,'BOLETIM 191'!$A$11:$H$4062,3,0)) -> Lançamento e adensamento de concreto ou massa por bombeamento | E32: =IF($B32="","",VLOOKUP($C32,'BOLETIM 191'!$A$11:$F$4062,4,0)) -> M3 | F32: =F31 -> 13.148 | G32: 11.12 | H32: =IF($B32="","",VLOOKUP($C32,'BOLETIM 191'!$A$11:$G$4062,7,0)) -> 109.9 | I32: =H32*$J$6+H32 -> 137.375 | J32: =G32*I32 -> 1527.61
A33: 2.2.2 | D33: IMPERMEABILIZAÇÃO | J33: =SUBTOTAL(9,J34:J37) -> 22765.062
A34: 1 | B34: CDHU | C34: 17.01.020 | D34: =IF($B34="","",VLOOKUP($C34,'BOLETIM 191'!$A$11:$H$4062,3,0)) -> Argamassa de regularização e/ou proteção | E34: =IF($B34="","",VLOOKUP($C34,'BOLETIM 191'!$A$11:$F$4062,4,0)) -> M3 | F34: =F36 -> 4.0912 | G34: =G36 -> 4.1288 | H34: =IF($B34="","",VLOOKUP($C34,'BOLETIM 191'!$A$11:$G$4062,7,0)) -> 730.32 | I34: =H34*$J$6+H34 -> 912.9 | J34: =G34*I34 -> 3769.1815
A35: 2 | B35: CDHU | C35: 32.16.060 | D35: =IF($B35="","",VLOOKUP($C35,'BOLETIM 191'!$A$11:$H$4062,3,0)) -> Impermeabilização em membrana à base de polímeros acrílicos, na cor branca e reforço em tela poliéster | E35: =IF($B35="","",VLOOKUP($C35,'BOLETIM 191'!$A$11:$F$4062,4,0)) -> M2 | F35: =F37 -> 102.28 | G35: 116.22 | H35: =IF($B35="","",VLOOKUP($C35,'BOLETIM 191'!$A$11:$G$4062,7,0)) -> 91.1 | I35: =H35*$J$6+H35 -> 113.875 | J35: =G35*I35 -> 13234.552
A36: 3 | B36: CDHU | C36: 17.01.020 | D36: =IF($B36="","",VLOOKUP($C36,'BOLETIM 191'!$A$11:$H$4062,3,0)) -> Argamassa de regularização e/ou proteção | E36: =IF($B36="","",VLOOKUP($C36,'BOLETIM 191'!$A$11:$F$4062,4,0)) -> M3 | F36: =F37*0.04 -> 4.0912 | G36: =G37*0.04 -> 4.1288 | H36: =IF($B36="","",VLOOKUP($C36,'BOLETIM 191'!$A$11:$G$4062,7,0)) -> 730.32 | I36: =H36*$J$6+H36 -> 912.9 | J36: =G36*I36 -> 3769.1815 | K36: =3.14*((9/2)^2) -> 63.585
A37: 4 | B37: CDHU | C37: 34.20.050 | D37: =IF($B37="","",VLOOKUP($C37,'BOLETIM 191'!$A$11:$H$4062,3,0)) -> Tela de arame galvanizado fio nº 22 BWG, malha de 2´, tipo galinheiro | E37: =IF($B37="","",VLOOKUP($C37,'BOLETIM 191'!$A$11:$F$4062,4,0)) -> M2 | F37: =F41 -> 102.28 | G37: =G41 -> 103.22 | H37: =IF($B37="","",VLOOKUP($C37,'BOLETIM 191'!$A$11:$G$4062,7,0)) -> 15.44 | I37: =H37*$J$6+H37 -> 19.3 | J37: =G37*I37 -> 1992.146
A38: 2.2.3 | D38: REVESTIMENTO | J38: =SUBTOTAL(9,J39:J42) -> 59822.174
A39: 1 | B39: CDHU | C39: 17.02.040 | D39: =IF($B39="","",VLOOKUP($C39,'BOLETIM 191'!$A$11:$H$4062,3,0)) -> Chapisco com adesivo de alto desempenho | E39: =IF($B39="","",VLOOKUP($C39,'BOLETIM 191'!$A$11:$F$4062,4,0)) -> M2 | F39: =F41 -> 102.28 | G39: 40.4 | H39: =IF($B39="","",VLOOKUP($C39,'BOLETIM 191'!$A$11:$G$4062,7,0)) -> 11.23 | I39: =H39*$J$6+H39 -> 14.0375 | J39: =G39*I39 -> 567.115 | K39: 28,86 + 11,54
A40: 2 | B40: CDHU | C40: 17.02.120 | D40: =IF($B40="","",VLOOKUP($C40,'BOLETIM 191'!$A$11:$H$4062,3,0)) -> Emboço comum | E40: =IF($B40="","",VLOOKUP($C40,'BOLETIM 191'!$A$11:$F$4062,4,0)) -> M2 | F40: =F41 -> 102.28 | G40: 40.4 | H40: =IF($B40="","",VLOOKUP($C40,'BOLETIM 191'!$A$11:$G$4062,7,0)) -> 20.92 | I40: =H40*$J$6+H40 -> 26.15 | J40: =G40*I40 -> 1056.46 | K40: 28,86 + 11,54
A41: 3 | B41: CDHU | C41: 18.12.120 | D41: =IF($B41="","",VLOOKUP($C41,'BOLETIM 191'!$A$11:$H$4062,3,0)) -> Revestimento em pastilha de porcelana natural ou esmaltada de 2,5x2,5 cm, assentado e rejuntado com argamassa colante industrializada | E41: =IF($B41="","",VLOOKUP($C41,'BOLETIM 191'!$A$11:$F$4062,4,0)) -> M2 | F41: =65.73+29.5*0.9+10 -> 102.28 | G41: 103.22 | H41: =IF($B41="","",VLOOKUP($C41,'BOLETIM 191'!$A$11:$G$4062,7,0)) -> 380.66 | I41: =H41*$J$6+H41 -> 475.825 | J41: =G41*I41 -> 49114.657
A42: 4 | B42: CDHU | C42: 19.01.064 | D42: =IF($B42="","",VLOOKUP($C42,'BOLETIM 191'!$A$11:$H$4062,3,0)) -> Peitoril e/ou soleira em granito, espessura de 2 cm e largura de 21 cm até 30 cm, acabamento polido | E42: =IF($B42="","",VLOOKUP($C42,'BOLETIM 191'!$A$11:$F$4062,4,0)) -> M | F42: 30.72 | G42: 30.72 | H42: =IF($B42="","",VLOOKUP($C42,'BOLETIM 191'!$A$11:$G$4062,7,0))*1.3 -> 236.561 | I42: =H42*$J$6+H42 -> 295.70125 | J42: =G42*I42 -> 9083.9424 | K42: extraido do cad (acrescido 30% do valor em função da largura e o flameado
A43: 2.2.4 | D43: PINTURA DA ALVENARIAS EXTERNAS | J43: =SUBTOTAL(9,J44:J45) -> 2093.91
A44: 1 | B44: CDHU | C44: 33.02.080 | D44: =IF($B44="","",VLOOKUP($C44,'BOLETIM 191'!$A$11:$H$4062,3,0)) -> Massa corrida à base de resina acrílica | E44: =IF($B44="","",VLOOKUP($C44,'BOLETIM 191'!$A$11:$F$4062,4,0)) -> M2 | F44: 0 | G44: =(3*2+5+2)*2.8 -> 36.4 | H44: =IF($B44="","",VLOOKUP($C44,'BOLETIM 191'!$A$11:$G$4062,7,0)) -> 15.58 | I44: =H44*$J$6+H44 -> 19.475 | J44: =G44*I44 -> 708.89
A45: 2 | B45: CDHU | C45: 33.10.030 | D45: =IF($B45="","",VLOOKUP($C45,'BOLETIM 191'!$A$11:$H$4062,3,0)) -> Tinta acrílica antimofo em massa, inclusive preparo | E45: =IF($B45="","",VLOOKUP($C45,'BOLETIM 191'!$A$11:$F$4062,4,0)) -> M2 | F45: 0 | G45: =G44 -> 36.4 | H45: =IF($B45="","",VLOOKUP($C45,'BOLETIM 191'!$A$11:$G$4062,7,0)) -> 30.44 | I45: =H45*$J$6+H45 -> 38.05 | J45: =G45*I45 -> 1385.02
...

Sheet CRONOGRAMA FISICO FINANC
D1: =ORÇAMENTO!A5 -> Obra: Praça Mons João Baptista Lisboa – Reforma e Implantação de Equipamento
C2: =ORÇAMENTO!A6 -> Local: Praça Mons João Baptista Lisboa - Amparo SP
C3: BOLETIM REFERENCIAL DE CUSTOS – CDHU
C4: TABELA DE SERVIÇOS 191
A5: CRONOGRAMA FÍSICO FINANCEIRO
A6: ITEM | B6: SERVIÇOS DA OBRA | C6: VALORES R$ | D6: PART. | E6: MÊS 1 | G6: MÊS 2 | I6: MÊS 3 | K6: MÊS 4 | M6: MÊS 5 | O6: MÊS 6
A7: 1 | B7: =ORÇAMENTO!D10 -> PROJETOS EXECUTIVOS | C7: =ORÇAMENTO!J10 -> 9910.725 | D7: =C7/C14 -> 0.017464581 | E7: =$C$7*F7 -> 9910.725 | F7: 1
A9: 2 | B9: =ORÇAMENTO!D14 -> OBRAS CIVIS | C9: =ORÇAMENTO!J14 -> 366907.44 | D9: =C9/C14 -> 0.64656066 | E9: =C9*F9 -> 36690.744 | F9: 0.1 | G9: =$C$9*H9 -> 110072.23 | H9: 0.3 | I9: =$C$9*J9 -> 110072.23 | J9: 0.3 | K9: =$C$9*L9 -> 55036.117 | L9: 0.15 | M9: =$C$9*N9 -> 36690.744 | N9: 0.1 | O9: =$C$9*P9 -> 18345.372 | P9: 0.05
A11: 3 | B11: =ORÇAMENTO!D97 -> Montagem Eletro / Hidráulica | C11: =ORÇAMENTO!J97 -> 190657.5 | D11: =C11/C14 -> 0.33597476 | K11: =L11*C11 -> 57197.25 | L11: 0.3 | M11: =N11*C11 -> 76263 | N11: 0.4 | O11: =P11*C11 -> 57197.25 | P11: 0.3
B14: TOTAL | C14: =SUM(C7:C12) -> 567475.67 | D14: =SUM(D7:D12) -> 1 | E14: =SUM(E7:E12) -> 46601.469 | F14: =E14/C14 -> 0.082120648 | G14: =SUM(G7:G12) -> 110072.23 | H14: =G14/C14 -> 0.1939682 | I14: =SUM(I7:I12) -> 110072.23 | J14: =I14/$C14 -> 0.1939682 | K14: =SUM(K7:K12) -> 112233.37 | L14: =K14/$C14 -> 0.19777653 | M14: =SUM(M7:M12) -> 112953.74 | N14: 0.25 | O14: =SUM(O7:O12) -> 75542.622 | P14: 0.25
B15: TOTAL ACUMULADO | E15: =SUM(E7:E9) -> 46601.469 | F15: =E15/C14 -> 0.082120648 | G15: =E15+G14 -> 156673.7 | H15: =G15/$C$14 -> 0.27608885 | I15: =G15+I14 -> 266745.94 | J15: =I15/$C$14 -> 0.47005704 | K15: =K14+I15 -> 378979.3 | L15: =K15/$C$14 -> 0.66783357 | M15: =K15+M14 -> 491933.05 | N15: =M15/$C$14 -> 0.86687954 | O15: =M15+O14 -> 567475.67 | P15: =O15/$C$14 -> 1
C20: Carlos Eduardo Mazzetto
C21: Eng. Civil SMDU
C22: CREA 5060363666

Sheet bdi
A2: ANEXO 17
A8: DEMONSTRATIVO DE COMPOSIÇÃO DO BDI (acórdão 2622/2013-TCU-Plenário)
A10: Prefeitura do Municipio de Amparo
A11: Processo n.º
A12: Data da Elaboração: 22/11/2021
A13: Obra: Praça Mons João Baptista Lisboa – Reforma e Implantação de Equipamento
A17: COMPOSIÇÃO DO BDI (acórdão 2622/2013-TCU-Plenário)
A18: ITENS | B18: DESCRIÇÃO | C18: %
A19: AC | B19: Administraçao Central | C19: 0.0352
A20: S | B20: Seguros | C20: 0.0032
A21: R | B21: Riscos | C21: 0.0025
A22: G | B22: Garantias | C22: 0.0025
A23: DF | B23: Despesas Financeiras | C23: 0.0102
A24: L | B24: Lucro/Remuneração | C24: 0.03
A25: l | B25: Impostos/tributos | C25: =C26+C27+C28+C29 -> 0.1315
B26: PIS | C26: 0.0065
B27: COFINS | C27: 0.03
B28: ISS | C28: 0.05
B29: Contribuição Previdenciaria | C29: 0.045
A30: Taxa do BDI (%) | C30: =(((1+C19+C20+C21+C22)*(1+C23)*(1+C24))/(1-C25))-1 -> 0.25004486
A32: Declaramos sob pena da Lei que a alternativa adotada pela Prefeitura do Municipio de Amparo é COM Desoneração e que esta é a mais vantajosa para a Administração Pública.
A36: Assinatura do Responsável Técnico | C36: Assinatura do Gestor Contábil
A37: Carlos Eduardo Mazzetto
A38: eng. civil smdu
A39: crea 5060363666

Sheet COMPOSIÇÃO
A4: Estância Hidromineral
A5: COMPOSIÇÕES
A6: Objeto: Praça Av. José Guiseppe, Bairro Santa Maria do Amparo
A7: Endereço: Av. José Giuseppe
A8: DATA DA ELABORAÇÃO: janeiro/2020
A9: FONTE: CPOS 177
A10: 1 | D10: Caixa de inspeção em alvenaria 30x30x30cm em bloco de concreto com tampa
A11: 1.1 | B11: CPOS | C11: 06.01.020 | D11: =IF($B11="","",VLOOKUP($C11,'BOLETIM 190'!$A$11:$H$4062,3,0)) -> Escavação manual em solo de 1ª e 2ª categoria em campo aberto | E11: =IF($B11="","",VLOOKUP($C11,'BOLETIM 190'!$A$11:$F$4062,4,0)) -> M3 | F11: 0.14 | G11: =IF($B11="","",VLOOKUP($C11,'BOLETIM 190'!$A$11:$G$4062,7,0)) -> 44.1 | H11: =F11*G11 -> 6.174
A12: 1.1 | B12: CPOS | C12: 14.01.060 | D12: =IF($B12="","",VLOOKUP($C12,'BOLETIM 190'!$A$11:$H$4062,3,0)) -> Alvenaria de embasamento em bloco de concreto de 19 x 19 x 39 cm - classe A | E12: =IF($B12="","",VLOOKUP($C12,'BOLETIM 190'!$A$11:$F$4062,4,0)) -> M2 | F12: 0.36 | G12: =IF($B12="","",VLOOKUP($C12,'BOLETIM 190'!$A$11:$G$4062,7,0)) -> 110.96 | H12: =F12*G12 -> 39.9456
A13: 1.1 | B13: CPOS | C13: 11.04.020 | D13: =IF($B13="","",VLOOKUP($C13,'BOLETIM 190'!$A$11:$H$4062,3,0)) -> Concreto não estrutural executado no local, mínimo 150 kg cimento / m³ | E13: =IF($B13="","",VLOOKUP($C13,'BOLETIM 190'!$A$11:$F$4062,4,0)) -> M3 | F13: 0.02 | G13: =IF($B13="","",VLOOKUP($C13,'BOLETIM 190'!$A$11:$G$4062,7,0)) -> 345.45 | H13: =F13*G13 -> 6.909
A14: 1.1 | B14: CPOS | C14: 06.11.040 | D14: =IF($B14="","",VLOOKUP($C14,'BOLETIM 190'!$A$11:$H$4062,3,0)) -> Reaterro manual apiloado sem controle de compactação | E14: =IF($B14="","",VLOOKUP($C14,'BOLETIM 190'!$A$11:$F$4062,4,0)) -> M3 | F14: 0.12 | G14: =IF($B14="","",VLOOKUP($C14,'BOLETIM 190'!$A$11:$G$4062,7,0)) -> 16.46 | H14: =F14*G14 -> 1.9752
A15: 1.1 | B15: CPOS | C15: 17.02.140 | D15: =IF($B15="","",VLOOKUP($C15,'BOLETIM 190'!$A$11:$H$4062,3,0)) -> Emboço desempenado com espuma de poliéster | E15: =IF($B15="","",VLOOKUP($C15,'BOLETIM 190'!$A$11:$F$4062,4,0)) -> M2 | F15: 0.36 | G15: =IF($B15="","",VLOOKUP($C15,'BOLETIM 190'!$A$11:$G$4062,7,0)) -> 25.04 | H15: =F15*G15 -> 9.0144
A16: 1.1 | B16: CPOS | C16: 09.01.030 | D16: =IF($B16="","",VLOOKUP($C16,'BOLETIM 190'!$A$11:$H$4062,3,0)) -> Forma em madeira comum para estrutura | E16: =IF($B16="","",VLOOKUP($C16,'BOLETIM 190'!$A$11:$F$4062,4,0)) -> M2 | F16: 0.02 | G16: =IF($B16="","",VLOOKUP($C16,'BOLETIM 190'!$A$11:$G$4062,7,0)) -> 237.76 | H16: =F16*G16 -> 4.7552
A17: 1.1 | B17: CPOS | C17: 11.03.090 | D17: =IF($B17="","",VLOOKUP($C17,'BOLETIM 190'!$A$11:$H$4062,3,0)) -> Concreto preparado no local, fck = 20 MPa | E17: =IF($B17="","",VLOOKUP($C17,'BOLETIM 190'!$A$11:$F$4062,4,0)) -> M3 | F17: 0.01 | G17: =IF($B17="","",VLOOKUP($C17,'BOLETIM 190'!$A$11:$G$4062,7,0)) -> 478.66 | H17: =F17*G17 -> 4.7866
A18: 1.0 | B18: CPOS | C18: 11.16.060 | D18: =IF($B18="","",VLOOKUP($C18,'BOLETIM 190'!$A$11:$H$4062,3,0)) -> Lançamento e adensamento de concreto ou massa em estrutura | E18: =IF($B18="","",VLOOKUP($C18,'BOLETIM 190'!$A$11:$F$4062,4,0)) -> M3 | F18: 0.01 | G18: =IF($B18="","",VLOOKUP($C18,'BOLETIM 190'!$A$11:$G$4062,7,0)) -> 102.78 | H18: =F18*G18 -> 1.0278
A19: 1.1 | B19: CPOS | C19: 08.05.100 | D19: =IF($B19="","",VLOOKUP($C19,'BOLETIM 190'!$A$11:$H$4062,3,0)) -> Dreno com pedra britada | E19: =IF($B19="","",VLOOKUP($C19,'BOLETIM 190'!$A$11:$F$4062,4,0)) -> M3 | F19: =0.01 -> 0.01 | G19: =IF($B19="","",VLOOKUP($C19,'BOLETIM 190'!$A$11:$G$4062,7,0)) -> 147.06 | H19: =F19*G19 -> 1.4706
D20: Total | H20: =SUM(H11:H19) -> 76.0584
A22: Item | B22: Fonte dos Serviços | C22: Código dos Serviços | D22: Composição unitária | E22: unid | F22: Qde. | G22: Pr. Unit. | H22: Pr. Total
A23: 0 | D23: Caixa de inspeção em alvenaria 40x40x40cm em bloco de concreto com tampa
A24: 1.1 | B24: CPOS | C24: 06.01.020 | D24: =IF($B24="","",VLOOKUP($C24,'BOLETIM 190'!$A$11:$H$4062,3,0)) -> Escavação manual em solo de 1ª e 2ª categoria em campo aberto | E24: =IF($B24="","",VLOOKUP($C24,'BOLETIM 190'!$A$11:$F$4062,4,0)) -> M3 | F24: 0.14 | G24: =IF($B24="","",VLOOKUP($C24,'BOLETIM 190'!$A$11:$G$4062,7,0)) -> 44.1 | H24: =F24*G24 -> 6.174
A25: 1.2 | B25: CPOS | C25: 14.01.060 | D25: =IF($B25="","",VLOOKUP($C25,'BOLETIM 190'!$A$11:$H$4062,3,0)) -> Alvenaria de embasamento em bloco de concreto de 19 x 19 x 39 cm - classe A | E25: =IF($B25="","",VLOOKUP($C25,'BOLETIM 190'!$A$11:$F$4062,4,0)) -> M2 | F25: 0.64 | G25: =IF($B25="","",VLOOKUP($C25,'BOLETIM 190'!$A$11:$G$4062,7,0)) -> 110.96 | H25: =F25*G25 -> 71.0144
A26: 1.3 | B26: CPOS | C26: 11.04.020 | D26: =IF($B26="","",VLOOKUP($C26,'BOLETIM 190'!$A$11:$H$4062,3,0)) -> Concreto não estrutural executado no local, mínimo 150 kg cimento / m³ | E26: =IF($B26="","",VLOOKUP($C26,'BOLETIM 190'!$A$11:$F$4062,4,0)) -> M3 | F26: 0.02 | G26: =IF($B26="","",VLOOKUP($C26,'BOLETIM 190'!$A$11:$G$4062,7,0)) -> 345.45 | H26: =F26*G26 -> 6.909
A27: 1.4 | B27: CPOS | C27: 06.11.040 | D27: =IF($B27="","",VLOOKUP($C27,'BOLETIM 190'!$A$11:$H$4062,3,0)) -> Reaterro manual apiloado sem controle de compactação | E27: =IF($B27="","",VLOOKUP($C27,'BOLETIM 190'!$A$11:$F$4062,4,0)) -> M3 | F27: 0.08 | G27: =IF($B27="","",VLOOKUP($C27,'BOLETIM 190'!$A$11:$G$4062,7,0)) -> 16.46 | H27: =F27*G27 -> 1.3168
A28: 1.5 | B28: CPOS | C28: 17.02.140 | D28: =IF($B28="","",VLOOKUP($C28,'BOLETIM 190'!$A$11:$H$4062,3,0)) -> Emboço desempenado com espuma de poliéster | E28: =IF($B28="","",VLOOKUP($C28,'BOLETIM 190'!$A$11:$F$4062,4,0)) -> M2 | F28: 0.64 | G28: =IF($B28="","",VLOOKUP($C28,'BOLETIM 190'!$A$11:$G$4062,7,0)) -> 25.04 | H28: =F28*G28 -> 16.0256
A29: 1.6 | B29: CPOS | C29: 09.01.030 | D29: =IF($B29="","",VLOOKUP($C29,'BOLETIM 190'!$A$11:$H$4062,3,0)) -> Forma em madeira comum para estrutura | E29: =IF($B29="","",VLOOKUP($C29,'BOLETIM 190'!$A$11:$F$4062,4,0)) -> M2 | F29: 0.03 | G29: =IF($B29="","",VLOOKUP($C29,'BOLETIM 190'!$A$11:$G$4062,7,0)) -> 237.76 | H29: =F29*G29 -> 7.1328
A30: 1.7 | B30: CPOS | C30: 11.03.090 | D30: =IF($B30="","",VLOOKUP($C30,'BOLETIM 190'!$A$11:$H$4062,3,0)) -> Concreto preparado no local, fck = 20 MPa | E30: =IF($B30="","",VLOOKUP($C30,'BOLETIM 190'!$A$11:$F$4062,4,0)) -> M3 | F30: 0.02 | G30: =IF($B30="","",VLOOKUP($C30,'BOLETIM 190'!$A$11:$G$4062,7,0)) -> 478.66 | H30: =F30*G30 -> 9.5732
A31: 1.8 | B31: CPOS | C31: 11.16.060 | D31: =IF($B31="","",VLOOKUP($C31,'BOLETIM 190'!$A$11:$H$4062,3,0)) -> Lançamento e adensamento de concreto ou massa em estrutura | E31: =IF($B31="","",VLOOKUP($C31,'BOLETIM 190'!$A$11:$F$4062,4,0)) -> M3 | F31: 0.02 | G31: =IF($B31="","",VLOOKUP($C31,'BOLETIM 190'!$A$11:$G$4062,7,0)) -> 102.78 | H31: =F31*G31 -> 2.0556
A32: 1.9 | B32: CPOS | C32: 08.05.100 | D32: =IF($B32="","",VLOOKUP($C32,'BOLETIM 190'!$A$11:$H$4062,3,0)) -> Dreno com pedra britada | E32: =IF($B32="","",VLOOKUP($C32,'BOLETIM 190'!$A$11:$F$4062,4,0)) -> M3 | F32: 0.02 | G32: =IF($B32="","",VLOOKUP($C32,'BOLETIM 190'!$A$11:$G$4062,7,0)) -> 147.06 | H32: =F32*G32 -> 2.9412
D33: Total | H33: =SUM(H24:H32) -> 123.1426
A35: 1 | D35: Caixa de inspeção em alvenaria 60x60x60cm em bloco de concreto com tampa
A36: 1.1 | B36: CPOS | C36: 06.01.020 | D36: =IF($B36="","",VLOOKUP($C36,'BOLETIM 190'!$A$11:$H$4062,3,0)) -> Escavação manual em solo de 1ª e 2ª categoria em campo aberto | E36: =IF($B36="","",VLOOKUP($C36,'BOLETIM 190'!$A$11:$F$4062,4,0)) -> M3 | F36: =0.14*2 -> 0.28 | G36: =IF($B36="","",VLOOKUP($C36,'BOLETIM 190'!$A$11:$G$4062,7,0)) -> 44.1 | H36: =F36*G36 -> 12.348
A37: 1.2 | B37: CPOS | C37: 14.01.060 | D37: =IF($B37="","",VLOOKUP($C37,'BOLETIM 190'!$A$11:$H$4062,3,0)) -> Alvenaria de embasamento em bloco de concreto de 19 x 19 x 39 cm - classe A | E37: =IF($B37="","",VLOOKUP($C37,'BOLETIM 190'!$A$11:$F$4062,4,0)) -> M2 | F37: =0.36*2 -> 0.72 | G37: =IF($B37="","",VLOOKUP($C37,'BOLETIM 190'!$A$11:$G$4062,7,0)) -> 110.96 | H37: =F37*G37 -> 79.8912
A38: 1.3 | B38: CPOS | C38: 11.04.020 | D38: =IF($B38="","",VLOOKUP($C38,'BOLETIM 190'!$A$11:$H$4062,3,0)) -> Concreto não estrutural executado no local, mínimo 150 kg cimento / m³ | E38: =IF($B38="","",VLOOKUP($C38,'BOLETIM 190'!$A$11:$F$4062,4,0)) -> M3 | F38: =0.02*2 -> 0.04 | G38: =IF($B38="","",VLOOKUP($C38,'BOLETIM 190'!$A$11:$G$4062,7,0)) -> 345.45 | H38: =F38*G38 -> 13.818
A39: 1.4 | B39: CPOS | C39: 06.11.040 | D39: =IF($B39="","",VLOOKUP($C39,'BOLETIM 190'!$A$11:$H$4062,3,0)) -> Reaterro manual apiloado sem controle de compactação | E39: =IF($B39="","",VLOOKUP($C39,'BOLETIM 190'!$A$11:$F$4062,4,0)) -> M3 | F39: =0.12*2 -> 0.24 | G39: =IF($B39="","",VLOOKUP($C39,'BOLETIM 190'!$A$11:$G$4062,7,0)) -> 16.46 | H39: =F39*G39 -> 3.9504
A40: 1.5 | B40: CPOS | C40: 17.02.140 | D40: =IF($B40="","",VLOOKUP($C40,'BOLETIM 190'!$A$11:$H$4062,3,0)) -> Emboço desempenado com espuma de poliéster | E40: =IF($B40="","",VLOOKUP($C40,'BOLETIM 190'!$A$11:$F$4062,4,0)) -> M2 | F40: =0.36*2 -> 0.72 | G40: =IF($B40="","",VLOOKUP($C40,'BOLETIM 190'!$A$11:$G$4062,7,0)) -> 25.04 | H40: =F40*G40 -> 18.0288
A41: 1.6 | B41: CPOS | C41: 09.01.030 | D41: =IF($B41="","",VLOOKUP($C41,'BOLETIM 190'!$A$11:$H$4062,3,0)) -> Forma em madeira comum para estrutura | E41: =IF($B41="","",VLOOKUP($C41,'BOLETIM 190'!$A$11:$F$4062,4,0)) -> M2 | F41: =0.02*2 -> 0.04 | G41: =IF($B41="","",VLOOKUP($C41,'BOLETIM 190'!$A$11:$G$4062,7,0)) -> 237.76 | H41: =F41*G41 -> 9.5104
A42: 1.7 | B42: CPOS | C42: 11.03.090 | D42: =IF($B42="","",VLOOKUP($C42,'BOLETIM 190'!$A$11:$H$4062,3,0)) -> Concreto preparado no local, fck = 20 MPa | E42: =IF($B42="","",VLOOKUP($C42,'BOLETIM 190'!$A$11:$F$4062,4,0)) -> M3 | F42: =0.01*2 -> 0.02 | G42: =IF($B42="","",VLOOKUP($C42,'BOLETIM 190'!$A$11:$G$4062,7,0)) -> 478.66 | H42: =F42*G42 -> 9.5732
A43: 1.8 | B43: CPOS | C43: 11.16.060 | D43: =IF($B43="","",VLOOKUP($C43,'BOLETIM 190'!$A$11:$H$4062,3,0)) -> Lançamento e adensamento de concreto ou massa em estrutura | E43: =IF($B43="","",VLOOKUP($C43,'BOLETIM 190'!$A$11:$F$4062,4,0)) -> M3 | F43: =0.01*2 -> 0.02 | G43: =IF($B43="","",VLOOKUP($C43,'BOLETIM 190'!$A$11:$G$4062,7,0)) -> 102.78 | H43: =F43*G43 -> 2.0556
A44: 1.9 | B44: CPOS | C44: 08.05.100 | D44: =IF($B44="","",VLOOKUP($C44,'BOLETIM 190'!$A$11:$H$4062,3,0)) -> Dreno com pedra britada | E44: =IF($B44="","",VLOOKUP($C44,'BOLETIM 190'!$A$11:$F$4062,4,0)) -> M3 | F44: =0.01*2 -> 0.02 | G44: =IF($B44="","",VLOOKUP($C44,'BOLETIM 190'!$A$11:$G$4062,7,0)) -> 147.06 | H44: =F44*G44 -> 2.9412
D45: Total | H45: =SUM(H36:H44) -> 152.1168
...

Sheet COTAÇÃO
A4: Estância Hidromineral
A5: COTAÇÕES
A6: Objeto: Drenagem na Quadra de Areia do Parque Linear
A7: Endereço: Av. Dr. Carlos Burgos
A8: DATA DA ELABORAÇÃO:fevereiro 2020
A9: FONTE: CPOS 177
A10: MacPipe (ou similar) - Tubo Dreno 100 mm
A11: Maccaferri | B11: MacPipe® - Tubo Dreno 100 mm | C11: m | D11: 150 | E11: 3.99 | F11: =D11*E11 -> 598.5
A12: Diprotec | B12: TUBO FLEX. PEAD DN 100MM 4 POL CANODRENO | C12: m | D12: 150 | E12: 5.97 | F12: =D12*E12 -> 895.5
A13: x | C13: m | D13: 150 | F13: =D13*E13 -> 0
A14: Valor Mediana | F14: =MEDIAN(F11:F13) -> 598.5
A16: MacDrain (ou similar) - TD 20.2 (0,6X20)
A17: Maccaferri | B17: MacDrain® - TD 20.2 (0,6X20) | C17: m² | D17: 108 | E17: 19.99 | F17: =D17*E17 -> 2158.92
A18: Diprotec | B18: GEOCOMPOSTO ROMADRAIN TD 0,60M X 30M | C18: m² | D18: 108 | E18: 28.51 | F18: =D18*E18 -> 3079.08
A19: x | C19: m² | D19: 108 | F19: =D19*E19 -> 0
A20: Valor Mediana | F20: =MEDIAN(F17:F19) -> 2158.92
A22: MacDrain ( ou similar) - FP 2L 20.2 (2X30)
A23: Maccaferri | B23: MacDrain® - FP 2L 20.2 (2X30) | C23: m² | D23: 2640 | E23: 19.5 | F23: =D23*E23 -> 51480
A24: Diprotec | B24: GEOCOMPOSTO ROMADRAIN GTF 2M X 30M | C24: m² | D24: 2640 | E24: 25.95 | F24: =D24*E24 -> 68508
A25: x | C25: m² | D25: 2640 | F25: =D25*E25 -> 0
A26: Valor Mediana | F26: =MEDIAN(F23:F25) -> 51480
B28: Renata Rossi Tavella
B29: Arquiteta e Urbanista
B30: Prefeitura do Município de Amparo
B31: CAU A51567-0

Sheet COTAÇÃO F
B1: COTAÇÕES | K1: Mediana
K2: Média
K3: 1
B6: =OFFSET('COTAÇÃO F'!$A$1,MATCH(COUNTIF($H$1:$H6,"Cotações"),'COTAÇÃO F'!$J:$J,0)-1,COLUMN([1]Banco!B$6)-1) -> COTAÇÃO | C6: =OFFSET('COTAÇÃO F'!$A$1,MATCH(COUNTIF($H$1:$H6,"Cotações"),'COTAÇÃO F'!$J:$J,0)-1,COLUMN([1]Banco!C$6)-1) -> 200.01.01 | D6: =IF(COUNTIF(OFFSET([1]Banco!$A$6,1+NCOMPOSICOES,0,NCOTACOES),$A6)>1,"CÓDIGO REPETIDO",OFFSET('COTAÇÃO F'!$A$1,MATCH(COUNTIF($H$1:$H6,"Cotações"),'COTAÇÃO F'!$J:$J,0)-1,COLUMN([1]Banco!D$6)-1)) -> #VALUE! | E6: =OFFSET('COTAÇÃO F'!$A$1,MATCH(COUNTIF($H$1:$H6,"Cotações"),'COTAÇÃO F'!$J:$J,0)-1,COLUMN([1]Banco!E$6)-1) -> un. | F6: =OFFSET('COTAÇÃO F'!$A$1,MATCH(COUNTIF($H$1:$H6,"Cotações"),'COTAÇÃO F'!$J:$J,0)-1,COLUMN([1]Banco!F$6)-1) -> 707.02 | G6: =OFFSET('COTAÇÃO F'!$A$1,MATCH(COUNTIF($H$1:$H6,"Cotações"),'COTAÇÃO F'!$J:$J,0)-1,COLUMN([1]Banco!F$6)-1) -> 707.02 | H6: Cotações
B8: I001 | I8: =F8/H8 -> #DIV/0! | J8: I | L8: =IF(ISNUMBER(I8),IF(I8<>0,"F",""),"")
B10: E001 | J10: E | L10: =IF(COUNTA(C10:I10)>0,"F","")
B12: FONTE | C12: CÓDIGO | D12: DESCRIÇÃO | E12: UNIDADE | F12: =CHOOSE($K$3,"MEDIANA","MÉDIA")&IF(H13="",""," RETROAGIDA") -> MEDIANA | H12: ÍNDICE RETROAÇÃO | L12: =IF(AND(ISNUMBER(F13),M13="Sim"),"F","")
A13: =CONCATENAR -> COTAÇÃO | B13: COTAÇÃO | F13: =CHOOSE($K$3,MEDIAN(OFFSET(F14,1,0,ROW(C16)-ROW(C14)-1)),AVERAGE(OFFSET(F14,1,0,ROW(C16)-ROW(C14)-1)))*IF(H13="",1,VLOOKUP(H13,INDICES,8)) -> #NUM! | J13: =COUNTA($A$1:$A13)-1 -> 0 | K13: =ROW(C16)-ROW(C14)-1 -> 1 | L13: =IF(AND(ISNUMBER(F13),M13="Sim"),"F","") | M13: Sim
C14: EMPRESA | D14: NOME DA EMPRESA | F14: COTAÇÕES | H14: DATA COTAÇÃO | J14: C | L14: =IF(AND(ISNUMBER(F13),M13="Sim"),"F","")
D15: =IF(C15<>"",VLOOKUP(C15,EMPRESAS,3,FALSE()),"") | J15: C | L15: =IF(AND(ISNUMBER(OFFSET($F$1,MATCH(MAX($J$1:$J15),$J$1:$J15,0)-1,0)),ISNUMBER(F15),INDEX($M$1:$M15,MATCH("ZZZZ",$M$1:$M15))="Sim"),"F","")
C16: OBSERVAÇÕES: | L16: =IF(AND(ISNUMBER(F13),M13="Sim"),"F","")
L17: =IF(AND(ISNUMBER(F13),M13="Sim"),"F","")
L18: FILTRO | M18: IMPRIMIR
B19: ÍNDICES DE RETROAÇÃO: | L19: =IF(NINDICES>0,"F","") -> F
B20: ÍNDICE | C20: NOME DO ÍNDICE | D20: DESCRIÇÃO | E20: DATA BASE | F20: ÍNDICE DT BASE | G20: DT COTAÇÃO | H20: ÍNDICE DT COT. | I20: COEFICIENTE | J20: I | L20: =IF(NINDICES>0,"F","") -> F
B21: I001 | I21: =F21/H21 -> #DIV/0! | J21: I | L21: =IF(ISNUMBER(I21),IF(I21<>0,"F",""),"")
B22: I002 | I22: =F22/H22 -> #DIV/0! | J22: I | L22: =IF(ISNUMBER(I22),IF(I22<>0,"F",""),"")
B23: I003 | I23: =F23/H23 -> #DIV/0! | J23: I | L23: =IF(ISNUMBER(I23),IF(I23<>0,"F",""),"")
B24: EMPRESAS FORNECEDORAS: | L24: =IF(NEMPRESAS>0,"F","") -> F
B25: EMPRESAS | C25: CNPJ | D25: NOME | F25: FONE | H25: CONTATO | J25: E | L25: =IF(NEMPRESAS>0,"F","") -> F
B26: E001 | C26: 07.416.686/0001-45 | D26: Petro Fontes | F26: 11 3877 1100 | H26: Sérgio Salama | J26: E | L26: =IF(COUNTA(C26:I26)>0,"F","") -> F
B27: E002 | C27: 22.903.569/0001-08 | D27: Tecsus engenharia | F27: 11 2771 3333 | H27: Orlando Gonsalves | J27: E | L27: =IF(COUNTA(C27:I27)>0,"F","") -> F
B28: E003 | C28: 13.002.809/0001-02 | D28: Acqua Chafarizes | F28: 11 3673 9999 | J28: E | L28: =IF(COUNTA(C28:I28)>0,"F","") -> F
B29: E004 | J29: E | L29: =IF(COUNTA(C29:I29)>0,"F","")
B30: COTAÇÕES: | L30: =IF(NCOTACOES>0,"F","") -> F
B31: FONTE | C31: CÓDIGO | D31: DESCRIÇÃO | E31: UNIDADE | F31: =CHOOSE($K$3,"MEDIANA","MÉDIA")&IF(H32="",""," RETROAGIDA") -> MEDIANA | H31: ÍNDICE RETROAÇÃO | L31: =IF(AND(ISNUMBER(F32),M32="Sim"),"F","") -> F
A32: =CONCATENAR -> COTAÇÃO 200.01.01 | B32: COTAÇÃO | C32: 200.01.01 | D32: FornecimentoeInstalaçãodeBicotipoBorbulhantecomentradade1.1/2"esaídade2,5"fabricadoemaçoinoxcomsistemadeareaçãoparaformaçãodeefeitosespumantes.(Atingindoalturade1,20metros). | E32: un. | F32: =CHOOSE($K$3,MEDIAN(OFFSET(F33,1,0,ROW(C39)-ROW(C33)-1)),AVERAGE(OFFSET(F33,1,0,ROW(C39)-ROW(C33)-1)))*IF(H32="",1,VLOOKUP(H32,INDICES,8)) -> 707.02 | J32: =COUNTA($A$1:$A32)-1 -> 1 | K32: =ROW(C39)-ROW(C33)-1 -> 5 | L32: =IF(AND(ISNUMBER(F32),M32="Sim"),"F","") -> F | M32: Sim
C33: EMPRESA | D33: NOME DA EMPRESA | F33: COTAÇÕES | H33: DATA COTAÇÃO | J33: C | L33: =IF(AND(ISNUMBER(F32),M32="Sim"),"F","") -> F
C34: E001 | D34: =IF(C34<>"",VLOOKUP(C34,EMPRESAS,3,FALSE()),"") -> Petro Fontes | F34: 667 | H34: 15-06-2020 | J34: C | L34: =IF(AND(ISNUMBER(OFFSET($F$1,MATCH(MAX($J$1:$J34),$J$1:$J34,0)-1,0)),ISNUMBER(F34),INDEX($M$1:$M34,MATCH("ZZZZ",$M$1:$M34))="Sim"),"F","") -> F
C35: E002 | D35: =IF(C35<>"",VLOOKUP(C35,EMPRESAS,3,FALSE()),"") -> Tecsus engenharia | F35: 740.37 | H35: 17-06-2020 | J35: C | L35: =IF(AND(ISNUMBER(OFFSET($F$1,MATCH(MAX($J$1:$J35),$J$1:$J35,0)-1,0)),ISNUMBER(F35),INDEX($M$1:$M35,MATCH("ZZZZ",$M$1:$M35))="Sim"),"F","") -> F
C36: E003 | D36: =IF(C36<>"",VLOOKUP(C36,EMPRESAS,3,FALSE()),"") -> Acqua Chafarizes | F36: 707.02 | H36: 16-06-2020 | J36: C | L36: =IF(AND(ISNUMBER(OFFSET($F$1,MATCH(MAX($J$1:$J36),$J$1:$J36,0)-1,0)),ISNUMBER(F36),INDEX($M$1:$M36,MATCH("ZZZZ",$M$1:$M36))="Sim"),"F","") -> F
D37: =IF(C37<>"",VLOOKUP(C37,EMPRESAS,3,FALSE()),"") | J37: C | L37: =IF(AND(ISNUMBER(OFFSET($F$1,MATCH(MAX($J$1:$J37),$J$1:$J37,0)-1,0)),ISNUMBER(F37),INDEX($M$1:$M37,MATCH("ZZZZ",$M$1:$M37))="Sim"),"F","")
D38: =IF(C38<>"",VLOOKUP(C38,EMPRESAS,3,FALSE()),"") | J38: C | L38: =IF(AND(ISNUMBER(OFFSET($F$1,MATCH(MAX($J$1:$J38),$J$1:$J38,0)-1,0)),ISNUMBER(F38),INDEX($M$1:$M38,MATCH("ZZZZ",$M$1:$M38))="Sim"),"F","")
C39: OBSERVAÇÕES: | L39: =IF(AND(ISNUMBER(F32),M32="Sim"),"F","") -> F
L40: =IF(AND(ISNUMBER(F32),M32="Sim"),"F","") -> F
B41: FONTE | C41: CÓDIGO | D41: DESCRIÇÃO | E41: UNIDADE | F41: =CHOOSE($K$3,"MEDIANA","MÉDIA")&IF(H42="",""," RETROAGIDA") -> MEDIANA | H41: ÍNDICE RETROAÇÃO | L41: =IF(AND(ISNUMBER(F42),M42="Sim"),"F","") -> F
A42: =CONCATENAR -> COTAÇÃO 200.01.02 | B42: COTAÇÃO | C42: 200.01.02 | D42: FornecimentoeInstalaçãodeProjetoresdeluzSubaquáticostipoLed,parailuminaçãodosEfeitosdeágua, fabricado em aço inox e termoplástico com troca de cores e sistema de sincronismo. | E42: un. | F42: =CHOOSE($K$3,MEDIAN(OFFSET(F43,1,0,ROW(C49)-ROW(C43)-1)),AVERAGE(OFFSET(F43,1,0,ROW(C49)-ROW(C43)-1)))*IF(H42="",1,VLOOKUP(H42,INDICES,8)) -> 931.74 | J42: =COUNTA($A$1:$A42)-1 -> 2 | K42: =ROW(C49)-ROW(C43)-1 -> 5 | L42: =IF(AND(ISNUMBER(F42),M42="Sim"),"F","") -> F | M42: Sim
C43: EMPRESA | D43: NOME DA EMPRESA | F43: COTAÇÕES | H43: DATA COTAÇÃO | J43: C | L43: =IF(AND(ISNUMBER(F42),M42="Sim"),"F","") -> F
C44: E001 | D44: =IF(C44<>"",VLOOKUP(C44,EMPRESAS,3,FALSE()),"") -> Petro Fontes | F44: 879 | H44: 15-06-2020 | J44: C | L44: =IF(AND(ISNUMBER(OFFSET($F$1,MATCH(MAX($J$1:$J44),$J$1:$J44,0)-1,0)),ISNUMBER(F44),INDEX($M$1:$M44,MATCH("ZZZZ",$M$1:$M44))="Sim"),"F","") -> F
C45: E002 | D45: =IF(C45<>"",VLOOKUP(C45,EMPRESAS,3,FALSE()),"") -> Tecsus engenharia | F45: 975.69 | H45: 17-06-2020 | J45: C | L45: =IF(AND(ISNUMBER(OFFSET($F$1,MATCH(MAX($J$1:$J45),$J$1:$J45,0)-1,0)),ISNUMBER(F45),INDEX($M$1:$M45,MATCH("ZZZZ",$M$1:$M45))="Sim"),"F","") -> F
...

Sheet COMP CAIXA
B1: COMPOSIÇÕES
I4: CUSTO UNIT | J4: CUSTO UNIT
B5: =OFFSET('COMP CAIXA'!$A$1,MATCH(COUNTIF($H$1:$H5,"Composições"),'COMP CAIXA'!$K:$K,0)-1,COLUMN([1]Banco!B$6)-1) -> COMPOSIÇÃO | C5: =OFFSET('COMP CAIXA'!$A$1,MATCH(COUNTIF($H$1:$H5,"Composições"),'COMP CAIXA'!$K:$K,0)-1,COLUMN([1]Banco!C$6)-1) -> comp 1 | D5: =IF(COUNTIF(OFFSET([1]Banco!$A$6,1,0,NCOMPOSICOES),$A5)>1,"CÓDIGO REPETIDO",OFFSET('COMP CAIXA'!$A$1,MATCH(COUNTIF($H$1:$H5,"Composições"),'COMP CAIXA'!$K:$K,0)-1,COLUMN([1]Banco!D$6)-1)) -> #VALUE! | E5: =OFFSET('COMP CAIXA'!$A$1,MATCH(COUNTIF($H$1:$H5,"Composições"),'COMP CAIXA'!$K:$K,0)-1,COLUMN([1]Banco!E$6)-1) -> un. | F5: =OFFSET('COMP CAIXA'!$A$1,MATCH(COUNTIF($H$1:$H5,"Composições"),'COMP CAIXA'!$K:$K,0)-1,COLUMN([1]Banco!F$6)-1) -> #VALUE! | G5: =OFFSET('COMP CAIXA'!$A$1,MATCH(COUNTIF($H$1:$H5,"Composições"),'COMP CAIXA'!$K:$K,0)-1,COLUMN([1]Banco!G$6)-1) -> #VALUE! | H5: Composições
A7: =CONCATENAR | F7: =IF($L7>0,SUM(OFFSET(F7,1,0,$L7),0)) -> 0 | G7: =IF($L7>0,SUM(OFFSET(G7,1,0,$L7),0)) -> 0 | I7: =IF(ISERROR(F7),0,F7) -> 0 | J7: =IF(ISERROR(G7),0,G7) -> 0 | K7: =COUNTA($A$1:$A7)-1 -> 0 | L7: =IF(MAX(K:K)=K7,MATCH(9999999,$K:$K)+1,MATCH(K7+1,K:K,0))-ROW(L7)-2 -> 2 | M7: =IF(AND(OR(I7<>0,J7<>0),N7="Sim"),"F","") | N7: Sim
D8: =IF(ISNUMBER($L8),OFFSET([1]Banco!$A$1,'COMP CAIXA'!$L8-1,COLUMN('COMP CAIXA'!D8)-1),"") | E8: =IF(ISNUMBER($L8),OFFSET([1]Banco!$A$1,'COMP CAIXA'!$L8-1,COLUMN('COMP CAIXA'!E8)-1),"") | F8: =TRUNC($H8*ROUND(I8,2),2) -> 0 | G8: =TRUNC($H8*ROUND(J8,2),2) -> 0 | I8: =IF(ISNUMBER($L8),VALUE(OFFSET([1]Banco!$A$1,'COMP CAIXA'!$L8-1,COLUMN('COMP CAIXA'!I8)-4)),0) -> 0 | J8: =IF(ISNUMBER($L8),VALUE(OFFSET([1]Banco!$A$1,'COMP CAIXA'!$L8-1,COLUMN('COMP CAIXA'!J8)-4)),0) -> 0 | K8: =COUNTA($A$1:$A8)-1 -> 0 | L8: =MATCH(CONCATENAR,[1]Banco!$A:$A,0) -> #N/A | M8: =IF(OR(ISERROR(L8),H8="",H8=0),"",OFFSET($M$1,MATCH(K8,$K$1:$K8,0)-1,0))
K9: =COUNTA($A$1:$A9)-1 -> 0 | M9: =IF(OFFSET($M$1,MATCH(OFFSET(K9,-1,0),$K$1:$K9,0)-1,0)="F","F","")
B10: FONTE | C10: CÓDIGO | D10: DESCRIÇÃO | E10: UNIDADE | H10: COEFIC. | I10: DESONERADO | J10: NÃO DESONER. | M10: FILTRO | N10: IMPRIMIR
A11: =CONCATENAR -> COMPOSIÇÃO comp 1 | B11: COMPOSIÇÃO | C11: comp 1 | D11: Guia rebaixada modelo 1 | E11: un. | F11: =IF($L11>0,SUM(OFFSET(F11,1,0,$L11),0)) -> #VALUE! | G11: =IF($L11>0,SUM(OFFSET(G11,1,0,$L11),0)) -> #VALUE! | I11: =IF(ISERROR(F11),0,F11) -> 0 | J11: =IF(ISERROR(G11),0,G11) -> 0 | K11: =COUNTA($A$1:$A11)-1 -> 1 | L11: =IF(MAX(K:K)=K11,MATCH(9999999,$K:$K)+1,MATCH(K11+1,K:K,0))-ROW(L11)-2 -> 10 | M11: =IF(AND(OR(I11<>0,J11<>0),N11="Sim"),"F","") | N11: Sim
